Workbook
Name _Toc494182243: '1. CSDL Địa chính'!$B$59
Name _Toc494182248: '1. CSDL Địa chính'!$B$100
Name dieu_6: '1. CSDL Địa chính'!$G$8
Name muc_2_2: '5. CSDL DT-DG-BV-CT-PHD'!$E$27

Sheet 1. CSDL Địa chính
A1: Thông tư 35/2017/TT-BTNMT ngày 04/10/2017 | F1: Dự thảo: Định mức Kinh tế kỹ thuật xây dựng cơ sở dữ liệu đất đai (Theo quy định về quy trình xây dựng cơ sở dữ liệu quốc gia về đất đai | K1: Giải trình các nội dung sửa đổi, bổ sung và xây dựng mới
A2: STT | B2: Nội dung công việc | C2: Đơn vị tính | D2: Định biên | E2: Định mức (công nhóm) | F2: STT | G2: Nội dung công việc | H2: Đơn vị tính | I2: Định biên | J2: Định mức (công nhóm)
A3: I. | B3: Xây dựng CSDL địa chính đối với trường hợp đã thực hiện đăng ký, cấp giấy chứng nhận | F3: I. | G3: Xây dựng CSDL địa chính đối với trường hợp đã thực hiện đăng ký, cấp giấy chứng nhận
A4: I.1 | B4: Xây dựng CSDL địa chính đối với trường hợp đã đăng ký cấp GCN (Không bao gồm nội dung xây dựng dữ liệu không gian đất đai nền và quét giấy tờ pháp lý, xử lý tập tin ). Bảng số 01 | F4: I.1 | G4: Xây dựng CSDL địa chính đối với trường hợp đã đăng ký cấp GCN (Không bao gồm nội dung xây dựng dữ liệu không gian đất đai nền và quét giấy tờ pháp lý, xử lý tập tin ). Bảng số 01
A5: 1 | B5: Công tác chuẩn bị | F5: 1 | G5: Công tác chuẩn bị
A6: 1.1 | B6: Lập kế hoạch thi công chi tiết: xác định thời gian, địa điểm, khối lượng và nhân lực thực hiện của từng bước công việc; lập kế hoạch làm việc với các đơn vị có liên quan đến công tác xây dựng CSDL địa chính trên địa bàn thi công | C6: Thửa | D6: Nhóm 2 (1KTV2+1KS4) | E6: 0.001 | F6: 1.1 | G6: Lập kế hoạch thi công chi tiết: xác định thời gian, địa điểm, khối lượng và nhân lực thực hiện từng bước công việc; lập kế hoạch làm việc với các đơn vị có liên quan đến công tác xây dựng cơ sở dữ liệu địa chính trên địa bàn thi công | H6: Thửa | I6: Nhóm 2 (1KTV2+1KS4) | J6: 0.001 | K6: Sử dụng phương pháp so sánh và phân tích nội dung thực hiện giữa Thông tư số 05/2017/TT-BTNMT (Thông tư quy trình cũ) với Thông tư số 25/2024/TT-BTNMT (Thông tư quy trình mới) thì nội dung công việc là tương đồng nhau.
A7: 1.2 | B7: Chuẩn bị nhân lực, địa điểm làm việc; chuẩn bị vật tư, thiết bị, dụng cụ, phần mềm phục vụ cho công tác xây dựng CSDL địa chính | C7: Thửa | D7: Nhóm 2 (1KTV4+1KS2) | E7: 0.001 | F7: 1.2 | G7: Chuẩn bị nhân lực, địa điểm làm việc; chuẩn bị vật tư, thiết bị, dụng cụ, phần mềm phục vụ cho công tác xây dựng CSDL địa chính | H7: Thửa | I7: Nhóm 2 (1KTV4+1KS2) | J7: 0.001 | K7: Sử dụng phương pháp so sánh và phân tích nội dung thực hiện giữa Thông tư số 05/2017/TT-BTNMT (Thông tư quy trình cũ) với Thông tư số 25/2024/TT-BTNMT (Thông tư quy trình mới) thì nội dung công việc là tương đồng nhau.
A8: 2 | B8: Thu thập tài liệu, dữ liệu | C8: Thửa | D8: Nhóm 2 (1KTV4+1KS3) | E8: 0.0038 | F8: 2 | G8: Thu thập tài liệu, dữ liệu
F9: 2.1 | G9: Thu thập tài liệu, dữ liệu thu thập cho việc xây dựng cơ sở dữ liệu địa chính | H9: Thửa | I9: Nhóm 2 (1KTV4+1KS3) | J9: 0.0038 | K9: Sử dụng phương pháp so sánh và phân tích nội dung thực hiện giữa Thông tư số 05/2017/TT-BTNMT (Thông tư quy trình cũ) với Thông tư số 25/2024/TT-BTNMT (Thông tư quy trình mới) thì nội dung công việc là tương đồng nhau.
F10: 2.2 | G10: Vận chuyển tài liệu thu thập đến địa điểm thực hiện số hóa. | H10: Thửa | I10: Nhóm 2 (1KTV4+1KS3) | J10: 0.0038 | K10: Sử dụng phương pháp so sánh và phân tích nội dung thực hiện giữa Thông tư số 05/2017/TT-BTNMT (Thông tư quy trình cũ) với Thông tư số 25/2024/TT-BTNMT (Thông tư quy trình mới) thì đây là nội dung công việc mới, định mức công tính ra tương đương với nội dung công việc "2.1.Thu thập tài liệu, dữ liệu thu thập cho việc xây dựng cơ sở dữ liệu địa chính"
A11: 3 | B11: Rà soát, đánh giá, phân loại và sắp xếp tài liệu, dữ liệu | F11: 3 | G11: Rà soát, đánh giá, phân loại và sắp xếp tài liệu, dữ liệu
A12: 3.1 | B12: Rà soát, đánh giá tài liệu, dữ liệu; lập báo cáo kết quả thực hiện | C12: Thửa | D12: 1KS3 | E12: 0.0054 | F12: 3.1 | G12: Rà soát, đánh giá tài liệu, dữ liệu; lập báo cáo kết quả thực hiện | H12: Thửa | I12: 1KS3 | J12: 0.0054 | K12: Sử dụng phương pháp so sánh và phân tích nội dung thực hiện giữa Thông tư số 05/2017/TT-BTNMT (Thông tư quy trình cũ) với Thông tư số 25/2024/TT-BTNMT (Thông tư quy trình mới) thì nội dung công việc là tương đồng nhau, định mức công không thay đổi so với định mức công cũ của Thông tư số 35/2017/TT-BTNMT
A13: 3.2 | B13: Phân loại thửa đất; lập biểu tổng hợp | C13: Thửa | D13: 1KS3 | E13: 0.0063 | F13: 3.2 | G13: Phân loại thửa đất; lập biểu tổng hợp | H13: Thửa | I13: 1KS3 | J13: 0.0063 | K13: Sử dụng phương pháp so sánh và phân tích nội dung thực hiện giữa Thông tư số 05/2017/TT-BTNMT (Thông tư quy trình cũ) với Thông tư số 25/2024/TT-BTNMT (Thông tư quy trình mới) thì nội dung công việc là tương đồng nhau, định mức công không thay đổi so với định mức công cũ của Thông tư số 35/2017/TT-BTNMT
A14: 3.3 | B14: Làm sạch, sắp xếp và đánh số thứ tự theo quy định về hồ sơ địa chính đối với Hồ sơ đăng ký đất đai, tài sản gắn liền với đất | C14: Thửa | D14: Nhóm 2 (1KTV1+1KS3) | E14: 0.0068 | K14: Trong Thông tư số 25/2024/TT-BTNMT không có nội dung này
A15: 4 | B15: Xây dựng dữ liệu không gian địa chính | F15: 4 | G15: Xây dựng dữ liệu không gian địa chính
A16: 4.1 | B16: Chuẩn hóa các lớp đối tượng không gian địa chính | F16: 4.1 | G16: Chuẩn hóa các lớp đối tượng không gian địa chính
A17: 4.1.1 | B17: Lập bảng đối chiếu giữa lớp đối tượng không gian địa chính với nội dung tương ứng trong bản đồ địa chính để tách, lọc các đối tượng từ nội dung bản đồ địa chính | C17: Thửa | D17: 1KS3 | E17: 0.0013 | F17: 4.1.1 | G17: Lập bảng đối chiếu giữa lớp đối tượng không gian địa chính với nội dung tương ứng trong bản đồ địa chính để tách, lọc các đối tượng từ nội dung bản đồ địa chính | H17: Thửa | I17: 1KS3 | J17: 0.0013 | K17: Sử dụng phương pháp so sánh và phân tích nội dung thực hiện giữa Thông tư số 05/2017/TT-BTNMT (Thông tư quy trình cũ) với Thông tư số 25/2024/TT-BTNMT (Thông tư quy trình mới) thì nội dung công việc là tương đồng nhau, định mức công không thay đổi so với định mức công cũ của Thông tư số 35/2017/TT-BTNMT
A18: 4.1.2 | B18: Chuẩn hóa các lớp đối tượng không gian địa chính chưa phù hợp với quy định kỹ thuật về CSDL đất đai | C18: Thửa | D18: 1KS3 | E18: 0.0068 | F18: 4.1.2 | G18: Chuẩn hóa các lớp đối tượng không gian địa chính chưa phù hợp với quy định kỹ thuật về CSDL đất đai | H18: Thửa | I18: 1KS3 | J18: 0.0068 | K18: Sử dụng phương pháp so sánh và phân tích nội dung thực hiện giữa Thông tư số 05/2017/TT-BTNMT (Thông tư quy trình cũ) với Thông tư số 25/2024/TT-BTNMT (Thông tư quy trình mới) thì nội dung công việc là tương đồng nhau, định mức công không thay đổi so với định mức công cũ của Thông tư số 35/2017/TT-BTNMT
A19: 4.1.3 | B19: Rà soát chuẩn hóa thông tin thuộc tính cho từng đối tượng không gian địa chính theo quy định kỹ thuật về CSDL đất đai | C19: Thửa | D19: 1KS3 | E19: 0.0125 | F19: 4.1.3 | G19: Rà soát chuẩn hóa thông tin thuộc tính cho từng đối tượng không gian địa chính theo quy định kỹ thuật về CSDL đất đai | H19: Thửa | I19: 1KS3 | J19: 0.0125 | K19: Sử dụng phương pháp so sánh và phân tích nội dung thực hiện giữa Thông tư số 05/2017/TT-BTNMT (Thông tư quy trình cũ) với Thông tư số 25/2024/TT-BTNMT (Thông tư quy trình mới) thì nội dung công việc là tương đồng nhau, định mức công không thay đổi so với định mức công cũ của Thông tư số 35/2017/TT-BTNMT
A20: 4.2 | B20: Chuyển đổi các lớp đối tượng không gian địa chính từ tệp (File) bản đồ số vào CSDL theo phạm vi đơn vị hành chính cấp xã | C20: Thửa | D20: 1KS3 | E20: 0.0015 | F20: 4.2 | G20: Chuyển đổi các lớp đối tượng không gian địa chính từ tệp (File) bản đồ số vào CSDL theo phạm vi đơn vị hành chính cấp xã | H20: Thửa | I20: 1KS3 | J20: 0.0015 | K20: Sử dụng phương pháp so sánh và phân tích nội dung thực hiện giữa Thông tư số 05/2017/TT-BTNMT (Thông tư quy trình cũ) với Thông tư số 25/2024/TT-BTNMT (Thông tư quy trình mới) thì nội dung công việc là tương đồng nhau, định mức công không thay đổi so với định mức công cũ của Thông tư số 35/2017/TT-BTNMT
A21: 4.3 | B21: Đối với khu vực chưa có bản đồ địa chính | F21: 4.3 | G21: Đối với khu vực chưa có bản đồ địa chính
A22: 4.3.1 | B22: Chuyển đổi bản trích đo địa chính theo hệ tọa độ quốc gia VN-2000 vào dữ liệu không gian địa chính | C22: Thửa | D22: 1KS3 | E22: 0.025 | F22: 4.3.1 | G22: Chuyển đổi bản trích đo địa chính theo hệ tọa độ quốc gia VN-2000 vào dữ liệu không gian địa chính | H22: Thửa | I22: 1KS3 | J22: 0.025 | K22: Sử dụng phương pháp so sánh và phân tích nội dung thực hiện giữa Thông tư số 05/2017/TT-BTNMT (Thông tư quy trình cũ) với Thông tư số 25/2024/TT-BTNMT (Thông tư quy trình mới) thì nội dung công việc là tương đồng nhau, định mức công không thay đổi so với định mức công cũ của Thông tư số 35/2017/TT-BTNMT
A23: 4.3.2 | B23: Chuyển đổi vào dữ liệu không gian địa chính và định vị trên dữ liệu không gian đất đai nền sơ đồ, bản trích đo địa chính chưa theo hệ tọa độ quốc gia VN-2000 hoặc bản đồ giải thửa dạng số | C23: Thửa | D23: 1KS3 | E23: 0.05 | F23: 4.3.2 | G23: Chuyển đổi vào dữ liệu không gian địa chính và định vị trên dữ liệu không gian đất đai nền sơ đồ, bản trích đo địa chính chưa theo hệ tọa độ quốc gia VN-2000 hoặc bản đồ giải thửa dạng số | H23: Thửa | I23: 1KS3 | J23: 0.05 | K23: Sử dụng phương pháp so sánh và phân tích nội dung thực hiện giữa Thông tư số 05/2017/TT-BTNMT (Thông tư quy trình cũ) với Thông tư số 25/2024/TT-BTNMT (Thông tư quy trình mới) thì nội dung công việc là tương đồng nhau, định mức công không thay đổi so với định mức công cũ của Thông tư số 35/2017/TT-BTNMT
A24: 4.3.3 | B24: Quét và định vị sơ bộ trên dữ liệu không gian đất đai nền sơ đồ, bản trích đo địa chính theo hệ tọa độ giả định hoặc bản đồ giải thửa dạng giấy | C24: Thửa | D24: 1KS3 | E24: 0.025 | F24: 4.3.3 | G24: Quét và định vị sơ bộ trên dữ liệu không gian đất đai nền sơ đồ, bản trích đo địa chính theo hệ tọa độ giả định hoặc bản đồ giải thửa dạng giấy | H24: Thửa | I24: 1KS3 | J24: 0.025 | K24: Sử dụng phương pháp so sánh và phân tích nội dung thực hiện giữa Thông tư số 05/2017/TT-BTNMT (Thông tư quy trình cũ) với Thông tư số 25/2024/TT-BTNMT (Thông tư quy trình mới) thì nội dung công việc là tương đồng nhau, định mức công không thay đổi so với định mức công cũ của Thông tư số 35/2017/TT-BTNMT
A25: 4.4 | B25: Định vị khu vực dồn điền đổi thửa trên dữ liệu không gian đất đai nền trên cơ sở các hồ sơ, tài liệu hiện có | C25: Thửa | D25: 1KS3 | E25: 0.025 | F25: 4.4 | G25: Định vị khu vực dồn điền đổi thửa trên dữ liệu không gian đất đai nền trên cơ sở các hồ sơ, tài liệu hiện có | H25: Thửa | I25: 1KS3 | J25: 0.025 | K25: Trong Thông tư số 25/2024/TT-BTNMT không có nội dung này
A26: 5 | B26: Xây dựng dữ liệu thuộc tính địa chính | F26: 5 | G26: Xây dựng dữ liệu thuộc tính địa chính
A27: 5.1 | B27: Kiểm tra tính đầy đủ thông tin của thửa đất, lựa chọn tài liệu theo thứ tự ưu tiên | C27: Thửa | D27: 1KS3 | E27: 0.01 | F27: 5.1 | G27: Kiểm tra tính đầy đủ thông tin của thửa đất, lựa chọn tài liệu theo thứ tự ưu tiên | H27: Thửa | I27: 1KS3 | J27: 0.01 | K27: Sử dụng phương pháp so sánh và phân tích nội dung thực hiện giữa Thông tư số 05/2017/TT-BTNMT (Thông tư quy trình cũ) với Thông tư số 25/2024/TT-BTNMT (Thông tư quy trình mới) thì nội dung công việc là tương đồng nhau, định mức công không thay đổi so với định mức công cũ của Thông tư số 35/2017/TT-BTNMT
A28: 5.2 | B28: Lập bảng tham chiếu số thửa cũ và số thửa mới đối với các thửa đất đã được cấp Giấy chứng nhận theo bản đồ cũ nhưng chưa cấp đổi Giấy chứng nhận | C28: Thửa | D28: 1KS3 | E28: 0.005 | F28: 5.2 | G28: Lập bảng tham chiếu số thửa cũ và số thửa mới đối với các thửa đất đã được cấp Giấy chứng nhận theo bản đồ cũ nhưng chưa cấp đổi Giấy chứng nhận | H28: Thửa | I28: 1KS3 | J28: 0.005 | K28: Sử dụng phương pháp so sánh và phân tích nội dung thực hiện giữa Thông tư số 05/2017/TT-BTNMT (Thông tư quy trình cũ) với Thông tư số 25/2024/TT-BTNMT (Thông tư quy trình mới) thì nội dung công việc là tương đồng nhau, định mức công không thay đổi so với định mức công cũ của Thông tư số 35/2017/TT-BTNMT
A29: 5.3 | B29: Nhập thông tin từ tài liệu đã lựa chọn. | C29: Thửa | D29: 1KS3 | E29: 0.1095 | F29: 5.3 | G29: Nhập thông tin từ tài liệu đã lựa chọn. Cụ thể theo từng loại thửa đất: | H29: Thửa | I29: 1KS3 | J29: 0.1095 | K29: Sử dụng phương pháp so sánh và phân tích nội dung thực hiện giữa Thông tư số 05/2017/TT-BTNMT (Thông tư quy trình cũ) với Thông tư số 25/2024/TT-BTNMT (Thông tư quy trình mới) thì nội dung công việc là tương đồng nhau, định mức công không thay đổi so với định mức công cũ của Thông tư số 35/2017/TT-BTNMT
A30: 6 | B30: Hoàn thiện dữ liệu địa chính | F30: 6 | G30: Hoàn thiện dữ liệu địa chính
A31: 6.1 | B31: Hoàn thiện 100% thông tin trong CSDL | C31: Thửa | D31: 1KS3 | E31: 0.01 | F31: 6.1 | G31: Hoàn thiện 100% thông tin trong CSDL | H31: Thửa | I31: 1KS3 | J31: 0.01 | K31: Sử dụng phương pháp so sánh và phân tích nội dung thực hiện giữa Thông tư số 05/2017/TT-BTNMT (Thông tư quy trình cũ) với Thông tư số 25/2024/TT-BTNMT (Thông tư quy trình mới) thì nội dung công việc là tương đồng nhau, định mức công không thay đổi so với định mức công cũ của Thông tư số 35/2017/TT-BTNMT
A32: 6.2 | B32: Xuất sổ địa chính (điện tử) theo khuôn dạng tệp tin PDF | C32: Thửa | D32: 1KS3 | E32: 0.0025 | F32: 6.2 | G32: Thực hiện xuất sổ địa chính theo định dạng tệp tin PDF. | H32: Thửa | I32: 1KS3 | J32: 0.0025 | K32: Sử dụng phương pháp so sánh và phân tích nội dung thực hiện giữa Thông tư số 05/2017/TT-BTNMT (Thông tư quy trình cũ) với Thông tư số 25/2024/TT-BTNMT (Thông tư quy trình mới) thì nội dung công việc là tương đồng nhau, định mức công không thay đổi so với định mức công cũ của Thông tư số 35/2017/TT-BTNMT
A33: 7 | B33: Xây dựng siêu dữ liệu địa chính | F33: 7 | G33: Xây dựng siêu dữ liệu địa chính
A34: 7.1 | B34: Thu nhận các thông tin cần thiết để xây dựng siêu dữ liệu (thông tin mô tả dữ liệu) địa chính | C34: Thửa | D34: 1KS2 | E34: 0.0038 | F34: 7.1 | G34: Thu nhận các thông tin cần thiết để xây dựng siêu dữ liệu (thông tin mô tả dữ liệu) địa chính | H34: Thửa | I34: 1KS2 | J34: 0.0038 | K34: Sử dụng phương pháp so sánh và phân tích nội dung thực hiện giữa Thông tư số 05/2017/TT-BTNMT (Thông tư quy trình cũ) với Thông tư số 25/2024/TT-BTNMT (Thông tư quy trình mới) thì nội dung công việc là tương đồng nhau, định mức công không thay đổi so với định mức công cũ của Thông tư số 35/2017/TT-BTNMT
A35: 7.2 | B35: Nhập thông tin siêu dữ liệu địa chính cho từng đơn vị hành chính cấp xã | C35: Thửa | D35: 1KS1 | E35: 0.0001 | F35: 7.2 | G35: Nhập thông tin siêu dữ liệu địa chính cho từng đơn vị hành chính cấp xã | H35: Thửa | I35: 1KS1 | J35: 0.0001 | K35: Sử dụng phương pháp so sánh và phân tích nội dung thực hiện giữa Thông tư số 05/2017/TT-BTNMT (Thông tư quy trình cũ) với Thông tư số 25/2024/TT-BTNMT (Thông tư quy trình mới) thì nội dung công việc là tương đồng nhau, định mức công không thay đổi so với định mức công cũ của Thông tư số 35/2017/TT-BTNMT
A36: 8 | B36: Đối soát, tích hợp dữ liệu vào hệ thống (do Văn phòng Đăng ký đất đai thực hiện) | F36: 8 | G36: Đối soát, tích hợp dữ liệu vào hệ thống (do Văn phòng Đăng ký đất đai thực hiện)
A37: 8.1 | B37: Đối soát thông tin của thửa đất trong CSDL với nguồn tài liệu, dữ liệu đã sử dụng để xây dựng CSDL | C37: Thửa | D37: 1KS1 | E37: 0.0075 | F37: 8.1 | G37: Đối soát thông tin của tất cả các thửa đất trong cơ sở dữ liệu đất đai với nguồn tài liệu, dữ liệu đã sử dụng để xây dựng cơ sở dữ liệu. | H37: Thửa | I37: 1KS1 | J37: 0.0075 | K37: Sử dụng phương pháp so sánh và phân tích nội dung thực hiện giữa Thông tư số 05/2017/TT-BTNMT (Thông tư quy trình cũ) với Thông tư số 25/2024/TT-BTNMT (Thông tư quy trình mới) thì nội dung công việc là tương đồng nhau, định mức công không thay đổi so với định mức công cũ của Thông tư số 35/2017/TT-BTNMT
A38: 8.2 | B38: Ký số vào sổ địa chính (điện tử) | C38: Thửa | D38: 1KS4 | E38: 0.005 | F38: 8.2 | G38: Thực hiện ký số sổ địa chính, ký số vào các tài liệu quét của dữ liệu phi cấu trúc. | H38: Thửa | I38: 1KS4 | J38: 0.005 | K38: Sử dụng phương pháp so sánh và phân tích nội dung thực hiện giữa Thông tư số 05/2017/TT-BTNMT (Thông tư quy trình cũ) với Thông tư số 25/2024/TT-BTNMT (Thông tư quy trình mới) thì nội dung công việc là tương đồng nhau, định mức công không thay đổi so với định mức công cũ của Thông tư số 35/2017/TT-BTNMT
A39: 8.3 | B39: Tích hợp dữ liệu vào hệ thống theo định kỳ hàng tháng phục vụ quản lý, vận hành, khai thác sử dụng | C39: Thửa | D39: 1KS3 | E39: 0.01 | F39: 8.3 | G39: Tích hợp dữ liệu đã được đối soát vào hệ thống đang quản lý, vận hành cơ sở dữ liệu đất đai ở địa phương. | H39: Thửa | I39: 1KS3 | J39: 0.01 | K39: Sử dụng phương pháp so sánh và phân tích nội dung thực hiện giữa Thông tư số 05/2017/TT-BTNMT (Thông tư quy trình cũ) với Thông tư số 25/2024/TT-BTNMT (Thông tư quy trình mới) thì nội dung công việc là tương đồng nhau, định mức công không thay đổi so với định mức công cũ của Thông tư số 35/2017/TT-BTNMT
A40: 9 | B40: Phục vụ kiểm tra, nghiệm thu CSDL địa chính
...

Sheet 2. CSDL TKKK
A1: Thông tư 35/2017/TT-BTNMT ngày 04/10/2017 | F1: Dự thảo: Định mức Kinh tế kỹ thuật xây dựng cơ sở dữ liệu đất đai (Theo quy định về quy trình xây dựng cơ sở dữ liệu quốc gia về đất đai TT25/2024/TT/BTNMT) | K1: Giải trình các nội dung sửa đổi, bổ sung và xây dựng mới
A2: STT | B2: Nội dung công việc | C2: Đơn vị tính | D2: Định biên | E2: Định mức (công nhóm) | F2: STT | G2: Nội dung công việc (Thông tư số 25/2024/TT-BTNMT) | H2: Đơn vị tính | I2: Định biên | J2: Định mức (công nhóm)
A3: A | B3: XÂY DỰNG CƠ SỞ DỮ LIỆU THỐNG KÊ KIỂM KÊ ĐẤT ĐAI CẤP XÃ | F3: A | G3: XÂY DỰNG CƠ SỞ DỮ LIỆU THỐNG KÊ KIỂM KÊ ĐẤT ĐAI CẤP XÃ
A4: I | B4: Công tác chuẩn bị; Xây dựng siêu dữ liệu thống kê, kiểm kê đất đai; Phục vụ kiểm tra, nghiệm thu CSDL thống kê, kiểm kê đất đai (Bảng 33) | F4: I | G4: Công tác chuẩn bị; Xây dựng siêu dữ liệu thống kê, kiểm kê đất đai, tích hợp dữ liệu vào hệ thống (Bảng 33)
A5: 1 | B5: Công tác chuẩn bị | F5: 1 | G5: Công tác chuẩn bị
A6: 1.1 | B6: Lập kế hoạch thi công chi tiết: xác định thời gian, địa điểm, khối lượng và nhân lực thực hiện từng bước công việc; lập kế hoạch làm việc với các đơn vị có liên quan đến công tác xây dựng CSDL thống kê, kiểm kê đất đai trên địa bàn thi công | C6: Xã | D6: Nhóm 2 (1 KTV2+1KS4) | E6: 0.25 | F6: 1.1 | G6: Lập kế hoạch thi công chi tiết: xác định thời gian, địa điểm, khối lượng và nhân lực thực hiện từng bước công việc; lập kế hoạch làm việc với các đơn vị có liên quan đến công tác xây dựng cơ sở dữ liệu thống kê, kiểm kê đất đai trên địa bàn thi công | H6: Xã | I6: Nhóm 2 (1 KTV2+1KS4) | J6: 0.25 | K6: Đây là nội dung tương ứng với Mục 1.1 (I). Sử dụng phương pháp so sánh và phân tích nội dung thực hiện giữa Thông tư số 05/2017/TT-BTNMT (Thông tư quy trình cũ) với Thông tư số 25/2024/TT-BTNMT (Thông tư quy trình mới) thì nội dung công việc là tương đồng nhau, định mức công không thay đổi so với định mức công cũ của Thông tư số 35/2017/TT-BTNMT
A7: 1.2 | B7: Chuẩn bị nhân lực, địa điểm làm việc; chuẩn bị vật tư, thiết bị, dụng cụ, phần mềm phục vụ cho công tác xây dựng CSDL thống kê, kiểm kê đất đai | C7: Xã | D7: Nhóm 2 (1 KTV4+1KS2) | E7: 0.2 | F7: 1.2 | G7: Chuẩn bị nhân lực, địa điểm làm việc | H7: Xã | I7: Nhóm 2 (1 KTV4+1KS2) | J7: 0.1 | K7: Nội dung này được tách ra từ mục 1.2 (I). Sử dụng phương pháp so sánh và phân tích nội dung thực hiện giữa Thông tư số 05/2017/TT-BTNMT (Thông tư quy trình cũ) với Thông tư số 25/2024/TT-BTNMT (Thông tư quy trình mới) thì nội dung công việc là tương đồng nhau,định mức công không thay đổi so với định mức công cũ của Thông tư số 35/2017/TT-BTNMT
F8: 1.3 | G8: Chuẩn bị vật tư, thiết bị, dụng cụ, phần mềm phục vụ cho công tác xây dựng cơ sở dữ liệu thống kê, kiểm kê đất đai | H8: Xã | I8: Nhóm 2 (1 KTV4+1KS2) | J8: 0.1 | K8: Nội dung này được tách ra từ mục 1.2 (AI). Sử dụng phương pháp so sánh và phân tích nội dung thực hiện giữa Thông tư số 05/2017/TT-BTNMT (Thông tư quy trình cũ) với Thông tư số 25/2024/TT-BTNMT (Thông tư quy trình mới) thì nội dung công việc là tương đồng nhau, định mức công không thay đổi so với định mức công cũ của Thông tư số 35/2017/TT-BTNMT
A9: 2 | B9: Xây dựng siêu dữ liệu thống kê, kiểm kê đất đai | C9: Xã | F9: 2 | G9: Xây dựng siêu dữ liệu thống kê, kiểm kê đất đai | H9: Xã
A10: 2.1 | B10: Thu nhận các thông tin cần thiết để xây dựng siêu dữ liệu (thông tin mô tả dữ liệu) thống kê, kiểm kê đất đai | C10: Xã | D10: 1KS1 | E10: 0.5 | F10: 2.1 | G10: Thu nhận các thông tin cần thiết để xây dựng siêu dữ liệu (thông tin mô tả dữ liệu) thống kê, kiểm kê đất đai | H10: Xã | I10: 1KS1 | J10: 0.5 | K10: Nội dung này tương ứng mục 2.1 (I). Sử dụng phương pháp so sánh và phân tích nội dung thực hiện giữa Thông tư số 05/2017/TT-BTNMT (Thông tư quy trình cũ) với Thông tư số 25/2024/TT-BTNMT (Thông tư quy trình mới) thì nội dung công việc là tương đồng nhau, định mức công không thay đổi so với định mức công cũ của Thông tư số 35/2017/TT-BTNMT
A11: 2.2 | B11: Nhập thông tin siêu dữ liệu kiểm kê đất đai | C11: Xã | D11: 1KS1 | E11: 0.25 | F11: 2.2 | G11: Nhập thông tin siêu dữ liệu kiểm kê đất đai | H11: Xã | I11: 1KS1 | J11: 0.25 | K11: Nội dung này tương ứng với mục 2.2 (I). Sử dụng phương pháp so sánh và phân tích nội dung thực hiện giữa Thông tư số 05/2017/TT-BTNMT (Thông tư quy trình cũ) với Thông tư số 25/2024/TT-BTNMT (Thông tư quy trình mới) thì nội dung công việc là tương đồng nhau, định mức công không thay đổi so với định mức công cũ của Thông tư số 35/2017/TT-BTNMT
A12: 3 | B12: Phục vụ kiểm tra, nghiệm thu CSDL thống kê, kiểm kê đất đai | C12: Xã | K12: Theo quy định của Thông tư số 136/2017/TT-BTC thì nội dung Phục vụ kiểm tra, nghiệm thu CSDL được tính trong chi phí chung. Nên Quy trình thực hiện vẫn quy định nhưng không được tính định biên, định mức
A13: 3.1 | B13: Đơn vị thi công chuẩn bị tài liệu và phục vụ giám sát kiểm tra, nghiệm thu | C13: Xã | D13: 1KTV4 | E13: 0.15
A14: 3.2 | B14: Thực hiện kiểm tra tổng thể CSDL thống kê, kiểm kê đất đai và tích hợp vào hệ thống ngay sau khi được nghiệm thu để phục vụ quản lý, vận hành, khai thác sử dụng | C14: Xã | D14: 1KS3 | E14: 0.5 | F14: 3 | G14: Tích hợp dữ liệu vào hệ thống | H14: Xã | I14: 1KS3 | J14: 0.5 | K14: Đây là nội dung tương ứng với Mục 3,2 (I). Sử dụng phương pháp so sánh và phân tích nội dung thực hiện giữa Thông tư số 05/2017/TT-BTNMT (Thông tư quy trình cũ) với Thông tư số 25/2024/TT-BTNMT (Thông tư quy trình mới) thì nội dung công việc là tương đồng nhau, định mức công không thay đổi so với định mức công cũ của Thông tư số 35/2017/TT-BTNMT
A15: 3.3 | B15: Đóng gói giao nộp CSDL thống kê, kiểm kê đất đai | C15: Xã | D15: 1KTV4 | E15: 0.1
A16: II | B16: Thu thập tài liệu, dữ liệu; Rà soát, đánh giá, phân loại và sắp xếp tài liệu, dữ liệu;quét giấy tờ pháp lý và xử lý tệp tin; Xây dựng dữ liệu thuộc tính thống kê, kiểm kê đất đai; đối soát hoàn thiện dữ liệu thống kê, kiểm kê đất đai (bảng 34) | F16: II | G16: Thu thập tài liệu, dữ liệu; Rà soát, đánh giá, phân loại và sắp xếp tài liệu, dữ liệu;quét giấy tờ pháp lý và xử lý tệp tin; Xây dựng dữ liệu thuộc tính thống kê, kiểm kê đất đai; đối soát hoàn thiện dữ liệu thống kê, kiểm kê đất đai (bảng 34)
A17: 1 | B17: Thu thập tài liệu, dữ liệu | F17: 1 | G17: Thu thập tài liệu, dữ liệu
A18: 1.1 | B18: Thu thập tài liệu, dữ liệu thống kê | C18: Kỳ kiểm kê (năm thống kê) | D18: 1KS3 | E18: 0.1 | F18: 1.1 | G18: Thu thập tài liệu, dữ liệu thống kê | H18: Kỳ kiểm kê (năm thống kê) | I18: 1KS3 | J18: 0.1 | K18: Nội dung này tương ứng với mục 1.1 (II). Sử dụng phương pháp so sánh và phân tích nội dung thực hiện giữa Thông tư số 05/2017/TT-BTNMT (Thông tư quy trình cũ) với Thông tư số 25/2024/TT-BTNMT (Thông tư quy trình mới) thì nội dung công việc là tương đồng nhau, định mức công không thay đổi so với định mức công cũ của Thông tư số 35/2017/TT-BTNMT
A19: 1.2 | B19: Thu thập tài liệu, dữ liệu kiểm kê | C19: Kỳ kiểm kê (năm thống kê) | D19: Nhóm 2 (1KTV4 + 1KS3) | E19: 0.25 | F19: 1.2 | G19: Thu thập tài liệu, dữ liệu kiểm kê | H19: Kỳ kiểm kê (năm thống kê) | I19: Nhóm 2 (1KTV4 + 1KS3) | J19: 0.25 | K19: Nội dung này tương ứng với mục 1.2 (II). Sử dụng phương pháp so sánh và phân tích nội dung thực hiện giữa Thông tư số 05/2017/TT-BTNMT (Thông tư quy trình cũ) với Thông tư số 25/2024/TT-BTNMT (Thông tư quy trình mới) thì nội dung công việc là tương đồng nhau, định mức công không thay đổi so với định mức công cũ của Thông tư số 35/2017/TT-BTNMT
F20: 1.3 | G20: Vận chuyển tài liệu thu thập đến địa điểm thực hiện số hóa | H20: Kỳ kiểm kê (năm thống kê) | I20: Nhóm 2 (1KTV4 + 1KS3) | J20: 0.25 | K20: Đây là nội dung công việc mới quy định tại Thông tư số 25/2024/TT-BTNMT. Sau khi tính thử, làm thử và sử dụng phương pháp so sánh, phân tích, thống kê, tổng hợp và kinh nghiệm đưa ra mức công việc 1 ngày Vận chuyển tài liệu thu thập đến địa điểm thực hiện số hóa 4 Kỳ kiểm kê (năm thống kê). KS3 sử dụng cho việc lựa chọn sắp xếp tài liệu, KTV4 làm nhiệm vụ vận chuyển, hỗ trợ cho KS3
A21: 2 | B21: Rà soát, đánh giá, phân loại và sắp xếp tài liệu, dữ liệu | C21: Kỳ kiểm kê (năm thống kê) | F21: 2 | G21: Rà soát, đánh giá, phân loại và sắp xếp tài liệu, dữ liệu | H21: Kỳ kiểm kê (năm thống kê)
A22: 2.1 | B22: Rà soát, đánh giá, phân loại và sắp xếp tài liệu, dữ liệu thống kê và lập báo cáo kết quả thực hiện | C22: Kỳ kiểm kê (năm thống kê) | D22: 1KS3 | E22: 0.1 | F22: 2.1 | G22: Rà soát, đánh giá, phân loại và sắp xếp tài liệu, dữ liệu thống kê và lập báo cáo kết quả thực hiện theo khoản 1 Điều 60 Thông tư số 25/2024/TT-BTNMT | H22: Kỳ kiểm kê (năm thống kê) | I22: 1KS3 | J22: 0.1 | K22: Nội dung này tương ứng với mục 2.1 (II). Sử dụng phương pháp so sánh và phân tích nội dung thực hiện giữa Thông tư số 05/2017/TT-BTNMT (Thông tư quy trình cũ) với Thông tư số 25/2024/TT-BTNMT (Thông tư quy trình mới) thì nội dung công việc là tương đồng nhau, định mức công không thay đổi so với định mức công cũ của Thông tư số 35/2017/TT-BTNMT
A23: 2.2 | B23: Rà soát, đánh giá, phân loại và sắp xếp tài liệu, dữ liệu kiểm kê và lập báo cáo kết quả thực hiện | C23: Kỳ kiểm kê (năm thống kê) | D23: Nhóm 2 (1KTV4 + 1KS3) | E23: 0.2 | F23: 2.2 | G23: Rà soát, đánh giá, phân loại và sắp xếp tài liệu, dữ liệu kiểm kê và lập báo cáo kết quả thực hiện theo khoản 1 Điều 60 Thông tư số 25/2024/TT-BTNMT | H23: Kỳ kiểm kê (năm thống kê) | I23: Nhóm 2 (1KTV4 + 1KS3) | J23: 0.2 | K23: Nội dung này tương ứng với mục 2.2 (II). Sử dụng phương pháp so sánh và phân tích nội dung thực hiện giữa Thông tư số 05/2017/TT-BTNMT (Thông tư quy trình cũ) với Thông tư số 25/2024/TT-BTNMT (Thông tư quy trình mới) thì nội dung công việc là tương đồng nhau, định mức công không thay đổi so với định mức công cũ của Thông tư số 35/2017/TT-BTNMT
A24: 3 | B24: Quét giấy tờ pháp lý và xử lý tệp tin | C24: Kỳ kiểm kê (năm thống kê) | F24: 3 | G24: Xây dựng dữ liệu đất đai phi cấu trúc về thống kê, kiểm kê đất đai | H24: Kỳ kiểm kê (năm thống kê)
B25: Tạo danh mục tra cứu hồ sơ quét trong CSDL thống kê, kiểm kê đất đai | C25: Kỳ kiểm kê (năm thống kê) | D25: 1KS1 | E25: 0.1 | F25: 3.1 | G25: Nhập thông tin mô tả của dữ liệu phi cấu trúc và tạo liên kết giữa dữ liệu phi cấu trúc về thống kê, kiểm kê đất đai với các đối tượng không gian | H25: Kỳ kiểm kê (năm thống kê) | I25: 1KS1 | J25: 0.2 | K25: Nội dung này tương ứng với mục 3(II). Sử dụng phương pháp so sánh và phân tích nội dung thực hiện giữa Thông tư số 05/2017/TT-BTNMT (Thông tư quy trình cũ) với Thông tư số 25/2024/TT-BTNMT (Thông tư quy trình mới) thì nội dung công việc là tương đồng nhau. Sau khi tính thử, làm thử và sử dụng phương pháp so sánh, phân tích, thống kê, tổng hợp và kinh nghiệm với định mức đã thực hiện tại tỉnh Hưng Yên và các tỉnh khác tương tự trong điều kiện có thể so sánh được để tính toán thì định mức công được bổ sung 0.1 công so với định mức công cũ của Thông tư số 35/2017/TT-BTNMT do bao gồm cả "Tạo danh mục tra cứu hồ sơ quét trong CSDL thống kê, kiểm kê đất đai và "Đối với các tài liệu dạng số"
F26: 3.2 | G26: Đối với các tài liệu dạng số mà không liên kết với các đối tượng không gian thì tạo danh mục tra cứu dữ liệu phi cấu trúc trong cơ sở dữ liệu thống kê, kiểm kê đất đai | H26: Kỳ kiểm kê (năm thống kê) | I26: 1KS1 | J26: 0.1 | K26: Nội dung này tương ứng với mục 3(II). Sử dụng phương pháp so sánh và phân tích nội dung thực hiện giữa Thông tư số 05/2017/TT-BTNMT (Thông tư quy trình cũ) với Thông tư số 25/2024/TT-BTNMT (Thông tư quy trình mới) thì nội dung công việc là tương đồng nhau. Sau khi tính thử, làm thử và sử dụng phương pháp so sánh, phân tích, thống kê, tổng hợp và kinh nghiệm với định mức đã thực hiện tại tỉnh Hưng Yên và các tỉnh khác tương tự trong điều kiện có thể so sánh được để tính toán thì định mức công không thay đổi so với định mức công cũ của Thông tư số 35/2017/TT-BTNMT
F27: 3.3 | G27: Vận chuyển, bàn giao tài liệu cho đơn vị quản lý hồ sơ, tài liệu | H27: Kỳ kiểm kê (năm thống kê) | I27: Nhóm 2 (1KTV4 + 1KS3) | J27: 0.25 | K27: Đây là nội dung công việc mới quy định tại Thông tư số 25/2024/TT-BTNMT. Sau khi tính thử, làm thử và sử dụng phương pháp so sánh, phân tích, thống kê, tổng hợp và kinh nghiệm đưa ra mức công việc 1 ngày Vận chuyển tài liệu thu thập đến địa điểm thực hiện số hóa 4 Kỳ kiểm kê (năm thống kê). KS3 sử dụng cho việc lựa chọn sắp xếp tài liệu, KTV4 làm nhiệm vụ vận chuyển, hỗ trợ cho KS3
A28: 4 | B28: Xây dựng dữ liệu thuộc tính thống kê, kiểm kê đất đai | C28: Kỳ kiểm kê (năm thống kê) | G28: Xây dựng dữ liệu thuộc tính thống kê, kiểm kê đất đai
A29: 4.1 | B29: Đối với tài liệu, số liệu là bảng, biểu dạng số | C29: Kỳ kiểm kê (năm thống kê) | K29: Đây là nội dung công việc đã được lược bỏ và thay đổi phương pháp thực hiện theo quy định tại Thông tư số 25/2024/TT-BTNMT nên không được tính định biên và định mức cho nội dung này
A30: 4.1.1 | B30: Lập mô hình chuyển đổi CSDL thống kê, kiểm kê đất đai | C30: Kỳ kiểm kê (năm thống kê) | D30: 1KS3 | E30: 0.2 | K30: Đây là nội dung công việc đã được lược bỏ và thay đổi phương pháp thực hiện theo quy định tại Thông tư số 25/2024/TT-BTNMT nên không được tính định biên và định mức cho nội dung này
A31: 4.1.2 | B31: Chuyển đổi vào CSDL thống kê, kiểm kê đất đai | C31: Kỳ kiểm kê (năm thống kê) | D31: 1KS2 | E31: 0.4 | K31: Đây là nội dung công việc đã được lược bỏ và thay đổi phương pháp thực hiện theo quy định tại Thông tư số 25/2024/TT-BTNMT nên không được tính định biên và định mức cho nội dung này
F32: 4.1 | G32: Nhóm dữ liệu thống kê, kiểm kê đất đai cấp xã | H32: Kỳ kiểm kê (năm thống kê) | I32: 1KS2 | J32: 0.2 | K32: Đây là nội dung công việc quy định tại Thông tư số 25/2024/TT-BTNMT. Sau khi tính thử, làm thử và sử dụng phương pháp so sánh, phân tích, thống kê, tổng hợp và kinh nghiệm đưa ra mức công việc 1 ngày nhập thông tin mô tả của dữ liệu phi cấu trúc và tạo liên kết giữa dữ liệu phi cấu trúc về thống kê, kiểm kê đất đai với các đối tượng không gian cho 5Kỳ kiểm kê (năm thống kê) với định biên là KS2
A33: 4.2 | B33: Đối với tài liệu, số liệu là báo cáo dạng số thì tạo danh mục tra cứu trong CSDL thống kê, kiểm kê đất đai | C33: Kỳ kiểm kê (năm thống kê) | D33: 1KS2 | E33: 0.2 | F33: 4.2 | G33: Nhóm dữ liệu kiểm kê đất đai chuyên đề | H33: Kỳ kiểm kê (năm thống kê) | I33: 1KS2 | J33: 0.2 | K33: Nội dung này tương ứng với mục 4.2 (II). Sử dụng phương pháp so sánh và phân tích nội dung thực hiện giữa Thông tư số 05/2017/TT-BTNMT (Thông tư quy trình cũ) với Thông tư số 25/2024/TT-BTNMT (Thông tư quy trình mới) thì nội dung công việc là tương đồng nhau, định mức công không thay đổi so với định mức công cũ của Thông tư số 35/2017/TT-BTNMT
A34: 5 | B34: Đối soát, hoàn thiện dữ liệu thống kê, kiểm kê đất đai | C34: Kỳ kiểm kê (năm thống kê) | F34: 5 | G34: Đối soát, hoàn thiện dữ liệu thống kê, kiểm kê đất đai | H34: Kỳ kiểm kê (năm thống kê)
A35: 5.1 | B35: Đối soát, hoàn thiện dữ liệu thống kê đất đai | C35: Kỳ kiểm kê (năm thống kê) | D35: 1KS3 | E35: 0.4 | F35: 5.1 | G35: Đối soát đảm bảo 100% thông tin trong cơ sở dữ liệu thống kê đất đai tuân thủ theo đúng quy định về nội dung, cấu trúc, kiểu thông tin của cơ sở dữ liệu quốc gia về đất đai | H35: Kỳ kiểm kê (năm thống kê) | I35: 1KS3 | J35: 0.4 | K35: Nội dung này tương ứng với mục 5.1 (II). Sử dụng phương pháp so sánh và phân tích nội dung thực hiện giữa Thông tư số 05/2017/TT-BTNMT (Thông tư quy trình cũ) với Thông tư số 25/2024/TT-BTNMT (Thông tư quy trình mới) thì nội dung công việc là tương đồng nhau, định mức công không thay đổi so với định mức công cũ của Thông tư số 35/2017/TT-BTNMT
A36: 5.2 | B36: Đối soát, hoàn thiện dữ liệu kiểm kê đất đai | C36: Kỳ kiểm kê (năm thống kê) | D36: Nhóm 2 (1KTV4+1KS3) | E36: 0.5 | F36: 5.2 | G36: Đối soát đảm bảo 100% thông tin trong cơ sở dữ liệu kiểm kê đất đai tuân thủ theo đúng quy định về nội dung, cấu trúc, kiểu thông tin của cơ sở dữ liệu quốc gia về đất đai | H36: Kỳ kiểm kê (năm thống kê) | I36: Nhóm 2 (1KTV4+1KS3) | J36: 0.5 | K36: Nội dung này tương ứng với mục 5.1 (II). Sử dụng phương pháp so sánh và phân tích nội dung thực hiện giữa Thông tư số 05/2017/TT-BTNMT (Thông tư quy trình cũ) với Thông tư số 25/2024/TT-BTNMT (Thông tư quy trình mới) thì nội dung công việc là tương đồng nhau, định mức công không thay đổi so với định mức công cũ của Thông tư số 35/2017/TT-BTNMT
A37: III | B37: Xây dựng dữ liệu không gian kiểm kê đất đai (Bảng 35 x bảng 36) | F37: III | G37: Xây dựng dữ liệu không gian kiểm kê đất đai (Bảng 35 x bảng 36)
A38: 1 | B38: Chuẩn hóa các lớp đối tượng không gian kiểm kê đất đai | F38: 1 | G38: Chuẩn hóa các lớp đối tượng không gian kiểm kê đất đai
A39: 1.1 | B39: Lập bảng đối chiếu giữa lớp đối tượng không gian kiểm kê đất đai với nội dung tương ứng trong bản đồ kết quả điều tra kiểm kê, bản đồ hiện trạng sử dụng đất để tách, lọc các đối tượng từ nội dung bản đồ | F39: 1.1 | G39: Lập bảng đối chiếu giữa lớp đối tượng không gian kiểm kê đất đai với nội dung tương ứng trong bản đồ kiểm kê đất đai và lập bảng đối chiếu giữa lớp đối tượng không gian kiểm kê đất đai với nội dung tương ứng trong bản đồ hiện trạng sử dụng đất để tách, lọc các đối tượng từ nội dung bản đồ kiểm kê đất đai và bản đồ hiện trạng sử dụng đất
B40: Tỷ lệ 1/1.000 | C40: Lớp dữ liệu | D40: 1KS3 | E40: =E42*0.8 -> 0.8 | G40: Tỷ lệ 1/1.000 | H40: Lớp dữ liệu | I40: 1KS3 | J40: =J42*0.8 -> 0.8 | K40: Nội dung này tương ứng với mục 1.1 (III). Sử dụng phương pháp so sánh và phân tích nội dung thực hiện giữa Thông tư số 05/2017/TT-BTNMT (Thông tư quy trình cũ) với Thông tư số 25/2024/TT-BTNMT (Thông tư quy trình mới) thì nội dung công việc là tương đồng nhau, định mức công không thay đổi so với định mức công cũ của Thông tư số 35/2017/TT-BTNMT
...

Sheet 3. CSDL QHKH
A1: Thông tư 35/2017/TT-BTNMT ngày 04/10/2017 | F1: Dự thảo: Định mức Kinh tế kỹ thuật xây dựng cơ sở dữ liệu đất đai (Theo quy định về quy trình xây dựng cơ sở dữ liệu quốc gia về đất đai | K1: Giải trình các nội dung sửa đổi, bổ sung và xây dựng mới
A2: STT | B2: Nội dung công việc | C2: Đơn vị tính | D2: Định biên | E2: Định mức (công nhóm) | F2: STT | G2: Nội dung công việc | H2: Đơn vị tính | I2: Định biên | J2: Định mức (công nhóm)
A3: STT | B3: Tên sản phẩm | C3: Đơn vị tính | D3: Định biên | E3: Định mức | F3: STT | G3: Tên sản phẩm | H3: Đơn vị tính | I3: Định biên | J3: Định mức
A4: A | B4: XÂY DỰNG CƠ SỞ DỮ LIỆU QUY HOẠCH, KẾ HOẠCH SỬ DỤNG ĐẤT CẤP HUYỆN CỦA CÁC KỲ TRƯỚC | F4: A | G4: XÂY DỰNG CƠ SỞ DỮ LIỆU QUY HOẠCH, KẾ HOẠCH SỬ DỤNG ĐẤT CẤP XÃ CỦA CÁC KỲ TRƯỚC (TT25/2024/TT-BTNMT)
A5: I | B5: Công tác chuẩn bị; xây dựng siêu dữ liệu quy hoạch, kế hoạch sử dụng đất; kiểm tra, nghiệm thu CSDL quy hoạch, kế hoạch sử dụng đất (Bảng109) | F5: I | G5: Công tác chuẩn bị; xây dựng siêu dữ liệu quy hoạch, kế hoạch sử dụng đất; kiểm tra, tích hợp dữ liệu vào hệ thống (Bảng90)
A6: 1 | B6: Công tác chuẩn bị | F6: 1 | G6: Công tác chuẩn bị
A7: 1.1 | B7: Lập kế hoạch thi công chi tiết: xác định thời gian, địa điểm, khối lượng và nhân lực thực hiện của từng bước công việc; kế hoạch làm việc với các đơn vị có liên quan đến công tác xây dựng CSDL quy hoạch, kế hoạch sử dụng đất trên địa bàn thi công | C7: huyện | D7: Nhóm 2 (1 KTV2+1KS4) | E7: 2 | F7: 1.1 | G7: Lập kế hoạch thi công chi tiết: xác định thời gian, địa điểm, khối lượng và nhân lực thực hiện của từng bước công việc; kế hoạch làm việc với các đơn vị có liên quan đến công tác xây dựng cơ sở dữ liệu quy hoạch, kế hoạch sử dụng đất trên địa bàn thi công | H7: Xã | I7: Nhóm 2 (1 KTV2+1KS4) | J7: 2 | K7: Đây là nội dung tương ứng với Mục 1.1 (I). Sử dụng phương pháp so sánh và phân tích nội dung thực hiện giữa Thông tư số 05/2017/TT-BTNMT (Thông tư quy trình cũ) với Thông tư số 25/2024/TT-BTNMT (Thông tư quy trình mới) thì nội dung công việc là tương đồng nhau, định mức công không thay đổi so với định mức công cũ của Thông tư số 35/2017/TT-BTNMT
A8: 1.2 | B8: Chuẩn bị nhân lực, địa điểm làm việc; chuẩn bị vật tư, thiết bị, dụng cụ, phần mềm cho công tác xây dựng CSDL quy hoạch, kế hoạch sử dụng đất. | C8: huyện | D8: Nhóm 2 (1 KTV4+1KS2) | E8: 2 | F8: 1.2 | G8: Chuẩn bị nhân lực, địa điểm làm việc | H8: Xã | I8: Nhóm 2 (1 KTV4+1KS2) | J8: 1 | K8: Nội dung này được tách ra từ mục 1.2 (I). Sử dụng phương pháp so sánh và phân tích nội dung thực hiện giữa Thông tư số 05/2017/TT-BTNMT (Thông tư quy trình cũ) với Thông tư số 25/2024/TT-BTNMT (Thông tư quy trình mới) thì nội dung công việc là tương đồng nhau, định mức công không thay đổi so với định mức công cũ của Thông tư số 35/2017/TT-BTNMT
F9: 1.3 | G9: Chuẩn bị vật tư, thiết bị, dụng cụ, phần mềm cho công tác xây dựng cơ sở dữ liệu quy hoạch, kế hoạch sử dụng đất | H9: Xã | I9: Nhóm 2 (1 KTV4+1KS2) | J9: 1 | K9: Nội dung này được tách ra từ mục 1.2 (AI). Sử dụng phương pháp so sánh và phân tích nội dung thực hiện giữa Thông tư số 05/2017/TT-BTNMT (Thông tư quy trình cũ) với Thông tư số 25/2024/TT-BTNMT (Thông tư quy trình mới) thì nội dung công việc là tương đồng nhau, định mức công không thay đổi so với định mức công cũ của Thông tư số 35/2017/TT-BTNMT
A10: 2 | B10: Xây dựng siêu dữ liệu quy hoạch, kế hoạch sử dụng đất | F10: 2 | G10: Xây dựng siêu dữ liệu quy hoạch, kế hoạch sử dụng đất
A11: 2.1 | B11: Thu nhận các thông tin cần thiết để xây dựng siêu dữ liệu (thông tin mô tả dữ liệu) quy hoạch, kế hoạch sử dụng đất | C11: huyện | D11: 1KS1 | E11: 3 | F11: 2.1 | G11: Thu nhận các thông tin cần thiết để xây dựng siêu dữ liệu | H11: Xã | I11: 1KS1 | J11: 3 | K11: Đây là nội dung tương ứng với Mục 2.1 (I). Sử dụng phương pháp so sánh và phân tích nội dung thực hiện giữa Thông tư số 05/2017/TT-BTNMT (Thông tư quy trình cũ) với Thông tư số 25/2024/TT-BTNMT (Thông tư quy trình mới) thì nội dung công việc là tương đồng nhau. Sau khi tính thử, làm thử, định mức công không thay đổi so với định mức công cũ của Thông tư số 35/2017/TT-BTNMT
A12: 2.2 | B12: Nhập thông tin siêu dữ liệu quy hoạch, kế hoạch sử dụng đất | C12: huyện | D12: 1KS1 | E12: 1 | F12: 2.2 | G12: Nhập thông tin siêu dữ liệu quy hoạch, kế hoạch sử dụng đất | H12: Xã | I12: 1KS1 | J12: 1 | K12: Đây là nội dung tương ứng với Mục 2,2 (I). Sử dụng phương pháp so sánh và phân tích nội dung thực hiện giữa Thông tư số 05/2017/TT-BTNMT (Thông tư quy trình cũ) với Thông tư số 25/2024/TT-BTNMT (Thông tư quy trình mới) thì nội dung công việc là tương đồng nhau. Sau khi tính thử, làm thử, định mức công không thay đổi so với định mức công cũ của Thông tư số 35/2017/TT-BTNMT
A13: 3 | B13: Kiểm tra, nghiệm thu CSDL quy hoạch, kế hoạch sử dụng đất | C13: huyện | K13: Theo quy định của Thông tư số 136/2017/TT-BTC thì nội dung Phục vụ kiểm tra, nghiệm thu CSDL được tính trong chi phí chung. Nên Quy trình thực hiện vẫn quy định nhưng không được tính định biên, định mức
A14: 3.1 | B14: Đơn vị thi công chuẩn bị tài liệu và phục vụ giám sát kiểm tra, nghiệm thu | C14: huyện | D14: 1KTV4 | E14: 2
A15: 3.2 | B15: Thực hiện kiểm tra tổng thể CSDL quy hoạch, kế hoạch sử dụng đất và tích hợp vào hệ thống ngay sau khi được nghiệm thu phục vụ quản lý, vận hành, khai thác sử dụng | C15: huyện | D15: 1KS3 | E15: 5 | F15: 3 | G15: Tích hợp dữ liệu vào hệ thống | H15: Xã | I15: 1KS3 | J15: 5 | K15: Đây là nội dung tương ứng với Mục 3,2 (I). Sử dụng phương pháp so sánh và phân tích nội dung thực hiện giữa Thông tư số 05/2017/TT-BTNMT (Thông tư quy trình cũ) với Thông tư số 25/2024/TT-BTNMT (Thông tư quy trình mới) thì nội dung công việc là tương đồng nhau, định mức công không thay đổi so với định mức công cũ của Thông tư số 35/2017/TT-BTNMT
A16: 3.3 | B16: Đóng gói giao nộp CSDL quy hoạch, kế hoạch sử dụng đất | C16: huyện | D16: 1KTV4 | E16: 2
A17: II | B17: Thu thập tài liệu, dữ liệu; rà soát, đánh giá, phân loại và sắp xếp tài liệu, dữ liệu; quét giấy tờ pháp lý và xử lý tệp tin; xây dựng dữ liệu thuộc tính quy hoạch, kế hoạch sử dụng đất; đối soát hoàn thiện dữ liệu quy hoạch, kế hoạch sử dụng đất(bảng110) | F17: II | G17: Thu thập tài liệu, dữ liệu; rà soát, đánh giá, phân loại và sắp xếp tài liệu, dữ liệu; quét giấy tờ pháp lý và xử lý tệp tin; xây dựng dữ liệu thuộc tính quy hoạch, kế hoạch sử dụng đất; đối soát hoàn thiện dữ liệu quy hoạch, kế hoạch sử dụng đất(bảng110)
A18: 1 | B18: Thu thập tài liệu, dữ liệu | C18: Kỳ QH (năm kế hoạch) | D18: Nhóm 2(1KTV4 + 1KS3) | E18: 4 | F18: 1 | G18: Thu thập tài liệu, dữ liệu
F19: 1.1 | G19: Tài liệu, dữ liệu được thu thập cho việc xây dựng cơ sở dữ liệu quy hoạch, kế hoạch sử dụng đất cấp huyện gồm: Quyết định của Ủy ban nhân dân cấp tỉnh; báo cáo thuyết minh tổng hợp; bản đồ hiện trạng sử dụng đất; bản đồ quy hoạch sử dụng đất và bản đồ điều chỉnh quy hoạch sử dụng đất, bản đồ kế hoạch sử dụng đất năm đầu của quy hoạch sử dụng đất cấp huyện và bản đồ kế hoạch sử dụng đất hằng năm cấp huyện; bản đồ quy hoạch chung hoặc quy hoạch phân khu (nếu có) | H19: Kỳ QH (năm kế hoạch) | I19: Nhóm 2(1KTV4 + 1KS3) | J19: 4 | K19: Nội dung này tương ứng với mục 1 (II). Sử dụng phương pháp so sánh và phân tích nội dung thực hiện giữa Thông tư số 05/2017/TT-BTNMT (Thông tư quy trình cũ) với Thông tư số 25/2024/TT-BTNMT (Thông tư quy trình mới) thì nội dung công việc là tương đồng nhau. Sau khi tính thử, làm thử, định mức công không thay đổi so với định mức công cũ của Thông tư số 35/2017/TT-BTNMT
F20: 1.2 | G20: Vận chuyển tài liệu thu thập đến địa điểm thực hiện số hóa | H20: Kỳ QH (năm kế hoạch) | I20: Nhóm 2(1KTV4 + 1KS3) | J20: 0.25 | K20: Đây là nội dung công việc mới quy định tại Thông tư số 25/2024/TT-BTNMT. Sau khi tính thử, làm thử và sử dụng phương pháp so sánh, phân tích, thống kê, tổng hợp và kinh nghiệm đưa ra mức công việc 1 ngày Vận chuyển tài liệu thu thập đến địa điểm thực hiện số hóa Kỳ kiểm kê (năm thống kê). KS3 sử dụng cho việc lựa chọn sắp xếp tài liệu, KTV4 làm nhiệm vụ vận chuyển, hỗ trợ cho KS3
A21: 2 | B21: Rà soát, đánh giá, phân loại và sắp xếp tài liệu, dữ liệu | F21: 2 | G21: Rà soát, đánh giá, phân loại và sắp xếp tài liệu, dữ liệu
A22: 2.1 | B22: Rà soát, đánh giá mức độ đầy đủ về các thành phần, nội dung của tài liệu, dữ liệu; xác định được thời gian xây dựng, mức độ đầy đủ thông tin, tính pháp lý của từng tài liệu, dữ liệu để lựa chọn sử dụng cho việc xây dựng CSDL quy hoạch, kế hoạch sử dụng đất | C22: Kỳ QH (năm kế hoạch) | D22: 1KS3 | F22: 2.1 | G22: Rà soát, đánh giá mức độ đầy đủ về các thành phần, nội dung của tài liệu, dữ liệu; xác định được thời gian xây dựng, mức độ đầy đủ thông tin của từng tài liệu, dữ liệu để lựa chọn sử dụng cho việc xây dựng cơ sở dữ liệu quy hoạch, kế hoạch sử dụng đất | H22: Kỳ QH (năm kế hoạch) | I22: 1KS3 | K22: Nội dung này tương ứng với mục 2.1 (II). Sử dụng phương pháp so sánh và phân tích nội dung thực hiện giữa Thông tư số 05/2017/TT-BTNMT (Thông tư quy trình cũ) với Thông tư số 25/2024/TT-BTNMT (Thông tư quy trình mới) thì nội dung công việc là tương đồng nhau, định mức công không thay đổi so với định mức công cũ của Thông tư số 35/2017/TT-BTNMT
A23: 2.1.1 | B23: Phân loại, lựa chọn tài liệu để xây dựng dữ liệu không gian quy hoạch, kế hoạch sử dụng đất | C23: Kỳ QH (năm kế hoạch) | D23: 1KS3 | E23: 10 | F23: 2.1.1 | G23: Phân loại, lựa chọn tài liệu để xây dựng dữ liệu không gian quy hoạch, kế hoạch sử dụng đất | H23: Kỳ QH (năm kế hoạch) | I23: 1KS3 | J23: 10 | K23: Nội dung này tương ứng với mục 2.1.1 (II). Sử dụng phương pháp so sánh và phân tích nội dung thực hiện giữa Thông tư số 05/2017/TT-BTNMT (Thông tư quy trình cũ) với Thông tư số 25/2024/TT-BTNMT (Thông tư quy trình mới) thì nội dung công việc là tương đồng nhau, định mức công không thay đổi so với định mức công cũ của Thông tư số 35/2017/TT-BTNMT
A24: 2.1.2 | B24: Phân loại, lựa chọn tài liệu để xây dựng dữ liệu thuộc tính quy hoạch, kế hoạch sử dụng đất | C24: Kỳ QH (năm kế hoạch) | D24: 1KS3 | E24: 8 | F24: 2.1.2 | G24: Phân loại, lựa chọn tài liệu để xây dựng dữ liệu thuộc tính quy hoạch, kế hoạch sử dụng đất | H24: Kỳ QH (năm kế hoạch) | I24: 1KS3 | J24: 8 | K24: Nội dung này tương ứng với mục 2.1.2 (II). Sử dụng phương pháp so sánh và phân tích nội dung thực hiện giữa Thông tư số 05/2017/TT-BTNMT (Thông tư quy trình cũ) với Thông tư số 25/2024/TT-BTNMT (Thông tư quy trình mới) thì nội dung công việc là tương đồng nhau, định mức công không thay đổi so với định mức công cũ của Thông tư số 35/2017/TT-BTNMT
A25: 2.2 | B25: Làm sạch và sắp xếp tài liệu quy hoạch sử dụng đất theo trình tự thời gian hình thành tài liệu quy hoạch, kế hoạch sử dụng đất | C25: Kỳ QH (năm kế hoạch) | D25: Nhóm 2(1KTV4+1KS4) | E25: 5 | K25: Trong Thông tư số 25/2024/TT-BTNMT không có nội dung này
A26: 2.3 | B26: Lập báo cáo kết quả thực hiện và lựa chọn tài liệu, dữ liệu nguồn | C26: Kỳ QH (năm kế hoạch) | D26: 1KS2 | E26: 3 | F26: 2.2 | G26: Lập báo cáo kết quả thực hiện tại khoản 1 Điều 42, Thông tư số 25/2024/TT-BTNMT và lựa chọn tài liệu, dữ liệu nguồn | H26: Kỳ QH (năm kế hoạch) | I26: 1KS2 | J26: 3 | K26: Nội dung này tương ứng với mục 2.3 (II). Sử dụng phương pháp so sánh và phân tích nội dung thực hiện giữa Thông tư số 05/2017/TT-BTNMT (Thông tư quy trình cũ) với Thông tư số 25/2024/TT-BTNMT (Thông tư quy trình mới) thì nội dung công việc là tương đồng nhau, định mức công không thay đổi so với định mức công cũ của Thông tư số 35/2017/TT-BTNMT
A27: 3 | B27: Quét giấy tờ pháp lý và xử lý tệp tin | F27: 3 | G27: Xây dựng dữ liệu đất đai phi cấu trúc về quy hoạch, kế hoạch sử dụng đất
B28: Tạo danh mục tra cứu hồ sơ quét trong CSDL quy hoạch, kế hoạch sử dụng đất | C28: Kỳ QH (năm kế hoạch) | D28: 1KS1 | E28: 0.5 | F28: 3.3 | G28: Đối với tài liệu dạng số mà không liên kết với các đối tượng không gian thì tạo danh mục tra cứu dữ liệu phi cấu trúc trong cơ sở dữ liệu quy hoạch, kế hoạch sử dụng đất | H28: Kỳ QH (năm kế hoạch) | I28: 1KS1 | J28: 0.5 | K28: Nội dung này tương ứng với mục 3 (II). Sử dụng phương pháp so sánh và phân tích nội dung thực hiện giữa Thông tư số 05/2017/TT-BTNMT (Thông tư quy trình cũ) với Thông tư số 25/2024/TT-BTNMT (Thông tư quy trình mới) thì nội dung công việc là tương đồng nhau, định mức công không thay đổi so với định mức công cũ của Thông tư số 35/2017/TT-BTNMT
F29: 3.4 | G29: Nhập thông tin mô tả của dữ liệu phi cấu trúc và tạo liên kết giữa dữ liệu phi cấu trúc về quy hoạch, kế hoạch sử dụng đất với các đối tượng không gian | H29: Kỳ QH (năm kế hoạch) | I29: 1KS2 | J29: 1 | K29: Đây là nội dung công việc đã mới theo quy định tại Thông tư số 25/2024/TT-BTNMT. Sau khi tính thử, làm thử và sử dụng phương pháp so sánh, phân tích, thống kê, tổng hợp và kinh nghiệm tính 1 công KS2 cho công việc này
F30: 3.5 | G30: Vận chuyển, bàn giao tài liệu cho đơn vị quản lý hồ sơ, tài liệu | H30: Kỳ QH (năm kế hoạch) | I30: Nhóm 2(1KTV4 + 1KS3) | J30: 0.5 | K30: Tính bằng 2 lần xây dựng CSDL thống kê, kiểm kê cấp xã
A31: 4 | B31: Xây dựng dữ liệu thuộc tính quy hoạch, kế hoạch sử dụng đất | C31: Kỳ QH (năm kế hoạch) | F31: 4 | G31: Xây dựng dữ liệu thuộc tính quy hoạch, kế hoạch sử dụng đất | H31: Kỳ QH (năm kế hoạch)
A32: 4.1 | B32: Đối với tài liệu, số liệu là bảng, biểu dạng số thì thực hiện như sau | C32: Kỳ QH (năm kế hoạch) | K32: Đây là nội dung công việc đã được lược bỏ và thay đổi phương pháp thực hiện theo quy định tại Thông tư số 25/2024/TT-BTNMT nên không được tính định biên và định mức cho nội dung này
A33: 4.1.1 | B33: Lập mô hình chuyển đổi CSDL quy hoạch, kế hoạch sử dụng đất | C33: Kỳ QH (năm kế hoạch) | D33: 1KS3 | E33: 1 | K33: Đây là nội dung công việc đã được lược bỏ và thay đổi phương pháp thực hiện theo quy định tại Thông tư số 25/2024/TT-BTNMT nên không được tính định biên và định mức cho nội dung này
A34: 4.1.2 | B34: Chuyển đổi vào CSDL quy hoạch, kế hoạch sử dụng đất | C34: Kỳ QH (năm kế hoạch) | D34: 1KS2 | E34: 2 | K34: Đây là nội dung công việc đã được lược bỏ và thay đổi phương pháp thực hiện theo quy định tại Thông tư số 25/2024/TT-BTNMT nên không được tính định biên và định mức cho nội dung này
A35: 4.2 | B35: Đối với tài liệu, số liệu là báo cáo dạng số thì tạo danh mục tra cứu trong CSDL quy hoạch, kế hoạch sử dụng đất | C35: Kỳ QH (năm kế hoạch) | D35: 1KS2 | E35: 1 | K35: Đây là nội dung công việc đã được lược bỏ và thay đổi phương pháp thực hiện theo quy định tại Thông tư số 25/2024/TT-BTNMT nên không được tính định biên và định mức cho nội dung này
A36: 4.3 | B36: Nhập dữ liệu thuộc tính quy hoạch, kế hoạch sử dụng đất | C36: Kỳ QH (năm kế hoạch) | D36: 1KS1 | E36: 2 | F36: 4.1 | G36: Dữ liệu về quy hoạch sử dụng đất cấp xã | H36: Kỳ QH (năm kế hoạch) | I36: 1KS2 | J36: 2 | K36: Nội dung này tương ứng với mục 4.3 (II). Sử dụng phương pháp so sánh và phân tích nội dung thực hiện giữa Thông tư số 05/2017/TT-BTNMT (Thông tư quy trình cũ) với Thông tư số 25/2024/TT-BTNMT (Thông tư quy trình mới) thì nội dung công việc là tương đồng nhau, định mức công không thay đổi so với định mức công cũ của Thông tư số 35/2017/TT-BTNMT
F37: 4.2 | G37: Dữ liệu về kế hoạch sử dụng đất cấp xã | H37: Kỳ QH (năm kế hoạch) | I37: 1KS1 | J37: 2 | K37: Nội dung này tương ứng với mục 4.3 (II). Sử dụng phương pháp so sánh và phân tích nội dung thực hiện giữa Thông tư số 05/2017/TT-BTNMT (Thông tư quy trình cũ) với Thông tư số 25/2024/TT-BTNMT (Thông tư quy trình mới) thì nội dung công việc là tương đồng nhau, định mức công không thay đổi so với định mức công cũ của Thông tư số 35/2017/TT-BTNMT
A38: 5 | B38: Đối soát, hoàn thiện dữ liệu quy hoạch, kế hoạch sử dụng đất | C38: Kỳ QH (năm kế hoạch) | F38: 5 | G38: Đối soát, hoàn thiện dữ liệu quy hoạch, kế hoạch sử dụng đất | H38: Kỳ QH (năm kế hoạch)
A39: 5.1 | B39: Đối soát, hoàn thiện dữ liệu quy hoạch sử dụng đất | C39: Kỳ QH (năm kế hoạch) | D39: Nhóm 2 (1KTV4+1KS2) | E39: 5 | F39: 5.1 | G39: Đối soát đảm bảo 100% thông tin trong cơ sở dữ liệu quy hoạch sử dụng đất tuân thủ theo đúng quy định về nội dung, cấu trúc, kiểu thông tin của cơ sở dữ liệu quốc gia về đất đai | H39: Kỳ QH (năm kế hoạch) | I39: Nhóm 2 (1KTV4+1KS2) | J39: 5 | K39: Nội dung này tương ứng với mục 5.1 (II). Sử dụng phương pháp so sánh và phân tích nội dung thực hiện giữa Thông tư số 05/2017/TT-BTNMT (Thông tư quy trình cũ) với Thông tư số 25/2024/TT-BTNMT (Thông tư quy trình mới) thì nội dung công việc là tương đồng nhau, định mức công không thay đổi so với định mức công cũ của Thông tư số 35/2017/TT-BTNMT
A40: 5.2 | B40: Đối soát, hoàn thiện dữ liệu kế hoạch sử dụng đất | C40: Kỳ QH (năm kế hoạch) | D40: Nhóm 2 (1KTV4+1KS2) | E40: 2 | F40: 5.2 | G40: Đối soát đảm bảo 100% thông tin trong cơ sở dữ liệu kế hoạch sử dụng đất tuân thủ theo đúng quy định về nội dung, cấu trúc, kiểu thông tin của cơ sở dữ liệu quốc gia về đất đai | H40: Kỳ QH (năm kế hoạch) | I40: Nhóm 2 (1KTV4+1KS2) | J40: 2 | K40: Nội dung này tương ứng với mục 5.2 (II). Sử dụng phương pháp so sánh và phân tích nội dung thực hiện giữa Thông tư số 05/2017/TT-BTNMT (Thông tư quy trình cũ) với Thông tư số 25/2024/TT-BTNMT (Thông tư quy trình mới) thì nội dung công việc là tương đồng nhau, định mức công không thay đổi so với định mức công cũ của Thông tư số 35/2017/TT-BTNMT
...

Sheet 4. CSDL Gia Dat
A1: Thông tư 35/2017/TT-BTNMT ngày 04/10/2017 | F1: Dự thảo: Định mức Kinh tế kỹ thuật xây dựng cơ sở dữ liệu đất đai (Theo quy định về quy trình xây dựng cơ sở dữ liệu quốc gia về đất đai | K1: Giải trình các nội dung sửa đổi, bổ sung và xây dựng mới
A2: STT | B2: Nội dung công việc | C2: Đơn vị tính | D2: Định biên | E2: Định mức (công nhóm) | F2: STT | G2: Nội dung công việc | H2: Đơn vị tính | I2: Định biên | J2: Định mức (công nhóm)
A3: I | B3: Công tác chuẩn bị; thu thập tài liệu, dữ liệu; rà soát, đánh giá, phân loại và sắp xếp tài liệu, dữ liệu; quét giấy tờ pháp lý và xử lý tệp tin; xây dựng siêu dữ liệu giá đất; kiểm tra, nghiệm thu CSDL giá đất(Bảng166) | F3: I | G3: Công tác chuẩn bị; thu thập tài liệu, dữ liệu; rà soát, đánh giá, phân loại và sắp xếp tài liệu, dữ liệu; quét giấy tờ pháp lý và xử lý tệp tin; xây dựng siêu dữ liệu giá đất; tích hợp dữ liệu vào hệ thống(Bảng128)
A4: 1 | B4: Công tác chuẩn bị | F4: 1 | G4: Công tác chuẩn bị
A5: 1.1 | B5: Lập kế hoạch thi công chi tiết: xác định thời gian, địa điểm, khối lượng và nhân lực thực hiện của từng bước công việc; kế hoạch làm việc với các đơn vị có liên quan đến công tác xây dựng CSDL giá đất trên địa bàn thi công | C5: huyện | D5: Nhóm 2 (1 KTV2+1KS4) | E5: 2 | F5: 1.1 | G5: 1. Lập kế hoạch thi công chi tiết: xác định thời gian, địa điểm, khối lượng và nhân lực thực hiện của từng bước công việc; kế hoạch làm việc với các đơn vị có liên quan đến công tác xây dựng cơ sở dữ liệu giá đất trên địa bàn thi công. | H5: Xã | I5: Nhóm 2 (1 KTV2+1KS4) | J5: 2 | K5: Sử dụng phương pháp so sánh và phân tích nội dung thực hiện giữa Thông tư số 05/2017/TT-BTNMT (Thông tư quy trình cũ) với Thông tư số 25/2024/TT-BTNMT (Thông tư quy trình mới) thì nội dung công việc là tương đồng nhau, định mức công không thay đổi so với định mức công cũ của Thông tư số 35/2017/TT-BTNMT
A6: 1.2 | B6: Chuẩn bị nhân lực, địa điểm làm việc; chuẩn bị vật tư, thiết bị, dụng cụ, phần mềm cho công tác xây dựng CSDL giá đất | C6: huyện | D6: Nhóm 2 (1 KTV4+1KS2) | E6: 2 | F6: 1.2 | G6: Chuẩn bị nhân lực, địa điểm làm việc; Chuẩn bị vật tư, thiết bị, dụng cụ, phần mềm cho công tác xây dựng cơ sở dữ liệu giá đất. | H6: Xã | I6: Nhóm 2 (1 KTV4+1KS2) | J6: 2 | K6: Sử dụng phương pháp so sánh và phân tích nội dung thực hiện giữa Thông tư số 05/2017/TT-BTNMT (Thông tư quy trình cũ) với Thông tư số 25/2024/TT-BTNMT (Thông tư quy trình mới) thì công việc đã được tách thành 02 nội dung: - Chuẩn bị nhân lực, địa điểm làm việc. - Chuẩn bị vật tư, thiết bị, dụng cụ, phần mềm cho công tác xây dựng cơ sở dữ liệu giá đất. Sau khi tính thử làm thử và sử dụng phương pháp so sánh các định mức đã thực hiện trong điều kiện có thể so sánh được để tính toán thì định mức công giảm 1/2 so với định mức công cũ của Thông tư số 35/2017/TT-BTNMT
A7: 2 | B7: Thu thập tài liệu, dữ liệu | C7: huyện | F7: 2 | G7: Thu thập tài liệu, dữ liệu | H7: Xã
B8: Thu thập dữ liệu, tài liệu | C8: huyện | D8: Nhóm 2 (1 KTV4+1KS3) | E8: 6 | F8: 2.1 | G8: Thu thập dữ liệu, tài liệu | H8: Xã | I8: Nhóm 2 (1 KTV4+1KS3) | J8: 6 | K8: Sử dụng phương pháp so sánh và phân tích nội dung thực hiện giữa Thông tư số 05/2017/TT-BTNMT (Thông tư quy trình cũ) với Thông tư số 25/2024/TT-BTNMT (Thông tư quy trình mới) thì nội dung công việc là tương đồng nhau, định mức công không thay đổi so với định mức công cũ của Thông tư số 35/2017/TT-BTNMT
F9: 2.2 | G9: Vận chuyển tài liệu thu thập đến địa điểm thực hiện số hóa. | H9: Xã | I9: Nhóm 2 (1 KTV4+1KS3) | J9: 6 | K9: Sử dụng phương pháp so sánh và phân tích nội dung thực hiện giữa Thông tư số 05/2017/TT-BTNMT (Thông tư quy trình cũ) với Thông tư số 25/2024/TT-BTNMT (Thông tư quy trình mới) thì đây là nội dung công việc mới. Sau khi tính thử, làm thử và sử dụng phương pháp so sánh với định mức đã thực hiện trong điều kiện có thể so sánh được để tính toán thì định mức công tính ra tương đương với nội dung công việc "2.1.Thu thập tài liệu, dữ liệu thu thập cho việc xây dựng cơ sở dữ liệu địa chính"
A10: 3 | B10: Rà soát, đánh giá, phân loại và sắp xếp tài liệu, dữ liệu | C10: huyện | F10: 3 | G10: Rà soát, đánh giá, phân loại và sắp xếp tài liệu, dữ liệu | H10: Xã
A11: 3.1 | B11: Rà soát, đánh giá, phân loại | C11: huyện | D11: 1KS3 | E11: 15 | F11: 3.1 | G11: Rà soát, đánh giá, phân loại | H11: Xã | I11: 1KS3 | J11: 15 | K11: Sử dụng phương pháp so sánh và phân tích nội dung thực hiện giữa Thông tư số 05/2017/TT-BTNMT (Thông tư quy trình cũ) với Thông tư số 25/2024/TT-BTNMT (Thông tư quy trình mới) thì nội dung công việc là tương đồng nhau, định mức công không thay đổi so với định mức công cũ của Thông tư số 35/2017/TT-BTNMT
A12: 3.2 | B12: Làm sạch, sắp xếp theo các nhóm dữ liệu giá đất, theo trình tự thời gian hình thành tài liệu, dữ liệu. | C12: huyện | D12: 1KS3 | E12: 5 | K12: Trong Thông tư số 25/2024/TT-BTNMT không có nội dung này
A13: 3.3 | B13: Lập báo cáo kết quả thực hiện | C13: huyện | D13: 1KS3 | E13: 2 | F13: 3.2 | G13: Lập báo cáo kết quả thực hiện | H13: Xã | I13: 1KS3 | J13: 2 | K13: Sử dụng phương pháp so sánh và phân tích nội dung thực hiện giữa Thông tư số 05/2017/TT-BTNMT (Thông tư quy trình cũ) với Thông tư số 25/2024/TT-BTNMT (Thông tư quy trình mới) thì nội dung công việc là tương đồng nhau, định mức công không thay đổi so với định mức công cũ của Thông tư số 35/2017/TT-BTNMT
A14: 4 | B14: Quét giấy tờ pháp lý và xử lý tập tin | C14: huyện | F14: 4 | G14: Xây dựng dữ liệu đất đai phi cấu trúc về giá đất | H14: Xã
B15: Tạo danh mục tra cứu hồ sơ quét trong CSDL giá đất | C15: huyện | D15: 1KS1 | E15: 2 | F15: 4.1 | G15: Tạo danh mục tra cứu dữ liệu phi cấu trúc trong cơ sở dữ liệu giá đất đối với các tài liệu dạng số mà không liên kết với các đối tượng không gian | H15: Xã | I15: 1KS1 | J15: 2 | K15: Sử dụng phương pháp so sánh và phân tích nội dung thực hiện giữa Thông tư số 05/2017/TT-BTNMT (Thông tư quy trình cũ) với Thông tư số 25/2024/TT-BTNMT (Thông tư quy trình mới) thì nội dung công việc là tương đồng nhau, định mức công không thay đổi so với định mức công cũ của Thông tư số 35/2017/TT-BTNMT
F16: 4.2 | G16: Vận chuyển, bàn giao tài liệu cho đơn vị quản lý hồ sơ, tài liệu. | H16: Xã | I16: Nhóm 2 (1 KTV4 + 1KS3) | J16: =J8 -> 6 | K16: Đây là nội dung công việc mới quy định tại Thông tư số 25/2024/TT-BTNMT. Sau khi tính thử, làm thử và sử dụng phương pháp so sánh, phân tích, thống kê, tổng hợp và kinh nghiệm đưa ra mức công việc 1 ngày Vận chuyển tài liệu thu thập đến địa điểm thực hiện số hóa Kỳ kiểm kê (năm thống kê). KS3 sử dụng cho việc lựa chọn sắp xếp tài liệu, KTV4 làm nhiệm vụ vận chuyển, hỗ trợ cho KS3
A17: 5 | B17: Xây dựng siêu dữ liệu giá đất | F17: 5 | G17: Xây dựng siêu dữ liệu giá đất
A18: 5.1 | B18: Thu nhận các thông tin cần thiết để xây dựng siêu dữ liệu (thông tin mô tả dữ liệu) giá đất | C18: huyện | D18: 1KS1 | E18: 3 | F18: 5.1 | G18: Thu nhận các thông tin cần thiết để xây dựng siêu dữ liệu (thông tin mô tả dữ liệu) giá đất | H18: Xã | I18: 1KS1 | J18: 3 | K18: Sử dụng phương pháp so sánh và phân tích nội dung thực hiện giữa Thông tư số 05/2017/TT-BTNMT (Thông tư quy trình cũ) với Thông tư số 25/2024/TT-BTNMT (Thông tư quy trình mới) thì nội dung công việc là tương đồng nhau, định mức công không thay đổi so với định mức công cũ của Thông tư số 35/2017/TT-BTNMT
A19: 5.2 | B19: Nhập thông tin siêu dữ liệu giá đất | C19: huyện | D19: 1KS1 | E19: 1 | F19: 5.2 | G19: Nhập thông tin siêu dữ liệu giá đất | H19: Xã | I19: 1KS1 | J19: 1 | K19: Sử dụng phương pháp so sánh và phân tích nội dung thực hiện giữa Thông tư số 05/2017/TT-BTNMT (Thông tư quy trình cũ) với Thông tư số 25/2024/TT-BTNMT (Thông tư quy trình mới) thì nội dung công việc là tương đồng nhau, định mức công không thay đổi so với định mức công cũ của Thông tư số 35/2017/TT-BTNMT
A20: 6 | B20: Kiểm tra, nghiệm thu CSDL giá đất | C20: huyện
A21: 6.1 | B21: Đơn vị thi công chuẩn bị tài liệu và phục vụ giám sát, kiểm tra, nghiệm thu. | C21: huyện | D21: 1KTV4 | E21: 10
