Workbook
Name _Toc494182243: '1. CSDL Địa chính'!$B$59
Name _Toc494182248: '1. CSDL Địa chính'!$B$100
Name dieu_6: '1. CSDL Địa chính'!$G$8
Name muc_2_2: '5. CSDL DT-DG-BV-CT-PHD'!$E$27

Sheet 1. CSDL Địa chính
A1: Thông tư 35/2017/TT-BTNMT ngày 04/10/2017 | F1: Dự thảo: Định mức Kinh tế kỹ thuật xây dựng cơ sở dữ liệu đất đai (Theo quy định về quy trình xây dựng cơ sở dữ liệu quốc gia về đất đai | K1: Giải trình các nội dung sửa đổi, bổ sung và xây dựng mới
A2: STT | B2: Nội dung công việc | C2: Đơn vị tính | D2: Định biên | E2: Định mức (công nhóm) | F2: STT | G2: Nội dung công việc | H2: Đơn vị tính | I2: Định biên | J2: Định mức (công nhóm)
A3: I. | B3: Xây dựng CSDL địa chính đối với trường hợp đã thực hiện đăng ký, cấp giấy chứng nhận | F3: I. | G3: Xây dựng CSDL địa chính đối với trường hợp đã thực hiện đăng ký, cấp giấy chứng nhận
A4: I.1 | B4: Xây dựng CSDL địa chính đối với trường hợp đã đăng ký cấp GCN (Không bao gồm nội dung xây dựng dữ liệu không gian đất đai nền và quét giấy tờ pháp lý, xử lý tập tin ). Bảng số 01 | F4: I.1 | G4: Xây dựng CSDL địa chính đối với trường hợp đã đăng ký cấp GCN (Không bao gồm nội dung xây dựng dữ liệu không gian đất đai nền và quét giấy tờ pháp lý, xử lý tập tin ). Bảng số 01
A5: 1 | B5: Công tác chuẩn bị | F5: 1 | G5: Công tác chuẩn bị
A6: 1.1 | B6: Lập kế hoạch thi công chi tiết: xác định thời gian, địa điểm, khối lượng và nhân lực thực hiện của từng bước công việc; lập kế hoạch làm việc với các đơn vị có liên quan đến công tác xây dựng CSDL địa chính trên địa bàn thi công | C6: Thửa | D6: Nhóm 2 (1KTV2+1KS4) | E6: 0.001 | F6: 1.1 | G6: Lập kế hoạch thi công chi tiết: xác định thời gian, địa điểm, khối lượng và nhân lực thực hiện từng bước công việc; lập kế hoạch làm việc với các đơn vị có liên quan đến công tác xây dựng cơ sở dữ liệu địa chính trên địa bàn thi công | H6: Thửa | I6: Nhóm 2 (1KTV2+1KS4) | J6: 0.001 | K6: Sử dụng phương pháp so sánh và phân tích nội dung thực hiện giữa Thông tư số 05/2017/TT-BTNMT (Thông tư quy trình cũ) với Thông tư số 25/2024/TT-BTNMT (Thông tư quy trình mới) thì nội dung công việc là tương đồng nhau.
A7: 1.2 | B7: Chuẩn bị nhân lực, địa điểm làm việc; chuẩn bị vật tư, thiết bị, dụng cụ, phần mềm phục vụ cho công tác xây dựng CSDL địa chính | C7: Thửa | D7: Nhóm 2 (1KTV4+1KS2) | E7: 0.001 | F7: 1.2 | G7: Chuẩn bị nhân lực, địa điểm làm việc; chuẩn bị vật tư, thiết bị, dụng cụ, phần mềm phục vụ cho công tác xây dựng CSDL địa chính | H7: Thửa | I7: Nhóm 2 (1KTV4+1KS2) | J7: 0.001 | K7: Sử dụng phương pháp so sánh và phân tích nội dung thực hiện giữa Thông tư số 05/2017/TT-BTNMT (Thông tư quy trình cũ) với Thông tư số 25/2024/TT-BTNMT (Thông tư quy trình mới) thì nội dung công việc là tương đồng nhau.
A8: 2 | B8: Thu thập tài liệu, dữ liệu | C8: Thửa | D8: Nhóm 2 (1KTV4+1KS3) | E8: 0.0038 | F8: 2 | G8: Thu thập tài liệu, dữ liệu
F9: 2.1 | G9: Thu thập tài liệu, dữ liệu thu thập cho việc xây dựng cơ sở dữ liệu địa chính | H9: Thửa | I9: Nhóm 2 (1KTV4+1KS3) | J9: 0.0038 | K9: Sử dụng phương pháp so sánh và phân tích nội dung thực hiện giữa Thông tư số 05/2017/TT-BTNMT (Thông tư quy trình cũ) với Thông tư số 25/2024/TT-BTNMT (Thông tư quy trình mới) thì nội dung công việc là tương đồng nhau.
F10: 2.2 | G10: Vận chuyển tài liệu thu thập đến địa điểm thực hiện số hóa. | H10: Thửa | I10: Nhóm 2 (1KTV4+1KS3) | J10: 0.0038 | K10: Sử dụng phương pháp so sánh và phân tích nội dung thực hiện giữa Thông tư số 05/2017/TT-BTNMT (Thông tư quy trình cũ) với Thông tư số 25/2024/TT-BTNMT (Thông tư quy trình mới) thì đây là nội dung công việc mới, định mức công tính ra tương đương với nội dung công việc "2.1.Thu thập tài liệu, dữ liệu thu thập cho việc xây dựng cơ sở dữ liệu địa chính"
A11: 3 | B11: Rà soát, đánh giá, phân loại và sắp xếp tài liệu, dữ liệu | F11: 3 | G11: Rà soát, đánh giá, phân loại và sắp xếp tài liệu, dữ liệu
A12: 3.1 | B12: Rà soát, đánh giá tài liệu, dữ liệu; lập báo cáo kết quả thực hiện | C12: Thửa | D12: 1KS3 | E12: 0.0054 | F12: 3.1 | G12: Rà soát, đánh giá tài liệu, dữ liệu; lập báo cáo kết quả thực hiện | H12: Thửa | I12: 1KS3 | J12: 0.0054 | K12: Sử dụng phương pháp so sánh và phân tích nội dung thực hiện giữa Thông tư số 05/2017/TT-BTNMT (Thông tư quy trình cũ) với Thông tư số 25/2024/TT-BTNMT (Thông tư quy trình mới) thì nội dung công việc là tương đồng nhau, định mức công không thay đổi so với định mức công cũ của Thông tư số 35/2017/TT-BTNMT
A13: 3.2 | B13: Phân loại thửa đất; lập biểu tổng hợp | C13: Thửa | D13: 1KS3 | E13: 0.0063 | F13: 3.2 | G13: Phân loại thửa đất; lập biểu tổng hợp | H13: Thửa | I13: 1KS3 | J13: 0.0063 | K13: Sử dụng phương pháp so sánh và phân tích nội dung thực hiện giữa Thông tư số 05/2017/TT-BTNMT (Thông tư quy trình cũ) với Thông tư số 25/2024/TT-BTNMT (Thông tư quy trình mới) thì nội dung công việc là tương đồng nhau, định mức công không thay đổi so với định mức công cũ của Thông tư số 35/2017/TT-BTNMT
A14: 3.3 | B14: Làm sạch, sắp xếp và đánh số thứ tự theo quy định về hồ sơ địa chính đối với Hồ sơ đăng ký đất đai, tài sản gắn liền với đất | C14: Thửa | D14: Nhóm 2 (1KTV1+1KS3) | E14: 0.0068 | K14: Trong Thông tư số 25/2024/TT-BTNMT không có nội dung này
A15: 4 | B15: Xây dựng dữ liệu không gian địa chính | F15: 4 | G15: Xây dựng dữ liệu không gian địa chính
A16: 4.1 | B16: Chuẩn hóa các lớp đối tượng không gian địa chính | F16: 4.1 | G16: Chuẩn hóa các lớp đối tượng không gian địa chính
A17: 4.1.1 | B17: Lập bảng đối chiếu giữa lớp đối tượng không gian địa chính với nội dung tương ứng trong bản đồ địa chính để tách, lọc các đối tượng từ nội dung bản đồ địa chính | C17: Thửa | D17: 1KS3 | E17: 0.0013 | F17: 4.1.1 | G17: Lập bảng đối chiếu giữa lớp đối tượng không gian địa chính với nội dung tương ứng trong bản đồ địa chính để tách, lọc các đối tượng từ nội dung bản đồ địa chính | H17: Thửa | I17: 1KS3 | J17: 0.0013 | K17: Sử dụng phương pháp so sánh và phân tích nội dung thực hiện giữa Thông tư số 05/2017/TT-BTNMT (Thông tư quy trình cũ) với Thông tư số 25/2024/TT-BTNMT (Thông tư quy trình mới) thì nội dung công việc là tương đồng nhau, định mức công không thay đổi so với định mức công cũ của Thông tư số 35/2017/TT-BTNMT
A18: 4.1.2 | B18: Chuẩn hóa các lớp đối tượng không gian địa chính chưa phù hợp với quy định kỹ thuật về CSDL đất đai | C18: Thửa | D18: 1KS3 | E18: 0.0068 | F18: 4.1.2 | G18: Chuẩn hóa các lớp đối tượng không gian địa chính chưa phù hợp với quy định kỹ thuật về CSDL đất đai | H18: Thửa | I18: 1KS3 | J18: 0.0068 | K18: Sử dụng phương pháp so sánh và phân tích nội dung thực hiện giữa Thông tư số 05/2017/TT-BTNMT (Thông tư quy trình cũ) với Thông tư số 25/2024/TT-BTNMT (Thông tư quy trình mới) thì nội dung công việc là tương đồng nhau, định mức công không thay đổi so với định mức công cũ của Thông tư số 35/2017/TT-BTNMT
A19: 4.1.3 | B19: Rà soát chuẩn hóa thông tin thuộc tính cho từng đối tượng không gian địa chính theo quy định kỹ thuật về CSDL đất đai | C19: Thửa | D19: 1KS3 | E19: 0.0125 | F19: 4.1.3 | G19: Rà soát chuẩn hóa thông tin thuộc tính cho từng đối tượng không gian địa chính theo quy định kỹ thuật về CSDL đất đai | H19: Thửa | I19: 1KS3 | J19: 0.0125 | K19: Sử dụng phương pháp so sánh và phân tích nội dung thực hiện giữa Thông tư số 05/2017/TT-BTNMT (Thông tư quy trình cũ) với Thông tư số 25/2024/TT-BTNMT (Thông tư quy trình mới) thì nội dung công việc là tương đồng nhau, định mức công không thay đổi so với định mức công cũ của Thông tư số 35/2017/TT-BTNMT
A20: 4.2 | B20: Chuyển đổi các lớp đối tượng không gian địa chính từ tệp (File) bản đồ số vào CSDL theo phạm vi đơn vị hành chính cấp xã | C20: Thửa | D20: 1KS3 | E20: 0.0015 | F20: 4.2 | G20: Chuyển đổi các lớp đối tượng không gian địa chính từ tệp (File) bản đồ số vào CSDL theo phạm vi đơn vị hành chính cấp xã | H20: Thửa | I20: 1KS3 | J20: 0.0015 | K20: Sử dụng phương pháp so sánh và phân tích nội dung thực hiện giữa Thông tư số 05/2017/TT-BTNMT (Thông tư quy trình cũ) với Thông tư số 25/2024/TT-BTNMT (Thông tư quy trình mới) thì nội dung công việc là tương đồng nhau, định mức công không thay đổi so với định mức công cũ của Thông tư số 35/2017/TT-BTNMT
A21: 4.3 | B21: Đối với khu vực chưa có bản đồ địa chính | F21: 4.3 | G21: Đối với khu vực chưa có bản đồ địa chính
A22: 4.3.1 | B22: Chuyển đổi bản trích đo địa chính theo hệ tọa độ quốc gia VN-2000 vào dữ liệu không gian địa chính | C22: Thửa | D22: 1KS3 | E22: 0.025 | F22: 4.3.1 | G22: Chuyển đổi bản trích đo địa chính theo hệ tọa độ quốc gia VN-2000 vào dữ liệu không gian địa chính | H22: Thửa | I22: 1KS3 | J22: 0.025 | K22: Sử dụng phương pháp so sánh và phân tích nội dung thực hiện giữa Thông tư số 05/2017/TT-BTNMT (Thông tư quy trình cũ) với Thông tư số 25/2024/TT-BTNMT (Thông tư quy trình mới) thì nội dung công việc là tương đồng nhau, định mức công không thay đổi so với định mức công cũ của Thông tư số 35/2017/TT-BTNMT
A23: 4.3.2 | B23: Chuyển đổi vào dữ liệu không gian địa chính và định vị trên dữ liệu không gian đất đai nền sơ đồ, bản trích đo địa chính chưa theo hệ tọa độ quốc gia VN-2000 hoặc bản đồ giải thửa dạng số | C23: Thửa | D23: 1KS3 | E23: 0.05 | F23: 4.3.2 | G23: Chuyển đổi vào dữ liệu không gian địa chính và định vị trên dữ liệu không gian đất đai nền sơ đồ, bản trích đo địa chính chưa theo hệ tọa độ quốc gia VN-2000 hoặc bản đồ giải thửa dạng số | H23: Thửa | I23: 1KS3 | J23: 0.05 | K23: Sử dụng phương pháp so sánh và phân tích nội dung thực hiện giữa Thông tư số 05/2017/TT-BTNMT (Thông tư quy trình cũ) với Thông tư số 25/2024/TT-BTNMT (Thông tư quy trình mới) thì nội dung công việc là tương đồng nhau, định mức công không thay đổi so với định mức công cũ của Thông tư số 35/2017/TT-BTNMT
A24: 4.3.3 | B24: Quét và định vị sơ bộ trên dữ liệu không gian đất đai nền sơ đồ, bản trích đo địa chính theo hệ tọa độ giả định hoặc bản đồ giải thửa dạng giấy | C24: Thửa | D24: 1KS3 | E24: 0.025 | F24: 4.3.3 | G24: Quét và định vị sơ bộ trên dữ liệu không gian đất đai nền sơ đồ, bản trích đo địa chính theo hệ tọa độ giả định hoặc bản đồ giải thửa dạng giấy | H24: Thửa | I24: 1KS3 | J24: 0.025 | K24: Sử dụng phương pháp so sánh và phân tích nội dung thực hiện giữa Thông tư số 05/2017/TT-BTNMT (Thông tư quy trình cũ) với Thông tư số 25/2024/TT-BTNMT (Thông tư quy trình mới) thì nội dung công việc là tương đồng nhau, định mức công không thay đổi so với định mức công cũ của Thông tư số 35/2017/TT-BTNMT
A25: 4.4 | B25: Định vị khu vực dồn điền đổi thửa trên dữ liệu không gian đất đai nền trên cơ sở các hồ sơ, tài liệu hiện có | C25: Thửa | D25: 1KS3 | E25: 0.025 | F25: 4.4 | G25: Định vị khu vực dồn điền đổi thửa trên dữ liệu không gian đất đai nền trên cơ sở các hồ sơ, tài liệu hiện có | H25: Thửa | I25: 1KS3 | J25: 0.025 | K25: Trong Thông tư số 25/2024/TT-BTNMT không có nội dung này
A26: 5 | B26: Xây dựng dữ liệu thuộc tính địa chính | F26: 5 | G26: Xây dựng dữ liệu thuộc tính địa chính
A27: 5.1 | B27: Kiểm tra tính đầy đủ thông tin của thửa đất, lựa chọn tài liệu theo thứ tự ưu tiên | C27: Thửa | D27: 1KS3 | E27: 0.01 | F27: 5.1 | G27: Kiểm tra tính đầy đủ thông tin của thửa đất, lựa chọn tài liệu theo thứ tự ưu tiên | H27: Thửa | I27: 1KS3 | J27: 0.01 | K27: Sử dụng phương pháp so sánh và phân tích nội dung thực hiện giữa Thông tư số 05/2017/TT-BTNMT (Thông tư quy trình cũ) với Thông tư số 25/2024/TT-BTNMT (Thông tư quy trình mới) thì nội dung công việc là tương đồng nhau, định mức công không thay đổi so với định mức công cũ của Thông tư số 35/2017/TT-BTNMT
A28: 5.2 | B28: Lập bảng tham chiếu số thửa cũ và số thửa mới đối với các thửa đất đã được cấp Giấy chứng nhận theo bản đồ cũ nhưng chưa cấp đổi Giấy chứng nhận | C28: Thửa | D28: 1KS3 | E28: 0.005 | F28: 5.2 | G28: Lập bảng tham chiếu số thửa cũ và số thửa mới đối với các thửa đất đã được cấp Giấy chứng nhận theo bản đồ cũ nhưng chưa cấp đổi Giấy chứng nhận | H28: Thửa | I28: 1KS3 | J28: 0.005 | K28: Sử dụng phương pháp so sánh và phân tích nội dung thực hiện giữa Thông tư số 05/2017/TT-BTNMT (Thông tư quy trình cũ) với Thông tư số 25/2024/TT-BTNMT (Thông tư quy trình mới) thì nội dung công việc là tương đồng nhau, định mức công không thay đổi so với định mức công cũ của Thông tư số 35/2017/TT-BTNMT
A29: 5.3 | B29: Nhập thông tin từ tài liệu đã lựa chọn. | C29: Thửa | D29: 1KS3 | E29: 0.1095 | F29: 5.3 | G29: Nhập thông tin từ tài liệu đã lựa chọn. Cụ thể theo từng loại thửa đất: | H29: Thửa | I29: 1KS3 | J29: 0.1095 | K29: Sử dụng phương pháp so sánh và phân tích nội dung thực hiện giữa Thông tư số 05/2017/TT-BTNMT (Thông tư quy trình cũ) với Thông tư số 25/2024/TT-BTNMT (Thông tư quy trình mới) thì nội dung công việc là tương đồng nhau, định mức công không thay đổi so với định mức công cũ của Thông tư số 35/2017/TT-BTNMT
A30: 6 | B30: Hoàn thiện dữ liệu địa chính | F30: 6 | G30: Hoàn thiện dữ liệu địa chính
A31: 6.1 | B31: Hoàn thiện 100% thông tin trong CSDL | C31: Thửa | D31: 1KS3 | E31: 0.01 | F31: 6.1 | G31: Hoàn thiện 100% thông tin trong CSDL | H31: Thửa | I31: 1KS3 | J31: 0.01 | K31: Sử dụng phương pháp so sánh và phân tích nội dung thực hiện giữa Thông tư số 05/2017/TT-BTNMT (Thông tư quy trình cũ) với Thông tư số 25/2024/TT-BTNMT (Thông tư quy trình mới) thì nội dung công việc là tương đồng nhau, định mức công không thay đổi so với định mức công cũ của Thông tư số 35/2017/TT-BTNMT
A32: 6.2 | B32: Xuất sổ địa chính (điện tử) theo khuôn dạng tệp tin PDF | C32: Thửa | D32: 1KS3 | E32: 0.0025 | F32: 6.2 | G32: Thực hiện xuất sổ địa chính theo định dạng tệp tin PDF. | H32: Thửa | I32: 1KS3 | J32: 0.0025 | K32: Sử dụng phương pháp so sánh và phân tích nội dung thực hiện giữa Thông tư số 05/2017/TT-BTNMT (Thông tư quy trình cũ) với Thông tư số 25/2024/TT-BTNMT (Thông tư quy trình mới) thì nội dung công việc là tương đồng nhau, định mức công không thay đổi so với định mức công cũ của Thông tư số 35/2017/TT-BTNMT
A33: 7 | B33: Xây dựng siêu dữ liệu địa chính | F33: 7 | G33: Xây dựng siêu dữ liệu địa chính
A34: 7.1 | B34: Thu nhận các thông tin cần thiết để xây dựng siêu dữ liệu (thông tin mô tả dữ liệu) địa chính | C34: Thửa | D34: 1KS2 | E34: 0.0038 | F34: 7.1 | G34: Thu nhận các thông tin cần thiết để xây dựng siêu dữ liệu (thông tin mô tả dữ liệu) địa chính | H34: Thửa | I34: 1KS2 | J34: 0.0038 | K34: Sử dụng phương pháp so sánh và phân tích nội dung thực hiện giữa Thông tư số 05/2017/TT-BTNMT (Thông tư quy trình cũ) với Thông tư số 25/2024/TT-BTNMT (Thông tư quy trình mới) thì nội dung công việc là tương đồng nhau, định mức công không thay đổi so với định mức công cũ của Thông tư số 35/2017/TT-BTNMT
A35: 7.2 | B35: Nhập thông tin siêu dữ liệu địa chính cho từng đơn vị hành chính cấp xã | C35: Thửa | D35: 1KS1 | E35: 0.0001 | F35: 7.2 | G35: Nhập thông tin siêu dữ liệu địa chính cho từng đơn vị hành chính cấp xã | H35: Thửa | I35: 1KS1 | J35: 0.0001 | K35: Sử dụng phương pháp so sánh và phân tích nội dung thực hiện giữa Thông tư số 05/2017/TT-BTNMT (Thông tư quy trình cũ) với Thông tư số 25/2024/TT-BTNMT (Thông tư quy trình mới) thì nội dung công việc là tương đồng nhau, định mức công không thay đổi so với định mức công cũ của Thông tư số 35/2017/TT-BTNMT
A36: 8 | B36: Đối soát, tích hợp dữ liệu vào hệ thống (do Văn phòng Đăng ký đất đai thực hiện) | F36: 8 | G36: Đối soát, tích hợp dữ liệu vào hệ thống (do Văn phòng Đăng ký đất đai thực hiện)
A37: 8.1 | B37: Đối soát thông tin của thửa đất trong CSDL với nguồn tài liệu, dữ liệu đã sử dụng để xây dựng CSDL | C37: Thửa | D37: 1KS1 | E37: 0.0075 | F37: 8.1 | G37: Đối soát thông tin của tất cả các thửa đất trong cơ sở dữ liệu đất đai với nguồn tài liệu, dữ liệu đã sử dụng để xây dựng cơ sở dữ liệu. | H37: Thửa | I37: 1KS1 | J37: 0.0075 | K37: Sử dụng phương pháp so sánh và phân tích nội dung thực hiện giữa Thông tư số 05/2017/TT-BTNMT (Thông tư quy trình cũ) với Thông tư số 25/2024/TT-BTNMT (Thông tư quy trình mới) thì nội dung công việc là tương đồng nhau, định mức công không thay đổi so với định mức công cũ của Thông tư số 35/2017/TT-BTNMT
A38: 8.2 | B38: Ký số vào sổ địa chính (điện tử) | C38: Thửa | D38: 1KS4 | E38: 0.005 | F38: 8.2 | G38: Thực hiện ký số sổ địa chính, ký số vào các tài liệu quét của dữ liệu phi cấu trúc. | H38: Thửa | I38: 1KS4 | J38: 0.005 | K38: Sử dụng phương pháp so sánh và phân tích nội dung thực hiện giữa Thông tư số 05/2017/TT-BTNMT (Thông tư quy trình cũ) với Thông tư số 25/2024/TT-BTNMT (Thông tư quy trình mới) thì nội dung công việc là tương đồng nhau, định mức công không thay đổi so với định mức công cũ của Thông tư số 35/2017/TT-BTNMT
A39: 8.3 | B39: Tích hợp dữ liệu vào hệ thống theo định kỳ hàng tháng phục vụ quản lý, vận hành, khai thác sử dụng | C39: Thửa | D39: 1KS3 | E39: 0.01 | F39: 8.3 | G39: Tích hợp dữ liệu đã được đối soát vào hệ thống đang quản lý, vận hành cơ sở dữ liệu đất đai ở địa phương. | H39: Thửa | I39: 1KS3 | J39: 0.01 | K39: Sử dụng phương pháp so sánh và phân tích nội dung thực hiện giữa Thông tư số 05/2017/TT-BTNMT (Thông tư quy trình cũ) với Thông tư số 25/2024/TT-BTNMT (Thông tư quy trình mới) thì nội dung công việc là tương đồng nhau, định mức công không thay đổi so với định mức công cũ của Thông tư số 35/2017/TT-BTNMT
A40: 9 | B40: Phục vụ kiểm tra, nghiệm thu CSDL địa chính
B41: Chuẩn bị tư liệu, tài liệu và phục vụ giám sát, kiểm tra, nghiệm thu; tổng hợp, xác định khối lượng sản phẩm đã thực hiện theo định kỳ hàng tháng, theo công đoạn công trình và khi kết thúc công trình. Lập biên bản bàn giao dữ liệu địa chính | C41: Thửa | D41: 1KTV4 | E41: 0.0023 | K41: Theo quy định của Thông tư số 136/2017/TT-BTC thì nội dung Phục vụ kiểm tra, nghiệm thu CSDL được tính trong chi phí chung. Nên Quy trình thực hiện vẫn quy định nhưng không được tính định biên, định mức
A42: I.2 | B42: Xây dựng dữ liệu không gian đất đai nền - Bảng số 02 | F42: I.2 | G42: Xây dựng dữ liệu không gian đất đai nền - Bảng số 02
A43: 1 | B43: Xây dựng dữ liệu không gian đất đai nền | F43: 1 | G43: Xây dựng dữ liệu không gian đất đai nền
A44: 1.1 | B44: Xử lý biên theo quy định về bản đồ đối với các tài liệu bản đồ tiếp giáp nhau | C44: Xã | D44: 1KS3 | E44: 5 | F44: 1.1 | G44: Xử lý biên theo quy định về bản đồ đối với các tài liệu bản đồ tiếp giáp nhau | H44: Xã | I44: 1KS3 | J44: 5 | K44: Sử dụng phương pháp so sánh và phân tích nội dung thực hiện giữa Thông tư số 05/2017/TT-BTNMT (Thông tư quy trình cũ) với Thông tư số 25/2024/TT-BTNMT (Thông tư quy trình mới) thì nội dung công việc là tương đồng nhau, định mức công không thay đổi so với định mức công cũ của Thông tư số 35/2017/TT-BTNMT
A45: 1.2 | B45: Tách, lọc và chuẩn hóa các lớp đối tượng không gian đất đai nền | C45: Xã | D45: 1KS3 | E45: 12 | F45: 1.2 | G45: Tách, lọc và chuẩn hóa các lớp đối tượng không gian đất đai nền | H45: Xã | I45: 1KS3 | J45: 12 | K45: Sử dụng phương pháp so sánh và phân tích nội dung thực hiện giữa Thông tư số 05/2017/TT-BTNMT (Thông tư quy trình cũ) với Thông tư số 25/2024/TT-BTNMT (Thông tư quy trình mới) thì nội dung công việc là tương đồng nhau, định mức công không thay đổi so với định mức công cũ của Thông tư số 35/2017/TT-BTNMT
A46: 1.3 | B46: Chuyển đổi các lớp đối tượng không gian đất đai nền từ tệp (File) bản đồ số vào CSDL | C46: Xã | D46: 1KS3 | E46: 3 | F46: 1.3 | G46: Chuyển đổi các lớp đối tượng không gian đất đai nền từ tệp (File) bản đồ số vào CSDL | H46: Xã | I46: 1KS3 | J46: 3 | K46: Sử dụng phương pháp so sánh và phân tích nội dung thực hiện giữa Thông tư số 05/2017/TT-BTNMT (Thông tư quy trình cũ) với Thông tư số 25/2024/TT-BTNMT (Thông tư quy trình mới) thì nội dung công việc là tương đồng nhau, định mức công không thay đổi so với định mức công cũ của Thông tư số 35/2017/TT-BTNMT
A47: 1.4 | B47: Gộp các thành phần tiếp giáp nhau của cùng một đối tượng không gian đất đai nền thành một đối tượng duy nhất phù hợp với thông tin thuộc tính của đối tượng theo phạm vi đơn vị hành chính cấp xã | C47: Xã | D47: 1KS3 | E47: 10 | F47: 1.4 | G47: Gộp các thành phần tiếp giáp nhau của cùng một đối tượng không gian đất đai nền thành một đối tượng duy nhất phù hợp với thông tin thuộc tính của đối tượng theo phạm vi đơn vị hành chính cấp xã | H47: Xã | I47: 1KS3 | J47: 10 | K47: Sử dụng phương pháp so sánh và phân tích nội dung thực hiện giữa Thông tư số 05/2017/TT-BTNMT (Thông tư quy trình cũ) với Thông tư số 25/2024/TT-BTNMT (Thông tư quy trình mới) thì nội dung công việc là tương đồng nhau, định mức công không thay đổi so với định mức công cũ của Thông tư số 35/2017/TT-BTNMT
F48: 1.5 | G48: Xây dựng, bổ sung lớp tim đường cho lớp giao thông dạng vùng đối với trường hợp trên bản đồ địa chính chưa có lớp tim đường theo phân cấp đường giao thông. Lớp tim đường được xác định là đường trung tâm (center line) của đối tượng đường giao thông; | H48: Xã | I48: 1KS3 | J48: 10 | K48: Sử dụng phương pháp so sánh và phân tích nội dung thực hiện giữa Thông tư số 05/2017/TT-BTNMT (Thông tư quy trình cũ) với Thông tư số 25/2024/TT-BTNMT (Thông tư quy trình mới) thì đây là nội dung công việc mới. Sau khi tính thử, làm thử và sử dụng phương pháp so sánh với các nội dung của định mức đã thực hiện trong điều kiện có thể so sánh được để tính toán thì định mức công tính ra tương đương với nội dung công việc "1.4.Gộp các thành phần tiếp giáp nhau của cùng một đối tượng không gian đất đai nền thành một đối tượng duy nhất phù hợp với thông tin thuộc tính của đối tượng theo phạm vi đơn vị hành chính cấp xã"
A49: 2 | B49: Tích hợp dữ liệu không gian đất đai nền | F49: 2 | G49: Tích hợp dữ liệu không gian đất đai nền
A50: 2.1 | B50: Xử lý tiếp biên dữ liệu không gian đất đai nền giữa các đơn vị hành chính cấp xã, cấp huyện liền kề | C50: Xã | D50: 1KS3 | E50: 12 | F50: 2.1 | G50: Xử lý tiếp biên dữ liệu không gian đất đai nền giữa các đơn vị hành chính cấp xã, cấp huyện liền kề | H50: Xã | I50: 1KS3 | J50: 12 | K50: Sử dụng phương pháp so sánh và phân tích nội dung thực hiện giữa Thông tư số 05/2017/TT-BTNMT (Thông tư quy trình cũ) với Thông tư số 25/2024/TT-BTNMT (Thông tư quy trình mới) thì nội dung công việc là tương đồng nhau. Sau khi tính thử, làm thử và sử dụng phương pháp so sánh với định mức đã thực hiện trong điều kiện có thể so sánh được để tính toán thì định mức công không thay đổi so với định mức công cũ của Thông tư số 35/2017/TT-BTNMT
A51: 2.2 | B51: Tích hợp dữ liệu không gian đất đai nền vào CSDL đất đai để quản lý, vận hành, khai thác sử dụng | C51: Xã | D51: 1KS3 | E51: 5 | F51: 2.2 | G51: Tích hợp dữ liệu không gian đất đai nền vào cơ sở dữ liệu đất đai để quản lý, vận hành, khai thác sử dụng. | H51: Xã | I51: 1KS3 | J51: 5 | K51: Sử dụng phương pháp so sánh và phân tích nội dung thực hiện giữa Thông tư số 05/2017/TT-BTNMT (Thông tư quy trình cũ) với Thông tư số 25/2024/TT-BTNMT (Thông tư quy trình mới) thì nội dung công việc là tương đồng nhau. Sau khi tính thử, làm thử và sử dụng phương pháp so sánh với định mức đã thực hiện trong điều kiện có thể so sánh được để tính toán thì định mức công không thay đổi so với định mức công cũ của Thông tư số 35/2017/TT-BTNMT
A52: I.3 | B52: Quét giấy tờ pháp lý và xử lý tập tin - Bảng số 03 | F52: I.3 | G52: Quét giấy tờ pháp lý và xử lý tập tin - Bảng số 03
A53: 1 | B53: Quét giấy tờ pháp lý về quyền sử dụng đất, quyền sở hữu nhà ở và tài sản khác gắn liền với đất | F53: 1 | G53: Quét các giấy tờ pháp lý và tài liệu kèm theo (bản gốc hoặc bản sao có xác nhận của cơ quan có thẩm quyền ) nhằm xác thực thông tin của thửa đất
A54: 1.1 | B54: Quét trang A3 | C54: Trang A3 | D54: 1KS1 | E54: 0.012 | F54: 1.1 | G54: Quét trang A3 | H54: Trang A3 | I54: 1KS1 | J54: 0.012 | K54: Sử dụng phương pháp so sánh và phân tích nội dung thực hiện giữa Thông tư số 05/2017/TT-BTNMT (Thông tư quy trình cũ) với Thông tư số 25/2024/TT-BTNMT (Thông tư quy trình mới) thì nội dung công việc là tương đồng nhau, định mức công không thay đổi so với định mức công cũ của Thông tư số 35/2017/TT-BTNMT
A55: 1.2 | B55: Quét trang A4 | C55: Trang A4 | D55: 1KS1 | E55: 0.008 | F55: 1.2 | G55: Quét trang A4 | H55: Trang A4 | I55: 1KS1 | J55: 0.008 | K55: Sử dụng phương pháp so sánh và phân tích nội dung thực hiện giữa Thông tư số 05/2017/TT-BTNMT (Thông tư quy trình cũ) với Thông tư số 25/2024/TT-BTNMT (Thông tư quy trình mới) thì nội dung công việc là tương đồng nhau, định mức công không thay đổi so với định mức công cũ của Thông tư số 35/2017/TT-BTNMT
A56: 2 | B56: Xử lý các tệp tin quét thành tệp (File) hồ sơ quét dạng số của thửa đất, lưu trữ dưới khuôn dạng tệp tin PDF (ở định dạng không chỉnh sửa được) | C56: Trang | D56: 1KS1 | E56: 0.004 | F56: 2 | G56: Xử lý các tệp tin quét thành các tệp tin theo quy định về dữ liệu đất đai phi cấu trúc; lưu trữ dưới định dạng tệp tin PDF (ở định dạng không chỉnh sửa được); chất lượng hình ảnh số phải sắc nét và rõ ràng, các hình ảnh được sắp xếp theo cùng một hướng, hình ảnh phải được quét vuông góc, không được cong vênh | H56: Trang | I56: 1KS1 | J56: 0.004 | K56: Sử dụng phương pháp so sánh và phân tích nội dung thực hiện giữa Thông tư số 05/2017/TT-BTNMT (Thông tư quy trình cũ) với Thông tư số 25/2024/TT-BTNMT (Thông tư quy trình mới) thì nội dung công việc là tương đồng nhau, định mức công không thay đổi so với định mức công cũ của Thông tư số 35/2017/TT-BTNMT
A57: 3 | B57: Tạo liên kết hồ sơ quét dạng số với thửa đất trong CSDL | C57: Thửa | D57: 1KS1 | E57: 0.01 | F57: 3 | G57: Nhập thông tin mô tả của dữ liệu phi cấu trúc và tạo liên kết dữ liệu đất đai phi cấu trúc với thửa đất trong cơ sở dữ liệu. | H57: Thửa | I57: 1KS1 | J57: 0.0101 | K57: Sử dụng phương pháp so sánh và phân tích nội dung thực hiện giữa Thông tư số 05/2017/TT-BTNMT (Thông tư quy trình cũ) với Thông tư số 25/2024/TT-BTNMT (Thông tư quy trình mới) thì đây là nội dung công việc mới, được hình thành bởi 2 nội dung: - Nhập thông tin mô tả của dữ liệu phi cấu trúc; - Tạo liên kết dữ liệu đất đai phi cấu trúc với thửa đất trong cơ sở dữ liệu. Sau khi tính thử, làm thử và sử dụng phương pháp so sánh với các nội dung của định mức đã thực hiện trong điều kiện có thể so sánh được để tính toán thì: - Nội dung công việc: Nhập thông tin mô tả của dữ liệu phi cấu trúc có Định mức công tương đương với nội dung công việc tại bước 7.2. Nhập thông tin siêu dữ liệu địa chính cho từng đơn vị hành chính cấp xã - Nội dung công việc: Tạo liên kết dữ liệu đất đai phi cấu trúc với thửa đất trong cơ sở dữ liệu có định mức công không thay đổi so với định mức công cũ của Thông tư số 35/2017/TT-BTNMT. Như vậy định mức công của nội dung công việc trên là: 0.0101
F58: 4 | G58: Vận chuyển, bàn giao tài liệu cho đơn vị quản lý hồ sơ, tài liệu | H58: Thửa | I58: Nhóm 2 (1KTV4+1KS3) | J58: 0.0038 | K58: Đây là nội dung công việc mới quy định tại Thông tư số 25/2024/TT-BTNMT. Sau khi tính thử, làm thử và sử dụng phương pháp so sánh, phân tích, thống kê, tổng hợp và kinh nghiệm đưa ra mức công việc 1 ngày Vận chuyển tài liệu thu thập đến địa điểm thực hiện số hóa 2 Kỳ kiểm kê (năm thống kê). KS3 sử dụng cho việc lựa chọn sắp xếp tài liệu, KTV4 làm nhiệm vụ vận chuyển, hỗ trợ cho KS3
A59: II. | B59: Chuyển đổi, bổ sung, hoàn thiện CSDL địa chính đã xây dựng trước ngày 01 tháng 8 năm 2016 (ngày Thông tư số 75/2015/TT-BTNMT có hiệu lực thi hành) | F59: II. | G59: QUY TRÌNH KỸ THUẬT CHUYỂN ĐỔI, BỔ SUNG, HOÀN THIỆNCƠ SỞ DỮ LIỆU ĐỊA CHÍNH ĐÃ XÂY DỰNG TRƯỚC NGÀY 01 THÁNG 8 NĂM 2024 (NGÀY THÔNG TƯ SỐ 09/2024/TT-BTNMT CÓ HIỆU LỰC THI HÀNH)
A60: II.1 | B60: Chuyển đổi, bổ sung hoàn thiện dữ liệu địa chính (Không bao gồm nội dung xây dựng dữ liệu không gian đất đai nền) - Bảng số 17 | F60: II.1 | G60: Chuyển đổi, bổ sung hoàn thiện dữ liệu địa chính (Không bao gồm nội dung xây dựng dữ liệu không gian đất đai nền)
A61: 1 | B61: Công tác chuẩn bị | F61: 1 | G61: Công tác chuẩn bị
A62: 1.1 | B62: Lập kế hoạch thi công chi tiết: Xác định thời gian, địa điểm, khối lượng và nhân lực thực hiện của từng bước công việc; lập kế hoạch làm việc với các đơn vị có liên quan đến công tác chuyển đổi, bổ sung, hoàn thiện CSDL địa chính trên địa bàn thi công | C62: Thửa | D62: Nhóm 2 (1KTV2+1KS4) | E62: 0.0003 | F62: 1.1 | G62: Lập kế hoạch thi công chi tiết: xác định thời gian, địa điểm, khối lượng và nhân lực thực hiện của từng bước công việc; lập kế hoạch làm việc với các đơn vị có liên quan đến công tác chuyển đổi, bổ sung, hoàn thiện cơ sở dữ liệu địa chính trên địa bàn thi công. | H62: Thửa | I62: Nhóm 2 (1KTV2+1KS4) | J62: 0.0003 | K62: Sử dụng phương pháp so sánh và phân tích nội dung thực hiện giữa Thông tư số 05/2017/TT-BTNMT (Thông tư quy trình cũ) với Thông tư số 25/2024/TT-BTNMT (Thông tư quy trình mới) thì nội dung công việc là tương đồng nhau, định mức công không thay đổi so với định mức công cũ của Thông tư số 35/2017/TT-BTNMT
A63: 1.2 | B63: Chuẩn bị nhân lực, địa điểm làm việc; chuẩn bị vật tư, thiết bị, dụng cụ, cài đặt phần mềm phục vụ cho công tác chuyển đổi, bổ sung, hoàn thiện CSDL địa chính | C63: Thửa | D63: Nhóm 2 (1KTV4+1KS2) | E63: 0.0003 | F63: 1.2 | G63: Chuẩn bị nhân lực, địa điểm làm việc; chuẩn bị vật tư, thiết bị, dụng cụ, cài đặt phần mềm phục vụ cho công tác chuyển đổi, bổ sung, hoàn thiện CSDL địa chính | H63: Thửa | I63: Nhóm 2 (1KTV4+1KS2) | J63: 0.0003 | K63: Sử dụng phương pháp so sánh và phân tích nội dung thực hiện giữa Thông tư số 05/2017/TT-BTNMT (Thông tư quy trình cũ) với Thông tư số 25/2024/TT-BTNMT (Thông tư quy trình mới) thì nội dung công việc là tương đồng nhau. Sau khi tính thử, làm thử và sử dụng phương pháp so sánh với định mức đã thực hiện trong điều kiện có thể so sánh được để tính toán thì định mức công không thay đổi so với định mức công cũ của Thông tư số 35/2017/TT-BTNMT
A64: 2 | B64: Chuyển đổi dữ liệu địa chính | C64: Thửa | F64: 2 | G64: Chuyển đổi dữ liệu địa chính | H64: Thửa
A65: 2.1 | B65: Lập mô hình chuyển đổi cấu trúc dữ liệu của CSDL địa chính đã xây dựng sang cấu trúc dữ liệu hiện hành | C65: Thửa | D65: 1KS3 | E65: 0.001 | F65: 2.1 | G65: Lập mô hình chuyển đổi cấu trúc dữ liệu của cơ sở dữ liệu địa chính đã xây dựng sang cấu trúc dữ liệu của cơ sở dữ liệu quốc gia về đất đai. | H65: Thửa | I65: 1KS3 | J65: 0.001 | K65: Sử dụng phương pháp so sánh và phân tích nội dung thực hiện giữa Thông tư số 05/2017/TT-BTNMT (Thông tư quy trình cũ) với Thông tư số 25/2024/TT-BTNMT (Thông tư quy trình mới) thì nội dung công việc là tương đồng nhau. Sau khi tính thử, làm thử và sử dụng phương pháp so sánh với định mức đã thực hiện trong điều kiện có thể so sánh được để tính toán thì định mức công không thay đổi so với định mức công cũ của Thông tư số 35/2017/TT-BTNMT
A66: 2.2 | B66: Chuyển đổi cấu trúc dữ liệu không gian địa chính | C66: Thửa | D66: 1KS2 | E66: 0.0003 | F66: 2.2 | G66: Chuyển đổi cấu trúc dữ liệu không gian địa chính | H66: Thửa | I66: 1KS2 | J66: 0.0003 | K66: Sử dụng phương pháp so sánh và phân tích nội dung thực hiện giữa Thông tư số 05/2017/TT-BTNMT (Thông tư quy trình cũ) với Thông tư số 25/2024/TT-BTNMT (Thông tư quy trình mới) thì nội dung công việc là tương đồng nhau. Sau khi tính thử, làm thử và sử dụng phương pháp so sánh với định mức đã thực hiện trong điều kiện có thể so sánh được để tính toán thì định mức công không thay đổi so với định mức công cũ của Thông tư số 35/2017/TT-BTNMT
A67: 2.3 | B67: Chuyển đổi cấu trúc dữ liệu thuộc tính địa chính | C67: Thửa | D67: 1KS2 | E67: 0.0003 | F67: 2.3 | G67: Chuyển đổi cấu trúc dữ liệu thuộc tính địa chính | H67: Thửa | I67: 1KS2 | J67: 0.0003 | K67: Sử dụng phương pháp so sánh và phân tích nội dung thực hiện giữa Thông tư số 05/2017/TT-BTNMT (Thông tư quy trình cũ) với Thông tư số 25/2024/TT-BTNMT (Thông tư quy trình mới) thì nội dung công việc là tương đồng nhau. Sau khi tính thử, làm thử và sử dụng phương pháp so sánh với định mức đã thực hiện trong điều kiện có thể so sánh được để tính toán thì định mức công không thay đổi so với định mức công cũ của Thông tư số 35/2017/TT-BTNMT
A68: 2.4 | B68: Chuyển đổi cấu trúc dữ liệu hồ sơ quét | C68: Thửa | D68: 1KS2 | E68: 0.0001 | F68: 2.4 | G68: Chuyển đổi cấu trúc dữ liệu phi cấu trúc về địa chính. | H68: Thửa | I68: 1KS2 | J68: 0.0004 | K68: Sử dụng phương pháp so sánh và phân tích nội dung thực hiện giữa Thông tư số 05/2017/TT-BTNMT (Thông tư quy trình cũ) với Thông tư số 25/2024/TT-BTNMT (Thông tư quy trình mới) thì đây là nội dung công việc mới, được hình thành bởi 2 nội dung: - Chuyển đổi cấu trúc dữ liệu phi cấu trúc về địa chính; - Chuyển đổi cấu trúc dữ liệu hồ sơ quét. Sau khi tính thử, làm thử và sử dụng phương pháp so sánh với các nội dung của định mức đã thực hiện trong điều kiện có thể so sánh được để tính toán thì: - Nội dung công việc: Chuyển đổi cấu trúc dữ liệu phi cấu trúc về địa chính có Định mức công tương đương với nội dung công việc tại bước 2.3.Chuyển đổi cấu trúc dữ liệu thuộc tính địa chính. - Nội dung công việc: Chuyển đổi cấu trúc dữ liệu hồ sơ quét có định mức công không thay đổi so với định mức công cũ của Thông tư số 35/2017/TT-BTNMT. Như vậy định mức công của nội dung công việc trên là: 0.0004
A69: 3 | B69: Bổ sung, hoàn thiện dữ liệu địa chính | C69: Thửa | F69: 3 | G69: Rà soát, bổ sung dữ liệu địa chính | H69: Thửa
F70: 3.1 | G70: Rà soát 100% số thửa đất đã thực hiện chuyển đổi theo quy định của cơ sở dữ liệu quốc gia về đất đai. | H70: Thửa | I70: 1KS3 | J70: 0.002 | K70: Sử dụng phương pháp so sánh và phân tích nội dung thực hiện giữa Thông tư số 05/2017/TT-BTNMT (Thông tư quy trình cũ) với Thông tư số 25/2024/TT-BTNMT (Thông tư quy trình mới) thì đây là nội dung công việc mới. Sau khi tính thử, làm thử và sử dụng phương pháp so sánh với các nội dung của định mức đã thực hiện trong điều kiện có thể so sánh được để tính toán thì định mức công tính ra tương đương với nội dung công việc "4.1.Thực hiện hoàn thiện 100% thông tin trong CSDL đã được chuyển đổi, bổ sung"
A71: 3.1 | B71: Rà soát, bổ sung dữ liệu không gian địa chính | C71: Thửa | D71: 1KS1 | E71: 0.0013 | F71: 3.2 | G71: Rà soát, bổ sung dữ liệu không gian địa chính | H71: Thửa | I71: 1KS1 | J71: 0.0013 | K71: Sử dụng phương pháp so sánh và phân tích nội dung thực hiện giữa Thông tư số 05/2017/TT-BTNMT (Thông tư quy trình cũ) với Thông tư số 25/2024/TT-BTNMT (Thông tư quy trình mới) thì nội dung công việc là tương đồng nhau, định mức công không thay đổi so với định mức công cũ của Thông tư số 35/2017/TT-BTNMT
A72: 3.2 | B72: Rà soát, bổ sung dữ liệu thuộc tính địa chính | C72: Thửa | D72: 1KS1 | E72: 0.0137 | F72: 3.3 | G72: Rà soát, bổ sung dữ liệu thuộc tính địa chính | H72: Thửa | I72: 1KS1 | J72: 0.0137 | K72: Sử dụng phương pháp so sánh và phân tích nội dung thực hiện giữa Thông tư số 05/2017/TT-BTNMT (Thông tư quy trình cũ) với Thông tư số 25/2024/TT-BTNMT (Thông tư quy trình mới) thì nội dung công việc là tương đồng nhau. Sau khi tính thử, làm thử và sử dụng phương pháp so sánh với định mức đã thực hiện trong điều kiện có thể so sánh được để tính toán thì định mức công không thay đổi so với định mức công cũ của Thông tư số 35/2017/TT-BTNMT
L73: Phải có ghi chú về tính định mức cho bước này. Áp dụng theo từng bước của Quy trình 1
F74: 4 | G74: Hoàn thiện dữ liệu địa chính
A75: 3.3 | B75: Thực hiện hoàn thiện 100% thông tin trong CSDL đã được chuyển đổi, bổ sung | C75: Thửa | D75: 1KS3 | E75: 0.002 | F75: 4.1 | G75: Thực hiện rà soát đảm bảo 100% thông tin trong cơ sở dữ liệu tuân thủ theo đúng quy định về nội dung, cấu trúc, kiểu thông tin của cơ sở dữ liệu quốc gia về đất đai sau khi chuyển đổi, bổ sung. | H75: Thửa | I75: 1KS3 | J75: 0.002 | K75: Sử dụng phương pháp so sánh và phân tích nội dung thực hiện giữa Thông tư số 05/2017/TT-BTNMT (Thông tư quy trình cũ) với Thông tư số 25/2024/TT-BTNMT (Thông tư quy trình mới) thì nội dung công việc là tương đồng nhau. Sau khi tính thử, làm thử và sử dụng phương pháp so sánh với định mức đã thực hiện trong điều kiện có thể so sánh được để tính toán thì định mức công không thay đổi so với định mức công cũ của Thông tư số 35/2017/TT-BTNMT
A76: 3.4 | B76: Thực hiện xuất Sổ địa chính (điện tử) đối với những thửa đất chưa có Sổ địa chính (điện tử) | C76: Thửa | D76: 1KS3 | E76: 0.0025 | F76: 4.2 | G76: Thực hiện xuất sổ địa chính theo quy định đối với những thửa đất chưa có sổ địa chính hoặc nội dung đã thay đổi. | H76: Thửa | I76: 1KS3 | J76: 0.0025 | K76: Sử dụng phương pháp so sánh và phân tích nội dung thực hiện giữa Thông tư số 05/2017/TT-BTNMT (Thông tư quy trình cũ) với Thông tư số 25/2024/TT-BTNMT (Thông tư quy trình mới) thì nội dung công việc là tương đồng nhau. Sau khi tính thử, làm thử và sử dụng phương pháp so sánh với định mức đã thực hiện trong điều kiện có thể so sánh được để tính toán thì định mức công không thay đổi so với định mức công cũ của Thông tư số 35/2017/TT-BTNMT
A77: 4 | B77: Xây dựng siêu dữ liệu địa chính | C77: Thửa | F77: 5 | G77: Xây dựng siêu dữ liệu địa chính | H77: Thửa
A78: 4.1 | B78: Chuyển đổi siêu dữ liệu địa chính | C78: Thửa | D78: 1KS3 | E78: 0.0001 | F78: 5.1 | G78: Chuyển đổi siêu dữ liệu địa chính | H78: Thửa | I78: 1KS3 | J78: 0.0001 | K78: Sử dụng phương pháp so sánh và phân tích nội dung thực hiện giữa Thông tư số 05/2017/TT-BTNMT (Thông tư quy trình cũ) với Thông tư số 25/2024/TT-BTNMT (Thông tư quy trình mới) thì nội dung công việc là tương đồng nhau, định mức công không thay đổi so với định mức công cũ của Thông tư số 35/2017/TT-BTNMT
A79: 4.2 | B79: Thu nhận bổ sung các thông tin cần thiết để xây dựng siêu dữ liệu địa chính (thu nhận bổ sung thông tin) | C79: Thửa | D79: 1KS2 | E79: 0.0019 | F79: 5.2 | G79: Thu nhận bổ sung các thông tin cần thiết để xây dựng siêu dữ liệu địa chính (thu nhận bổ sung thông tin) | H79: Thửa | I79: 1KS2 | J79: 0.0019 | K79: Sử dụng phương pháp so sánh và phân tích nội dung thực hiện giữa Thông tư số 05/2017/TT-BTNMT (Thông tư quy trình cũ) với Thông tư số 25/2024/TT-BTNMT (Thông tư quy trình mới) thì nội dung công việc là tương đồng nhau, định mức công không thay đổi so với định mức công cũ của Thông tư số 35/2017/TT-BTNMT
A80: 4.3 | B80: Nhập bổ sung thông tin siêu dữ liệu địa chính cho từng đơn vị hành chính cấp xã | C80: Thửa | D80: 1KS1 | E80: 0.0001 | F80: 5.3 | G80: Nhập bổ sung thông tin cho siêu dữ liệu địa chính theo từng đơn vị hành chính cấp xã đối với phạm vi cơ sở dữ liệu địa chính đã được xây dựng và được cập nhật khi có thay đổi thông tin. | H80: Thửa | I80: 1KS1 | J80: 0.0001 | K80: Sử dụng phương pháp so sánh và phân tích nội dung thực hiện giữa Thông tư số 05/2017/TT-BTNMT (Thông tư quy trình cũ) với Thông tư số 25/2024/TT-BTNMT (Thông tư quy trình mới) thì nội dung công việc là tương đồng nhau, định mức công không thay đổi so với định mức công cũ của Thông tư số 35/2017/TT-BTNMT
A81: 5 | B81: Đối soát dữ liệu (do Văn phòng Đăng ký đất đai thực hiện) | C81: Thửa | F81: 6 | G81: Đối soát, tích hợp dữ liệu vào hệ thống
A82: 5.1 | B82: Đối soát thông tin của thửa đất trong CSDL đã được chuyển đổi, bổ sung với nguồn tài liệu, dữ liệu đã sử dụng để xây dựng CSDL đối với trường hợp phải xuất mới sổ địa chính (điện tử) | C82: Thửa | D82: 1KS1 | E82: 0.005 | F82: 6.1 | G82: Đối soát thông tin của thửa đất trong cơ sở dữ liệu đã được chuyển đổi, bổ sung với nguồn tài liệu, dữ liệu đã sử dụng để xây dựng cơ sở dữ liệu đối với trường hợp phải xuất mới sổ địa chính. | H82: Thửa | I82: 1KS1 | J82: 0.005 | K82: Sử dụng phương pháp so sánh và phân tích nội dung thực hiện giữa Thông tư số 05/2017/TT-BTNMT (Thông tư quy trình cũ) với Thông tư số 25/2024/TT-BTNMT (Thông tư quy trình mới) thì nội dung công việc là tương đồng nhau, định mức công không thay đổi so với định mức công cũ của Thông tư số 35/2017/TT-BTNMT
A83: 5.2 | B83: Thực hiện ký số vào sổ địa chính (điện tử) đối với trường hợp xuất mới sổ địa chính (điện tử) | C83: Thửa | D83: 1KS4 | E83: 0.005 | F83: 6.2 | G83: Thực hiện ký số sổ địa chính đối với trường hợp phải xuất mới sổ địa chính. | H83: Thửa | I83: 1KS4 | J83: 0.005 | K83: Sử dụng phương pháp so sánh và phân tích nội dung thực hiện giữa Thông tư số 05/2017/TT-BTNMT (Thông tư quy trình cũ) với Thông tư số 25/2024/TT-BTNMT (Thông tư quy trình mới) thì nội dung công việc là tương đồng nhau, định mức công không thay đổi so với định mức công cũ của Thông tư số 35/2017/TT-BTNMT
F84: 6.3 | G84: Tích hợp dữ liệu sau khi chuyển đổi, bổ sung vào hệ thống đang quản lý, vận hành cơ sở dữ liệu đất đai ở địa phương. | H84: Thửa | I84: 1KS3 | J84: 0.01 | K84: Sử dụng phương pháp so sánh và phân tích nội dung thực hiện giữa Thông tư số 05/2017/TT-BTNMT (Thông tư quy trình cũ) với Thông tư số 25/2024/TT-BTNMT (Thông tư quy trình mới) thì đây là nội dung công việc mới. Sau khi tính thử, làm thử và sử dụng phương pháp so sánh với các nội dung của định mức đã thực hiện trong điều kiện có thể so sánh được để tính toán thì định mức công tính ra tương đương với nội dung công việc "8.3.Tích hợp dữ liệu đã được đối soát vào hệ thống đang quản lý, vận hành cơ sở dữ liệu đất đai ở địa phương."
A85: 6 | B85: Phục vụ kiểm tra, nghiệm thu CSDL địa chính | C85: Thửa
B86: Chuẩn bị tư liệu, tài liệu và phục vụ giám sát, kiểm tra, nghiệm thu; tổng hợp, xác định khối lượng sản phẩm đã thực hiện khi kết thúc công trình; lập biên bản bàn giao dữ liệu địa chính | C86: Thửa | D86: 1KTV4 | E86: 0.001
F87: 7 | G87: Bổ sung, hoàn thiện cơ sở dữ liệu địa chính đã được xây dựng theo quy định của Thông tư số 75/2015/TT-BTNMT quy định kỹ thuật về cơ sở dữ liệu đất đai | K87: Sử dụng phương pháp so sánh và phân tích nội dung thực hiện giữa Thông tư số 05/2017/TT-BTNMT (Thông tư quy trình cũ) với Thông tư số 25/2024/TT-BTNMT (Thông tư quy trình mới) thì đây là nội dung công việc mới.
F88: 7.1 | G88: Chuyển đổi nội dung, cấu trúc, kiểu thông tin của cơ sở dữ liệu địa chính. | H88: Thửa | I88: 1KS2 | J88: 0.001 | K88: Sử dụng phương pháp so sánh và phân tích nội dung thực hiện giữa Thông tư số 05/2017/TT-BTNMT (Thông tư quy trình cũ) với Thông tư số 25/2024/TT-BTNMT (Thông tư quy trình mới) thì đây là nội dung công việc mới. Sau khi tính thử, làm thử và sử dụng phương pháp so sánh với các nội dung của định mức đã thực hiện trong điều kiện có thể so sánh được để tính toán thì nội dung công việc của bước này gồm: - 2.2. Chuyển đổi cấu trúc dữ liệu không gian địa chính; - 2.3. Chuyển đổi cấu trúc dữ liệu thuộc tính địa chính - 2.4. Chuyển đổi cấu trúc dữ liệu phi cấu trúc về địa chính. - 1.2. Chuyển đổi các lớp đối tượng không gian đất đai nền từ tệp (File) bản đồ số vào CSDL - 1.3. Xây dựng, bổ sung lớp tim đường cho lớp giao thông dạng vùng đối với trường hợp trên bản đồ địa chính chưa có lớp tim đường theo phân cấp đường giao thông. Lớp tim đường được xác định là đường trung tâm (center line) của đối tượng đường giao thông; Do đó, định mức công của nội dung công việc này bằng tổng mức công của các nội dung công việc trên sau khi thực hiện tính thử và làm thử, cụ thể định mức công là: 12.0001
F89: 7.2 | G89: Rà soát, bổ sung dữ liệu không gian đất đai nền, dữ liệu không gian địa chính. | H89: Thửa | I89: 1KS1 | J89: 0.0013 | K89: Sử dụng phương pháp so sánh và phân tích nội dung thực hiện giữa Thông tư số 05/2017/TT-BTNMT (Thông tư quy trình cũ) với Thông tư số 25/2024/TT-BTNMT (Thông tư quy trình mới) thì đây là nội dung công việc mới. Sau khi tính thử, làm thử và sử dụng phương pháp so sánh với các nội dung của định mức đã thực hiện trong điều kiện có thể so sánh được để tính toán thì định mức công tính ra tương đương với nội dung công việc "3.2. Rà soát, bổ sung dữ liệu không gian địa chính "
F90: 7.3 | G90: Rà soát, bổ sung dữ liệu thuộc tính địa chính. | H90: Thửa | I90: 1KS1 | J90: 0.0137 | K90: Sử dụng phương pháp so sánh và phân tích nội dung thực hiện giữa Thông tư số 05/2017/TT-BTNMT (Thông tư quy trình cũ) với Thông tư số 25/2024/TT-BTNMT (Thông tư quy trình mới) thì đây là nội dung công việc mới. Sau khi tính thử, làm thử và sử dụng phương pháp so sánh với các nội dung của định mức đã thực hiện trong điều kiện có thể so sánh được để tính toán thì định mức công tính ra tương đương với nội dung công việc "3.2. Rà soát, bổ sung dữ liệu thuộc tính địa chính"
F91: 7.4 | G91: Rà soát, bổ sung siêu dữ liệu địa chính. | H91: Thửa | I91: 1KS1 | J91: 0.0001 | K91: Sử dụng phương pháp so sánh và phân tích nội dung thực hiện giữa Thông tư số 05/2017/TT-BTNMT (Thông tư quy trình cũ) với Thông tư số 25/2024/TT-BTNMT (Thông tư quy trình mới) thì đây là nội dung công việc mới. Sau khi tính thử, làm thử và sử dụng phương pháp so sánh với các nội dung của định mức đã thực hiện trong điều kiện có thể so sánh được để tính toán thì định mức công tính ra tương đương với nội dung công việc "7.2.Nhập thông tin siêu dữ liệu địa chính cho từng đơn vị hành chính cấp xã"
A93: II.2 | B93: Xây dựng dữ liệu không gian đất đai nền - Bảng số 18
A94: 1 | B94: Xây dựng dữ liệu không gian đất đai nền | F94: 1 | G94: Chuyển đổi, bổ sung dữ liệu không gian đất đai nền
A95: 1.1 | B95: Tách, lọc và chuẩn hóa các lớp đối tượng không gian đất đai nền | C95: Xã | D95: 1KS3 | E95: 6 | F95: 1.1 | G95: Tách, lọc và chuyển đổi dữ liệu không gian đất đai nền từ dữ liệu không gian của cơ sở dữ liệu địa chính đã có | H95: Xã | I95: 1KS3 | J95: 6 | K95: Sử dụng phương pháp so sánh và phân tích nội dung thực hiện giữa Thông tư số 05/2017/TT-BTNMT (Thông tư quy trình cũ) với Thông tư số 25/2024/TT-BTNMT (Thông tư quy trình mới) thì nội dung công việc là tương đồng nhau, định mức công không thay đổi so với định mức công cũ của Thông tư số 35/2017/TT-BTNMT
A96: 1.2 | B96: Chuyển đổi các lớp đối tượng không gian đất đai nền từ tệp (File) bản đồ số vào CSDL | C96: Xã | D96: 1KS3 | E96: 2 | F96: 1.2 | G96: Chuyển đổi các lớp đối tượng không gian đất đai nền từ tệp (File) bản đồ số vào CSDL | H96: Xã | I96: 1KS3 | J96: 2 | K96: Sử dụng phương pháp so sánh và phân tích nội dung thực hiện giữa Thông tư số 05/2017/TT-BTNMT (Thông tư quy trình cũ) với Thông tư số 25/2024/TT-BTNMT (Thông tư quy trình mới) thì nội dung công việc là tương đồng nhau. Sau khi tính thử, làm thử và sử dụng phương pháp so sánh với định mức đã thực hiện trong điều kiện có thể so sánh được để tính toán thì định mức công không thay đổi so với định mức công cũ của Thông tư số 35/2017/TT-BTNMT
F97: 1.3 | G97: Xây dựng, bổ sung lớp tim đường cho lớp giao thông dạng vùng đối với trường hợp trên bản đồ địa chính chưa có lớp tim đường theo phân cấp đường giao thông. Lớp tim đường được xác định là đường trung tâm (center line) của đối tượng đường giao thông; | H97: Xã | I97: 1KS3 | J97: 10 | K97: Sử dụng phương pháp so sánh và phân tích nội dung thực hiện giữa Thông tư số 05/2017/TT-BTNMT (Thông tư quy trình cũ) với Thông tư số 25/2024/TT-BTNMT (Thông tư quy trình mới) thì đây là nội dung công việc mới. Sau khi tính thử, làm thử và sử dụng phương pháp so sánh với các nội dung của định mức đã thực hiện trong điều kiện có thể so sánh được để tính toán thì định mức công tính ra tương đương với nội dung công việc "1.4.Gộp các thành phần tiếp giáp nhau của cùng một đối tượng không gian đất đai nền thành một đối tượng duy nhất phù hợp với thông tin thuộc tính của đối tượng theo phạm vi đơn vị hành chính cấp xã"
A98: 2 | B98: Tích hợp dữ liệu không gian đất đai nền | C98: Xã | F98: 2 | G98: Tích hợp dữ liệu không gian đất đai nền | H98: Xã
B99: Tích hợp dữ liệu không gian đất đai nền vào CSDL đất đai để quản lý, vận hành, khai thác sử dụng | C99: Xã | D99: 1KS3 | E99: 3 | G99: Tích hợp dữ liệu không gian đất đai nền vào CSDL đất đai để quản lý, vận hành, khai thác sử dụng | H99: Xã | I99: 1KS3 | J99: 3 | K99: Sử dụng phương pháp so sánh và phân tích nội dung thực hiện giữa Thông tư số 05/2017/TT-BTNMT (Thông tư quy trình cũ) với Thông tư số 25/2024/TT-BTNMT (Thông tư quy trình mới) thì nội dung công việc là tương đồng nhau, định mức công không thay đổi so với định mức công cũ của Thông tư số 35/2017/TT-BTNMT
A100: III. | B100: Xây dựng CSDL địa chính đối với trường hợp thực hiện đồng bộ với lập, chỉnh lý bản đồ địa chính và đăng ký đất đai, cấp giấy chứng nhận - Bảng số 29 | F100: III. | G100: Xây dựng CSDL địa chính đối với trường hợp thực hiện đồng bộ với lập, chỉnh lý bản đồ địa chính và đăng ký đất đai, cấp giấy chứng nhận - Bảng số 29
A101: 1 | B101: Thu thập tài liệu, dữ liệu | F101: 1 | G101: Thu thập tài liệu, dữ liệu
...

Sheet 2. CSDL TKKK
A1: Thông tư 35/2017/TT-BTNMT ngày 04/10/2017 | F1: Dự thảo: Định mức Kinh tế kỹ thuật xây dựng cơ sở dữ liệu đất đai (Theo quy định về quy trình xây dựng cơ sở dữ liệu quốc gia về đất đai TT25/2024/TT/BTNMT) | K1: Giải trình các nội dung sửa đổi, bổ sung và xây dựng mới
A2: STT | B2: Nội dung công việc | C2: Đơn vị tính | D2: Định biên | E2: Định mức (công nhóm) | F2: STT | G2: Nội dung công việc (Thông tư số 25/2024/TT-BTNMT) | H2: Đơn vị tính | I2: Định biên | J2: Định mức (công nhóm)
A3: A | B3: XÂY DỰNG CƠ SỞ DỮ LIỆU THỐNG KÊ KIỂM KÊ ĐẤT ĐAI CẤP XÃ | F3: A | G3: XÂY DỰNG CƠ SỞ DỮ LIỆU THỐNG KÊ KIỂM KÊ ĐẤT ĐAI CẤP XÃ
A4: I | B4: Công tác chuẩn bị; Xây dựng siêu dữ liệu thống kê, kiểm kê đất đai; Phục vụ kiểm tra, nghiệm thu CSDL thống kê, kiểm kê đất đai (Bảng 33) | F4: I | G4: Công tác chuẩn bị; Xây dựng siêu dữ liệu thống kê, kiểm kê đất đai, tích hợp dữ liệu vào hệ thống (Bảng 33)
A5: 1 | B5: Công tác chuẩn bị | F5: 1 | G5: Công tác chuẩn bị
A6: 1.1 | B6: Lập kế hoạch thi công chi tiết: xác định thời gian, địa điểm, khối lượng và nhân lực thực hiện từng bước công việc; lập kế hoạch làm việc với các đơn vị có liên quan đến công tác xây dựng CSDL thống kê, kiểm kê đất đai trên địa bàn thi công | C6: Xã | D6: Nhóm 2 (1 KTV2+1KS4) | E6: 0.25 | F6: 1.1 | G6: Lập kế hoạch thi công chi tiết: xác định thời gian, địa điểm, khối lượng và nhân lực thực hiện từng bước công việc; lập kế hoạch làm việc với các đơn vị có liên quan đến công tác xây dựng cơ sở dữ liệu thống kê, kiểm kê đất đai trên địa bàn thi công | H6: Xã | I6: Nhóm 2 (1 KTV2+1KS4) | J6: 0.25 | K6: Đây là nội dung tương ứng với Mục 1.1 (I). Sử dụng phương pháp so sánh và phân tích nội dung thực hiện giữa Thông tư số 05/2017/TT-BTNMT (Thông tư quy trình cũ) với Thông tư số 25/2024/TT-BTNMT (Thông tư quy trình mới) thì nội dung công việc là tương đồng nhau, định mức công không thay đổi so với định mức công cũ của Thông tư số 35/2017/TT-BTNMT
A7: 1.2 | B7: Chuẩn bị nhân lực, địa điểm làm việc; chuẩn bị vật tư, thiết bị, dụng cụ, phần mềm phục vụ cho công tác xây dựng CSDL thống kê, kiểm kê đất đai | C7: Xã | D7: Nhóm 2 (1 KTV4+1KS2) | E7: 0.2 | F7: 1.2 | G7: Chuẩn bị nhân lực, địa điểm làm việc | H7: Xã | I7: Nhóm 2 (1 KTV4+1KS2) | J7: 0.1 | K7: Nội dung này được tách ra từ mục 1.2 (I). Sử dụng phương pháp so sánh và phân tích nội dung thực hiện giữa Thông tư số 05/2017/TT-BTNMT (Thông tư quy trình cũ) với Thông tư số 25/2024/TT-BTNMT (Thông tư quy trình mới) thì nội dung công việc là tương đồng nhau,định mức công không thay đổi so với định mức công cũ của Thông tư số 35/2017/TT-BTNMT
F8: 1.3 | G8: Chuẩn bị vật tư, thiết bị, dụng cụ, phần mềm phục vụ cho công tác xây dựng cơ sở dữ liệu thống kê, kiểm kê đất đai | H8: Xã | I8: Nhóm 2 (1 KTV4+1KS2) | J8: 0.1 | K8: Nội dung này được tách ra từ mục 1.2 (AI). Sử dụng phương pháp so sánh và phân tích nội dung thực hiện giữa Thông tư số 05/2017/TT-BTNMT (Thông tư quy trình cũ) với Thông tư số 25/2024/TT-BTNMT (Thông tư quy trình mới) thì nội dung công việc là tương đồng nhau, định mức công không thay đổi so với định mức công cũ của Thông tư số 35/2017/TT-BTNMT
A9: 2 | B9: Xây dựng siêu dữ liệu thống kê, kiểm kê đất đai | C9: Xã | F9: 2 | G9: Xây dựng siêu dữ liệu thống kê, kiểm kê đất đai | H9: Xã
A10: 2.1 | B10: Thu nhận các thông tin cần thiết để xây dựng siêu dữ liệu (thông tin mô tả dữ liệu) thống kê, kiểm kê đất đai | C10: Xã | D10: 1KS1 | E10: 0.5 | F10: 2.1 | G10: Thu nhận các thông tin cần thiết để xây dựng siêu dữ liệu (thông tin mô tả dữ liệu) thống kê, kiểm kê đất đai | H10: Xã | I10: 1KS1 | J10: 0.5 | K10: Nội dung này tương ứng mục 2.1 (I). Sử dụng phương pháp so sánh và phân tích nội dung thực hiện giữa Thông tư số 05/2017/TT-BTNMT (Thông tư quy trình cũ) với Thông tư số 25/2024/TT-BTNMT (Thông tư quy trình mới) thì nội dung công việc là tương đồng nhau, định mức công không thay đổi so với định mức công cũ của Thông tư số 35/2017/TT-BTNMT
A11: 2.2 | B11: Nhập thông tin siêu dữ liệu kiểm kê đất đai | C11: Xã | D11: 1KS1 | E11: 0.25 | F11: 2.2 | G11: Nhập thông tin siêu dữ liệu kiểm kê đất đai | H11: Xã | I11: 1KS1 | J11: 0.25 | K11: Nội dung này tương ứng với mục 2.2 (I). Sử dụng phương pháp so sánh và phân tích nội dung thực hiện giữa Thông tư số 05/2017/TT-BTNMT (Thông tư quy trình cũ) với Thông tư số 25/2024/TT-BTNMT (Thông tư quy trình mới) thì nội dung công việc là tương đồng nhau, định mức công không thay đổi so với định mức công cũ của Thông tư số 35/2017/TT-BTNMT
A12: 3 | B12: Phục vụ kiểm tra, nghiệm thu CSDL thống kê, kiểm kê đất đai | C12: Xã | K12: Theo quy định của Thông tư số 136/2017/TT-BTC thì nội dung Phục vụ kiểm tra, nghiệm thu CSDL được tính trong chi phí chung. Nên Quy trình thực hiện vẫn quy định nhưng không được tính định biên, định mức
A13: 3.1 | B13: Đơn vị thi công chuẩn bị tài liệu và phục vụ giám sát kiểm tra, nghiệm thu | C13: Xã | D13: 1KTV4 | E13: 0.15
A14: 3.2 | B14: Thực hiện kiểm tra tổng thể CSDL thống kê, kiểm kê đất đai và tích hợp vào hệ thống ngay sau khi được nghiệm thu để phục vụ quản lý, vận hành, khai thác sử dụng | C14: Xã | D14: 1KS3 | E14: 0.5 | F14: 3 | G14: Tích hợp dữ liệu vào hệ thống | H14: Xã | I14: 1KS3 | J14: 0.5 | K14: Đây là nội dung tương ứng với Mục 3,2 (I). Sử dụng phương pháp so sánh và phân tích nội dung thực hiện giữa Thông tư số 05/2017/TT-BTNMT (Thông tư quy trình cũ) với Thông tư số 25/2024/TT-BTNMT (Thông tư quy trình mới) thì nội dung công việc là tương đồng nhau, định mức công không thay đổi so với định mức công cũ của Thông tư số 35/2017/TT-BTNMT
A15: 3.3 | B15: Đóng gói giao nộp CSDL thống kê, kiểm kê đất đai | C15: Xã | D15: 1KTV4 | E15: 0.1
A16: II | B16: Thu thập tài liệu, dữ liệu; Rà soát, đánh giá, phân loại và sắp xếp tài liệu, dữ liệu;quét giấy tờ pháp lý và xử lý tệp tin; Xây dựng dữ liệu thuộc tính thống kê, kiểm kê đất đai; đối soát hoàn thiện dữ liệu thống kê, kiểm kê đất đai (bảng 34) | F16: II | G16: Thu thập tài liệu, dữ liệu; Rà soát, đánh giá, phân loại và sắp xếp tài liệu, dữ liệu;quét giấy tờ pháp lý và xử lý tệp tin; Xây dựng dữ liệu thuộc tính thống kê, kiểm kê đất đai; đối soát hoàn thiện dữ liệu thống kê, kiểm kê đất đai (bảng 34)
A17: 1 | B17: Thu thập tài liệu, dữ liệu | F17: 1 | G17: Thu thập tài liệu, dữ liệu
A18: 1.1 | B18: Thu thập tài liệu, dữ liệu thống kê | C18: Kỳ kiểm kê (năm thống kê) | D18: 1KS3 | E18: 0.1 | F18: 1.1 | G18: Thu thập tài liệu, dữ liệu thống kê | H18: Kỳ kiểm kê (năm thống kê) | I18: 1KS3 | J18: 0.1 | K18: Nội dung này tương ứng với mục 1.1 (II). Sử dụng phương pháp so sánh và phân tích nội dung thực hiện giữa Thông tư số 05/2017/TT-BTNMT (Thông tư quy trình cũ) với Thông tư số 25/2024/TT-BTNMT (Thông tư quy trình mới) thì nội dung công việc là tương đồng nhau, định mức công không thay đổi so với định mức công cũ của Thông tư số 35/2017/TT-BTNMT
A19: 1.2 | B19: Thu thập tài liệu, dữ liệu kiểm kê | C19: Kỳ kiểm kê (năm thống kê) | D19: Nhóm 2 (1KTV4 + 1KS3) | E19: 0.25 | F19: 1.2 | G19: Thu thập tài liệu, dữ liệu kiểm kê | H19: Kỳ kiểm kê (năm thống kê) | I19: Nhóm 2 (1KTV4 + 1KS3) | J19: 0.25 | K19: Nội dung này tương ứng với mục 1.2 (II). Sử dụng phương pháp so sánh và phân tích nội dung thực hiện giữa Thông tư số 05/2017/TT-BTNMT (Thông tư quy trình cũ) với Thông tư số 25/2024/TT-BTNMT (Thông tư quy trình mới) thì nội dung công việc là tương đồng nhau, định mức công không thay đổi so với định mức công cũ của Thông tư số 35/2017/TT-BTNMT
F20: 1.3 | G20: Vận chuyển tài liệu thu thập đến địa điểm thực hiện số hóa | H20: Kỳ kiểm kê (năm thống kê) | I20: Nhóm 2 (1KTV4 + 1KS3) | J20: 0.25 | K20: Đây là nội dung công việc mới quy định tại Thông tư số 25/2024/TT-BTNMT. Sau khi tính thử, làm thử và sử dụng phương pháp so sánh, phân tích, thống kê, tổng hợp và kinh nghiệm đưa ra mức công việc 1 ngày Vận chuyển tài liệu thu thập đến địa điểm thực hiện số hóa 4 Kỳ kiểm kê (năm thống kê). KS3 sử dụng cho việc lựa chọn sắp xếp tài liệu, KTV4 làm nhiệm vụ vận chuyển, hỗ trợ cho KS3
A21: 2 | B21: Rà soát, đánh giá, phân loại và sắp xếp tài liệu, dữ liệu | C21: Kỳ kiểm kê (năm thống kê) | F21: 2 | G21: Rà soát, đánh giá, phân loại và sắp xếp tài liệu, dữ liệu | H21: Kỳ kiểm kê (năm thống kê)
A22: 2.1 | B22: Rà soát, đánh giá, phân loại và sắp xếp tài liệu, dữ liệu thống kê và lập báo cáo kết quả thực hiện | C22: Kỳ kiểm kê (năm thống kê) | D22: 1KS3 | E22: 0.1 | F22: 2.1 | G22: Rà soát, đánh giá, phân loại và sắp xếp tài liệu, dữ liệu thống kê và lập báo cáo kết quả thực hiện theo khoản 1 Điều 60 Thông tư số 25/2024/TT-BTNMT | H22: Kỳ kiểm kê (năm thống kê) | I22: 1KS3 | J22: 0.1 | K22: Nội dung này tương ứng với mục 2.1 (II). Sử dụng phương pháp so sánh và phân tích nội dung thực hiện giữa Thông tư số 05/2017/TT-BTNMT (Thông tư quy trình cũ) với Thông tư số 25/2024/TT-BTNMT (Thông tư quy trình mới) thì nội dung công việc là tương đồng nhau, định mức công không thay đổi so với định mức công cũ của Thông tư số 35/2017/TT-BTNMT
A23: 2.2 | B23: Rà soát, đánh giá, phân loại và sắp xếp tài liệu, dữ liệu kiểm kê và lập báo cáo kết quả thực hiện | C23: Kỳ kiểm kê (năm thống kê) | D23: Nhóm 2 (1KTV4 + 1KS3) | E23: 0.2 | F23: 2.2 | G23: Rà soát, đánh giá, phân loại và sắp xếp tài liệu, dữ liệu kiểm kê và lập báo cáo kết quả thực hiện theo khoản 1 Điều 60 Thông tư số 25/2024/TT-BTNMT | H23: Kỳ kiểm kê (năm thống kê) | I23: Nhóm 2 (1KTV4 + 1KS3) | J23: 0.2 | K23: Nội dung này tương ứng với mục 2.2 (II). Sử dụng phương pháp so sánh và phân tích nội dung thực hiện giữa Thông tư số 05/2017/TT-BTNMT (Thông tư quy trình cũ) với Thông tư số 25/2024/TT-BTNMT (Thông tư quy trình mới) thì nội dung công việc là tương đồng nhau, định mức công không thay đổi so với định mức công cũ của Thông tư số 35/2017/TT-BTNMT
A24: 3 | B24: Quét giấy tờ pháp lý và xử lý tệp tin | C24: Kỳ kiểm kê (năm thống kê) | F24: 3 | G24: Xây dựng dữ liệu đất đai phi cấu trúc về thống kê, kiểm kê đất đai | H24: Kỳ kiểm kê (năm thống kê)
B25: Tạo danh mục tra cứu hồ sơ quét trong CSDL thống kê, kiểm kê đất đai | C25: Kỳ kiểm kê (năm thống kê) | D25: 1KS1 | E25: 0.1 | F25: 3.1 | G25: Nhập thông tin mô tả của dữ liệu phi cấu trúc và tạo liên kết giữa dữ liệu phi cấu trúc về thống kê, kiểm kê đất đai với các đối tượng không gian | H25: Kỳ kiểm kê (năm thống kê) | I25: 1KS1 | J25: 0.2 | K25: Nội dung này tương ứng với mục 3(II). Sử dụng phương pháp so sánh và phân tích nội dung thực hiện giữa Thông tư số 05/2017/TT-BTNMT (Thông tư quy trình cũ) với Thông tư số 25/2024/TT-BTNMT (Thông tư quy trình mới) thì nội dung công việc là tương đồng nhau. Sau khi tính thử, làm thử và sử dụng phương pháp so sánh, phân tích, thống kê, tổng hợp và kinh nghiệm với định mức đã thực hiện tại tỉnh Hưng Yên và các tỉnh khác tương tự trong điều kiện có thể so sánh được để tính toán thì định mức công được bổ sung 0.1 công so với định mức công cũ của Thông tư số 35/2017/TT-BTNMT do bao gồm cả "Tạo danh mục tra cứu hồ sơ quét trong CSDL thống kê, kiểm kê đất đai và "Đối với các tài liệu dạng số"
F26: 3.2 | G26: Đối với các tài liệu dạng số mà không liên kết với các đối tượng không gian thì tạo danh mục tra cứu dữ liệu phi cấu trúc trong cơ sở dữ liệu thống kê, kiểm kê đất đai | H26: Kỳ kiểm kê (năm thống kê) | I26: 1KS1 | J26: 0.1 | K26: Nội dung này tương ứng với mục 3(II). Sử dụng phương pháp so sánh và phân tích nội dung thực hiện giữa Thông tư số 05/2017/TT-BTNMT (Thông tư quy trình cũ) với Thông tư số 25/2024/TT-BTNMT (Thông tư quy trình mới) thì nội dung công việc là tương đồng nhau. Sau khi tính thử, làm thử và sử dụng phương pháp so sánh, phân tích, thống kê, tổng hợp và kinh nghiệm với định mức đã thực hiện tại tỉnh Hưng Yên và các tỉnh khác tương tự trong điều kiện có thể so sánh được để tính toán thì định mức công không thay đổi so với định mức công cũ của Thông tư số 35/2017/TT-BTNMT
F27: 3.3 | G27: Vận chuyển, bàn giao tài liệu cho đơn vị quản lý hồ sơ, tài liệu | H27: Kỳ kiểm kê (năm thống kê) | I27: Nhóm 2 (1KTV4 + 1KS3) | J27: 0.25 | K27: Đây là nội dung công việc mới quy định tại Thông tư số 25/2024/TT-BTNMT. Sau khi tính thử, làm thử và sử dụng phương pháp so sánh, phân tích, thống kê, tổng hợp và kinh nghiệm đưa ra mức công việc 1 ngày Vận chuyển tài liệu thu thập đến địa điểm thực hiện số hóa 4 Kỳ kiểm kê (năm thống kê). KS3 sử dụng cho việc lựa chọn sắp xếp tài liệu, KTV4 làm nhiệm vụ vận chuyển, hỗ trợ cho KS3
A28: 4 | B28: Xây dựng dữ liệu thuộc tính thống kê, kiểm kê đất đai | C28: Kỳ kiểm kê (năm thống kê) | G28: Xây dựng dữ liệu thuộc tính thống kê, kiểm kê đất đai
A29: 4.1 | B29: Đối với tài liệu, số liệu là bảng, biểu dạng số | C29: Kỳ kiểm kê (năm thống kê) | K29: Đây là nội dung công việc đã được lược bỏ và thay đổi phương pháp thực hiện theo quy định tại Thông tư số 25/2024/TT-BTNMT nên không được tính định biên và định mức cho nội dung này
A30: 4.1.1 | B30: Lập mô hình chuyển đổi CSDL thống kê, kiểm kê đất đai | C30: Kỳ kiểm kê (năm thống kê) | D30: 1KS3 | E30: 0.2 | K30: Đây là nội dung công việc đã được lược bỏ và thay đổi phương pháp thực hiện theo quy định tại Thông tư số 25/2024/TT-BTNMT nên không được tính định biên và định mức cho nội dung này
A31: 4.1.2 | B31: Chuyển đổi vào CSDL thống kê, kiểm kê đất đai | C31: Kỳ kiểm kê (năm thống kê) | D31: 1KS2 | E31: 0.4 | K31: Đây là nội dung công việc đã được lược bỏ và thay đổi phương pháp thực hiện theo quy định tại Thông tư số 25/2024/TT-BTNMT nên không được tính định biên và định mức cho nội dung này
F32: 4.1 | G32: Nhóm dữ liệu thống kê, kiểm kê đất đai cấp xã | H32: Kỳ kiểm kê (năm thống kê) | I32: 1KS2 | J32: 0.2 | K32: Đây là nội dung công việc quy định tại Thông tư số 25/2024/TT-BTNMT. Sau khi tính thử, làm thử và sử dụng phương pháp so sánh, phân tích, thống kê, tổng hợp và kinh nghiệm đưa ra mức công việc 1 ngày nhập thông tin mô tả của dữ liệu phi cấu trúc và tạo liên kết giữa dữ liệu phi cấu trúc về thống kê, kiểm kê đất đai với các đối tượng không gian cho 5Kỳ kiểm kê (năm thống kê) với định biên là KS2
A33: 4.2 | B33: Đối với tài liệu, số liệu là báo cáo dạng số thì tạo danh mục tra cứu trong CSDL thống kê, kiểm kê đất đai | C33: Kỳ kiểm kê (năm thống kê) | D33: 1KS2 | E33: 0.2 | F33: 4.2 | G33: Nhóm dữ liệu kiểm kê đất đai chuyên đề | H33: Kỳ kiểm kê (năm thống kê) | I33: 1KS2 | J33: 0.2 | K33: Nội dung này tương ứng với mục 4.2 (II). Sử dụng phương pháp so sánh và phân tích nội dung thực hiện giữa Thông tư số 05/2017/TT-BTNMT (Thông tư quy trình cũ) với Thông tư số 25/2024/TT-BTNMT (Thông tư quy trình mới) thì nội dung công việc là tương đồng nhau, định mức công không thay đổi so với định mức công cũ của Thông tư số 35/2017/TT-BTNMT
A34: 5 | B34: Đối soát, hoàn thiện dữ liệu thống kê, kiểm kê đất đai | C34: Kỳ kiểm kê (năm thống kê) | F34: 5 | G34: Đối soát, hoàn thiện dữ liệu thống kê, kiểm kê đất đai | H34: Kỳ kiểm kê (năm thống kê)
A35: 5.1 | B35: Đối soát, hoàn thiện dữ liệu thống kê đất đai | C35: Kỳ kiểm kê (năm thống kê) | D35: 1KS3 | E35: 0.4 | F35: 5.1 | G35: Đối soát đảm bảo 100% thông tin trong cơ sở dữ liệu thống kê đất đai tuân thủ theo đúng quy định về nội dung, cấu trúc, kiểu thông tin của cơ sở dữ liệu quốc gia về đất đai | H35: Kỳ kiểm kê (năm thống kê) | I35: 1KS3 | J35: 0.4 | K35: Nội dung này tương ứng với mục 5.1 (II). Sử dụng phương pháp so sánh và phân tích nội dung thực hiện giữa Thông tư số 05/2017/TT-BTNMT (Thông tư quy trình cũ) với Thông tư số 25/2024/TT-BTNMT (Thông tư quy trình mới) thì nội dung công việc là tương đồng nhau, định mức công không thay đổi so với định mức công cũ của Thông tư số 35/2017/TT-BTNMT
A36: 5.2 | B36: Đối soát, hoàn thiện dữ liệu kiểm kê đất đai | C36: Kỳ kiểm kê (năm thống kê) | D36: Nhóm 2 (1KTV4+1KS3) | E36: 0.5 | F36: 5.2 | G36: Đối soát đảm bảo 100% thông tin trong cơ sở dữ liệu kiểm kê đất đai tuân thủ theo đúng quy định về nội dung, cấu trúc, kiểu thông tin của cơ sở dữ liệu quốc gia về đất đai | H36: Kỳ kiểm kê (năm thống kê) | I36: Nhóm 2 (1KTV4+1KS3) | J36: 0.5 | K36: Nội dung này tương ứng với mục 5.1 (II). Sử dụng phương pháp so sánh và phân tích nội dung thực hiện giữa Thông tư số 05/2017/TT-BTNMT (Thông tư quy trình cũ) với Thông tư số 25/2024/TT-BTNMT (Thông tư quy trình mới) thì nội dung công việc là tương đồng nhau, định mức công không thay đổi so với định mức công cũ của Thông tư số 35/2017/TT-BTNMT
A37: III | B37: Xây dựng dữ liệu không gian kiểm kê đất đai (Bảng 35 x bảng 36) | F37: III | G37: Xây dựng dữ liệu không gian kiểm kê đất đai (Bảng 35 x bảng 36)
A38: 1 | B38: Chuẩn hóa các lớp đối tượng không gian kiểm kê đất đai | F38: 1 | G38: Chuẩn hóa các lớp đối tượng không gian kiểm kê đất đai
A39: 1.1 | B39: Lập bảng đối chiếu giữa lớp đối tượng không gian kiểm kê đất đai với nội dung tương ứng trong bản đồ kết quả điều tra kiểm kê, bản đồ hiện trạng sử dụng đất để tách, lọc các đối tượng từ nội dung bản đồ | F39: 1.1 | G39: Lập bảng đối chiếu giữa lớp đối tượng không gian kiểm kê đất đai với nội dung tương ứng trong bản đồ kiểm kê đất đai và lập bảng đối chiếu giữa lớp đối tượng không gian kiểm kê đất đai với nội dung tương ứng trong bản đồ hiện trạng sử dụng đất để tách, lọc các đối tượng từ nội dung bản đồ kiểm kê đất đai và bản đồ hiện trạng sử dụng đất
B40: Tỷ lệ 1/1.000 | C40: Lớp dữ liệu | D40: 1KS3 | E40: =E42*0.8 -> 0.8 | G40: Tỷ lệ 1/1.000 | H40: Lớp dữ liệu | I40: 1KS3 | J40: =J42*0.8 -> 0.8 | K40: Nội dung này tương ứng với mục 1.1 (III). Sử dụng phương pháp so sánh và phân tích nội dung thực hiện giữa Thông tư số 05/2017/TT-BTNMT (Thông tư quy trình cũ) với Thông tư số 25/2024/TT-BTNMT (Thông tư quy trình mới) thì nội dung công việc là tương đồng nhau, định mức công không thay đổi so với định mức công cũ của Thông tư số 35/2017/TT-BTNMT
B41: Tỷ lệ 1/2.000 | C41: Lớp dữ liệu | D41: 1KS3 | E41: =E42*0.9 -> 0.9 | G41: Tỷ lệ 1/2.000 | H41: Lớp dữ liệu | I41: 1KS3 | J41: =J42*0.9 -> 0.9 | K41: Nội dung này tương ứng với mục 1.1 (III). Sử dụng phương pháp so sánh và phân tích nội dung thực hiện giữa Thông tư số 05/2017/TT-BTNMT (Thông tư quy trình cũ) với Thông tư số 25/2024/TT-BTNMT (Thông tư quy trình mới) thì nội dung công việc là tương đồng nhau, định mức công không thay đổi so với định mức công cũ của Thông tư số 35/2017/TT-BTNMT
B42: Tỷ lệ 1/5.000 | C42: Lớp dữ liệu | D42: 1KS3 | E42: 1 | G42: Tỷ lệ 1/5.000 | H42: Lớp dữ liệu | I42: 1KS3 | J42: 1 | K42: Nội dung này tương ứng với mục 1.1 (III). Sử dụng phương pháp so sánh và phân tích nội dung thực hiện giữa Thông tư số 05/2017/TT-BTNMT (Thông tư quy trình cũ) với Thông tư số 25/2024/TT-BTNMT (Thông tư quy trình mới) thì nội dung công việc là tương đồng nhau, định mức công không thay đổi so với định mức công cũ của Thông tư số 35/2017/TT-BTNMT
B43: Tỷ lệ 1/10.000 | C43: Lớp dữ liệu | D43: 1KS3 | E43: =E42*1.15 -> 1.15 | G43: Tỷ lệ 1/10.000 | H43: Lớp dữ liệu | I43: 1KS3 | J43: =J42*1.15 -> 1.15 | K43: Nội dung này tương ứng với mục 1.1 (III). Sử dụng phương pháp so sánh và phân tích nội dung thực hiện giữa Thông tư số 05/2017/TT-BTNMT (Thông tư quy trình cũ) với Thông tư số 25/2024/TT-BTNMT (Thông tư quy trình mới) thì nội dung công việc là tương đồng nhau, định mức công không thay đổi so với định mức công cũ của Thông tư số 35/2017/TT-BTNMT
A44: 1.2 | B44: Chuẩn hóa các lớp đối tượng không gian kiểm kê đất đai chưa phù hợp | F44: 1.2 | G44: Chuẩn hóa các lớp đối tượng không gian kiểm kê đất đai chưa phù hợp với quy định của cơ sở dữ liệu quốc gia về đất đai
B45: Tỷ lệ 1/1.000 | C45: Lớp dữ liệu | D45: 1KS3 | E45: =E47*0.8 -> 1.2 | G45: Tỷ lệ 1/1.000 | H45: Lớp dữ liệu | I45: 1KS3 | J45: =J47*0.8 -> 1.2 | K45: Nội dung này tương ứng với mục 1.2 (III). Sử dụng phương pháp so sánh và phân tích nội dung thực hiện giữa Thông tư số 05/2017/TT-BTNMT (Thông tư quy trình cũ) với Thông tư số 25/2024/TT-BTNMT (Thông tư quy trình mới) thì nội dung công việc là tương đồng nhau, định mức công không thay đổi so với định mức công cũ của Thông tư số 35/2017/TT-BTNMT
B46: Tỷ lệ 1/2.000 | C46: Lớp dữ liệu | D46: 1KS3 | E46: =E47*0.9 -> 1.35 | G46: Tỷ lệ 1/2.000 | H46: Lớp dữ liệu | I46: 1KS3 | J46: =J47*0.9 -> 1.35 | K46: Nội dung này tương ứng với mục 1.2 (III). Sử dụng phương pháp so sánh và phân tích nội dung thực hiện giữa Thông tư số 05/2017/TT-BTNMT (Thông tư quy trình cũ) với Thông tư số 25/2024/TT-BTNMT (Thông tư quy trình mới) thì nội dung công việc là tương đồng nhau, định mức công không thay đổi so với định mức công cũ của Thông tư số 35/2017/TT-BTNMT
B47: Tỷ lệ 1/5.000 | C47: Lớp dữ liệu | D47: 1KS3 | E47: 1.5 | G47: Tỷ lệ 1/5.000 | H47: Lớp dữ liệu | I47: 1KS3 | J47: 1.5 | K47: Nội dung này tương ứng với mục 1.2 (III). Sử dụng phương pháp so sánh và phân tích nội dung thực hiện giữa Thông tư số 05/2017/TT-BTNMT (Thông tư quy trình cũ) với Thông tư số 25/2024/TT-BTNMT (Thông tư quy trình mới) thì nội dung công việc là tương đồng nhau, định mức công không thay đổi so với định mức công cũ của Thông tư số 35/2017/TT-BTNMT
B48: Tỷ lệ 1/10.000 | C48: Lớp dữ liệu | D48: 1KS3 | E48: =E47*1.15 -> 1.725 | G48: Tỷ lệ 1/10.000 | H48: Lớp dữ liệu | I48: 1KS3 | J48: =J47*1.15 -> 1.725 | K48: Nội dung này tương ứng với mục 1.2 (II). Sử dụng phương pháp so sánh và phân tích nội dung thực hiện giữa Thông tư số 05/2017/TT-BTNMT (Thông tư quy trình cũ) với Thông tư số 25/2024/TT-BTNMT (Thông tư quy trình mới) thì nội dung công việc là tương đồng nhau, định mức công không thay đổi so với định mức công cũ của Thông tư số 35/2017/TT-BTNMT
A49: 1.3 | B49: Nhập bổ sung các thông tin thuộc tính cho đối tượng không gian kiểm kê đất đai còn thiếu (nếu có) | F49: 1.3 | G49: Nhập bổ sung các thông tin thuộc tính cho đối tượng không gian kiểm kê đất đai còn thiếu (nếu có)
B50: Tỷ lệ 1/1.000 | C50: Lớp dữ liệu | D50: 1KS3 | E50: =E52*0.8 -> 0.24 | G50: Tỷ lệ 1/1.000 | H50: Lớp dữ liệu | I50: 1KS3 | J50: =J52*0.8 -> 0.24 | K50: Nội dung này tương ứng với mục 1.3 (II). Sử dụng phương pháp so sánh và phân tích nội dung thực hiện giữa Thông tư số 05/2017/TT-BTNMT (Thông tư quy trình cũ) với Thông tư số 25/2024/TT-BTNMT (Thông tư quy trình mới) thì nội dung công việc là tương đồng nhau, định mức công không thay đổi so với định mức công cũ của Thông tư số 35/2017/TT-BTNMT
B51: Tỷ lệ 1/2.000 | C51: Lớp dữ liệu | D51: 1KS3 | E51: =E52*0.9 -> 0.27 | G51: Tỷ lệ 1/2.000 | H51: Lớp dữ liệu | I51: 1KS3 | J51: =J52*0.9 -> 0.27 | K51: Nội dung này tương ứng với mục 1.3 (III). Sử dụng phương pháp so sánh và phân tích nội dung thực hiện giữa Thông tư số 05/2017/TT-BTNMT (Thông tư quy trình cũ) với Thông tư số 25/2024/TT-BTNMT (Thông tư quy trình mới) thì nội dung công việc là tương đồng nhau, định mức công không thay đổi so với định mức công cũ của Thông tư số 35/2017/TT-BTNMT
B52: Tỷ lệ 1/5.000 | C52: Lớp dữ liệu | D52: 1KS3 | E52: 0.3 | G52: Tỷ lệ 1/5.000 | H52: Lớp dữ liệu | I52: 1KS3 | J52: 0.3 | K52: Nội dung này tương ứng với mục 1.3 (III). Sử dụng phương pháp so sánh và phân tích nội dung thực hiện giữa Thông tư số 05/2017/TT-BTNMT (Thông tư quy trình cũ) với Thông tư số 25/2024/TT-BTNMT (Thông tư quy trình mới) thì nội dung công việc là tương đồng nhau, định mức công không thay đổi so với định mức công cũ của Thông tư số 35/2017/TT-BTNMT
B53: Tỷ lệ 1/10.000 | C53: Lớp dữ liệu | D53: 1KS3 | E53: =E52*1.15 -> 0.345 | G53: Tỷ lệ 1/10.000 | H53: Lớp dữ liệu | I53: 1KS3 | J53: =J52*1.15 -> 0.345 | K53: Nội dung này tương ứng với mục 1.3 (III). Sử dụng phương pháp so sánh và phân tích nội dung thực hiện giữa Thông tư số 05/2017/TT-BTNMT (Thông tư quy trình cũ) với Thông tư số 25/2024/TT-BTNMT (Thông tư quy trình mới) thì nội dung công việc là tương đồng nhau, định mức công không thay đổi so với định mức công cũ của Thông tư số 35/2017/TT-BTNMT
A54: 1.4 | B54: Rà soát chuẩn hóa thông tin thuộc tính cho từng đối tượng không gian kiểm kê đất đai | F54: 1.4 | G54: Rà soát chuẩn hóa thông tin thuộc tính cho từng đối tượng không gian kiểm kê đất đai theo quy định của cơ sở dữ liệu quốc gia về đất đai; nhập bổ sung các thông tin thuộc tính cho đối tượng không gian kiểm kê đất đai còn thiếu (nếu có)
B55: Tỷ lệ 1/1.000 | C55: Lớp dữ liệu | D55: 1KS3 | E55: =E57*0.8 -> 0.8 | G55: Tỷ lệ 1/1.000 | H55: Lớp dữ liệu | I55: 1KS3 | J55: =J57*0.8 -> 0.8 | K55: Nội dung này tương ứng với mục 1.4 (III). Sử dụng phương pháp so sánh và phân tích nội dung thực hiện giữa Thông tư số 05/2017/TT-BTNMT (Thông tư quy trình cũ) với Thông tư số 25/2024/TT-BTNMT (Thông tư quy trình mới) thì nội dung công việc là tương đồng nhau, định mức công không thay đổi so với định mức công cũ của Thông tư số 35/2017/TT-BTNMT
B56: Tỷ lệ 1/2.000 | C56: Lớp dữ liệu | D56: 1KS3 | E56: =E57*0.9 -> 0.9 | G56: Tỷ lệ 1/2.000 | H56: Lớp dữ liệu | I56: 1KS3 | J56: =J57*0.9 -> 0.9 | K56: Nội dung này tương ứng với mục 1.4 (III). Sử dụng phương pháp so sánh và phân tích nội dung thực hiện giữa Thông tư số 05/2017/TT-BTNMT (Thông tư quy trình cũ) với Thông tư số 25/2024/TT-BTNMT (Thông tư quy trình mới) thì nội dung công việc là tương đồng nhau, định mức công không thay đổi so với định mức công cũ của Thông tư số 35/2017/TT-BTNMT
B57: Tỷ lệ 1/5.000 | C57: Lớp dữ liệu | D57: 1KS3 | E57: 1 | G57: Tỷ lệ 1/5.000 | H57: Lớp dữ liệu | I57: 1KS3 | J57: 1 | K57: Nội dung này tương ứng với mục 1.4 (III). Sử dụng phương pháp so sánh và phân tích nội dung thực hiện giữa Thông tư số 05/2017/TT-BTNMT (Thông tư quy trình cũ) với Thông tư số 25/2024/TT-BTNMT (Thông tư quy trình mới) thì nội dung công việc là tương đồng nhau, định mức công không thay đổi so với định mức công cũ của Thông tư số 35/2017/TT-BTNMT
B58: Tỷ lệ 1/10.000 | C58: Lớp dữ liệu | D58: 1KS3 | E58: =E57*1.15 -> 1.15 | G58: Tỷ lệ 1/10.000 | H58: Lớp dữ liệu | I58: 1KS3 | J58: =J57*1.15 -> 1.15 | K58: Nội dung này tương ứng với mục 1.4 (II). Sử dụng phương pháp so sánh và phân tích nội dung thực hiện giữa Thông tư số 05/2017/TT-BTNMT (Thông tư quy trình cũ) với Thông tư số 25/2024/TT-BTNMT (Thông tư quy trình mới) thì nội dung công việc là tương đồng nhau, định mức công không thay đổi so với định mức công cũ của Thông tư số 35/2017/TT-BTNMT
A59: 2 | B59: Chuyển đổi và tích hợp không gian kiểm kê đất đai | C59: Lớp dữ liệu | F59: 2 | G59: Chuyển đổi và tích hợp dữ liệu không gian kiểm kê đất đai | H59: Lớp dữ liệu
A60: 2.1 | B60: Chuyển đổi các lớp đối tượng không gian kiểm kê đất đai từ tệp (File) bản đồ số vào CSDL theo đơn vị hành chính | C60: Lớp dữ liệu | D60: 1KS3 | E60: 0.3 | F60: 2.1 | G60: Chuyển đổi các lớp đối tượng không gian kiểm kê đất đai từ tệp (file) bản đồ số của bản đồ kiểm kê đất đai và bản đồ hiện trạng sử dụng đất vào cơ sở dữ liệu theo đơn vị hành chính | H60: Lớp dữ liệu | I60: 1KS3 | J60: 0.3 | K60: Nội dung này tương ứng với mục 2.1 (III). Sử dụng phương pháp so sánh và phân tích nội dung thực hiện giữa Thông tư số 05/2017/TT-BTNMT (Thông tư quy trình cũ) với Thông tư số 25/2024/TT-BTNMT (Thông tư quy trình mới) thì nội dung công việc là tương đồng nhau, định mức công không thay đổi so với định mức công cũ của Thông tư số 35/2017/TT-BTNMT
A61: 2.2 | B61: Rà soát dữ liệu không gian để xử lý các lỗi dọc biên giữa các đơn vị hành chính tiếp giáp nhau | C61: Lớp dữ liệu | D61: 1KS3 | E61: 0.5 | F61: 2.2 | G61: Rà soát dữ liệu không gian để xử lý các lỗi dọc biên giữa các đơn vị hành chính tiếp giáp nhau. Trường hợp có mâu thuẫn cần xử lý đồng bộ với các loại hồ sơ có liên quan, kết quả xử lý các đối tượng còn mâu thuẫn được lập thành bảng kết quả xử lý biên các đối tượng còn mâu thuẫn theo quy định tại Phụ lục IV kèm theo Thông tư số 25/2024/TT-BTNMT | H61: Lớp dữ liệu | I61: 1KS3 | J61: 0.5 | K61: Nội dung này tương ứng với mục 2.1 (III). Sử dụng phương pháp so sánh và phân tích nội dung thực hiện giữa Thông tư số 05/2017/TT-BTNMT (Thông tư quy trình cũ) với Thông tư số 25/2024/TT-BTNMT (Thông tư quy trình mới) thì nội dung công việc là tương đồng nhau, định mức công không thay đổi so với định mức công cũ của Thông tư số 35/2017/TT-BTNMT
A62: B | B62: XÂY DỰNG CSDL THỐNG KÊ KIỂM KÊ ĐẤT ĐAI CẤP HUYỆN | F62: B | G62: XÂY DỰNG CSDL THỐNG KÊ KIỂM KÊ ĐẤT ĐAI CẤP HUYỆN
A63: I | B63: Công tác chuẩn bị; Xây dựng siêu dữ liệu thống kê, kiểm kê đất đai; Phục vụ kiểm tra, nghiệm thu CSDL thống kê, kiểm kê đất đai (Bảng 52) | F63: I | G63: Công tác chuẩn bị; Xây dựng siêu dữ liệu thống kê, kiểm kê đất đai; Phục vụ kiểm tra, nghiệm thu CSDL thống kê, kiểm kê đất đai (Bảng 52)
A64: 1 | B64: Công tác chuẩn bị | F64: 1 | G64: Công tác chuẩn bị
A65: 1.1 | B65: Lập kế hoạch thi công chi tiết: xác định thời gian, địa điểm, khối lượng và nhân lực thực hiện từng bước công việc; lập kế hoạch làm việc với các đơn vị có liên quan đến công tác xây dựng CSDL thống kê, kiểm kê đất đai trên địa bàn thi công | C65: Huyện | D65: Nhóm 2 (1 KTV2+1KS4) | E65: 1.5 | F65: 1.1 | G65: Lập kế hoạch thi công chi tiết: xác định thời gian, địa điểm, khối lượng và nhân lực thực hiện từng bước công việc; lập kế hoạch làm việc với các đơn vị có liên quan đến công tác xây dựng CSDL thống kê, kiểm kê đất đai trên địa bàn thi công | H65: Huyện | I65: Nhóm 2 (1 KTV2+1KS4) | J65: 1.5 | K65: Đây là nội dung tương ứng với Mục 1.1 (I). Sử dụng phương pháp so sánh và phân tích nội dung thực hiện giữa Thông tư số 05/2017/TT-BTNMT (Thông tư quy trình cũ) với Thông tư số 25/2024/TT-BTNMT (Thông tư quy trình mới) thì nội dung công việc là tương đồng nhau, định mức công không thay đổi so với định mức công cũ của Thông tư số 35/2017/TT-BTNMT
A66: 1.2 | B66: Chuẩn bị nhân lực, địa điểm làm việc; chuẩn bị vật tư, thiết bị, dụng cụ, phần mềm phục vụ cho công tác xây dựng CSDL thống kê, kiểm kê đất đai | C66: Huyện | D66: Nhóm 2 (1 KTV4+1KS2) | E66: 1.5 | F66: 1.2 | G66: Chuẩn bị nhân lực, địa điểm làm việc. | H66: Huyện | I66: Nhóm 2 (1 KTV4+1KS2) | J66: 1 | K66: Nội dung này được tách ra từ mục 1.2 (I). Sử dụng phương pháp so sánh và phân tích nội dung thực hiện giữa Thông tư số 05/2017/TT-BTNMT (Thông tư quy trình cũ) với Thông tư số 25/2024/TT-BTNMT (Thông tư quy trình mới) thì nội dung công việc là tương đồng nhau, định mức công không thay đổi so với định mức công cũ của Thông tư số 35/2017/TT-BTNMT
F67: 1.3 | G67: Chuẩn bị vật tư, thiết bị, dụng cụ, phần mềm phục vụ cho công tác xây dựng cơ sở dữ liệu thống kê, kiểm kê đất đai | J67: 0.5 | K67: Nội dung này được tách ra từ mục 1.2 (I). Sử dụng phương pháp so sánh và phân tích nội dung thực hiện giữa Thông tư số 05/2017/TT-BTNMT (Thông tư quy trình cũ) với Thông tư số 25/2024/TT-BTNMT (Thông tư quy trình mới) thì nội dung công việc là tương đồng nhau, định mức công không thay đổi so với định mức công cũ của Thông tư số 35/2017/TT-BTNMT
A68: 2 | B68: Xây dựng siêu dữ liệu thống kê, kiểm kê đất đai | C68: Huyện | F68: 2 | G68: Xây dựng siêu dữ liệu thống kê, kiểm kê đất đai | H68: Huyện
A69: 2.1 | B69: Thu nhận các thông tin cần thiết để xây dựng siêu dữ liệu (thông tin mô tả dữ liệu) thống kê, kiểm kê đất đai | C69: Huyện | D69: 1KS1 | E69: 1 | F69: 2.1 | G69: =G10 -> Thu nhận các thông tin cần thiết để xây dựng siêu dữ liệu (thông tin mô tả dữ liệu) thống kê, kiểm kê đất đai | H69: Huyện | I69: 1KS1 | J69: 1 | K69: Nội dung này tương ứng với mục 1.2 (I). Sử dụng phương pháp so sánh và phân tích nội dung thực hiện giữa Thông tư số 05/2017/TT-BTNMT (Thông tư quy trình cũ) với Thông tư số 25/2024/TT-BTNMT (Thông tư quy trình mới) thì nội dung công việc là tương đồng nhau, định mức công không thay đổi so với định mức công cũ của Thông tư số 35/2017/TT-BTNMT
A70: 2.2 | B70: Nhập thông tin siêu dữ liệu kiểm kê đất đai | C70: Huyện | D70: 1KS1 | E70: 0.5 | F70: 2.2 | G70: =G11 -> Nhập thông tin siêu dữ liệu kiểm kê đất đai | H70: Huyện | I70: 1KS1 | J70: 0.5 | K70: Nội dung này tương ứng với mục 1.2 (I). Sử dụng phương pháp so sánh và phân tích nội dung thực hiện giữa Thông tư số 05/2017/TT-BTNMT (Thông tư quy trình cũ) với Thông tư số 25/2024/TT-BTNMT (Thông tư quy trình mới) thì nội dung công việc là tương đồng nhau, định mức công không thay đổi so với định mức công cũ của Thông tư số 35/2017/TT-BTNMT
A71: 3 | B71: Phục vụ kiểm tra, nghiệm thu CSDL thống kê, kiểm kê đất đai | C71: Huyện | K71: Theo quy định của Thông tư số 136/2017/TT-BTC thì nội dung Phục vụ kiểm tra, nghiệm thu CSDL được tính trong chi phí chung. Nên Quy trình thực hiện vẫn quy định nhưng không được tính định biên, định mức
A72: 3.1 | B72: Đơn vị thi công chuẩn bị tài liệu và phục vụ giám sát kiểm tra, nghiệm thu | C72: Huyện | D72: 1KTV4 | E72: 1 | K72: Theo quy định của Thông tư số 136/2017/TT-BTC thì nội dung Phục vụ kiểm tra, nghiệm thu CSDL được tính trong chi phí chung. Nên Quy trình thực hiện vẫn quy định nhưng không được tính định biên, định mức
A73: 3.2 | B73: Thực hiện kiểm tra tổng thể CSDL thống kê, kiểm kê đất đai và tích hợp vào hệ thống ngay sau khi được nghiệm thu để phục vụ quản lý, vận hành, khai thác sử dụng | C73: Huyện | D73: 1KS3 | E73: 2 | K73: Theo quy định của Thông tư số 136/2017/TT-BTC thì nội dung Phục vụ kiểm tra, nghiệm thu CSDL được tính trong chi phí chung. Nên Quy trình thực hiện vẫn quy định nhưng không được tính định biên, định mức
A74: 3.3 | B74: Đóng gói giao nộp CSDL thống kê, kiểm kê đất đai | C74: Huyện | D74: 1KTV4 | E74: 1 | K74: Theo quy định của Thông tư số 136/2017/TT-BTC thì nội dung Phục vụ kiểm tra, nghiệm thu CSDL được tính trong chi phí chung. Nên Quy trình thực hiện vẫn quy định nhưng không được tính định biên, định mức
A75: II | B75: Thu thập tài liệu, dữ liệu; Rà soát, đánh giá, phân loại và sắp xếp tài liệu, dữ liệu;quét giấy tờ pháp lý và xử lý tệp tin; Xây dựng dữ liệu thuộc tính thống kê, kiểm kê đất đai; đối soát hoàn thiện dữ liệu thống kê, kiểm kê đất đai (bảng 53) | F75: II | G75: Thu thập tài liệu, dữ liệu; Rà soát, đánh giá, phân loại và sắp xếp tài liệu, dữ liệu;quét giấy tờ pháp lý và xử lý tệp tin; Xây dựng dữ liệu thuộc tính thống kê, kiểm kê đất đai; đối soát hoàn thiện dữ liệu thống kê, kiểm kê đất đai (bảng 53)
A76: 1 | B76: Thu thập tài liệu, dữ liệu | F76: 1 | G76: Thu thập tài liệu, dữ liệu
A77: 1.1 | B77: Thu thập tài liệu, dữ liệu thống kê | C77: Kỳ kiểm kê (năm thống kê) | D77: 1KS3 | E77: 0.1 | F77: 1.1 | G77: Thu thập tài liệu, dữ liệu thống kê | H77: Kỳ kiểm kê (năm thống kê) | I77: 1KS3 | J77: 0.1 | K77: Nội dung này tương ứng với mục 1.1 (II). Sử dụng phương pháp so sánh và phân tích nội dung thực hiện giữa Thông tư số 05/2017/TT-BTNMT (Thông tư quy trình cũ) với Thông tư số 25/2024/TT-BTNMT (Thông tư quy trình mới) thì nội dung công việc là tương đồng nhau, định mức công không thay đổi so với định mức công cũ của Thông tư số 35/2017/TT-BTNMT
A78: 1.2 | B78: Thu thập tài liệu, dữ liệu kiểm kê | C78: Kỳ kiểm kê (năm thống kê) | D78: Nhóm 2(1KTV4 + 1KS3) | E78: 0.5 | F78: 1.2 | G78: Thu thập tài liệu, dữ liệu kiểm kê | H78: Kỳ kiểm kê (năm thống kê) | I78: Nhóm 2(1KTV4 + 1KS3) | J78: 0.5 | K78: Nội dung này tương ứng với mục 1.2 (II). Sử dụng phương pháp so sánh và phân tích nội dung thực hiện giữa Thông tư số 05/2017/TT-BTNMT (Thông tư quy trình cũ) với Thông tư số 25/2024/TT-BTNMT (Thông tư quy trình mới) thì nội dung công việc là tương đồng nhau, định mức công không thay đổi so với định mức công cũ của Thông tư số 35/2017/TT-BTNMT
F79: 1.3 | G79: Vận chuyển tài liệu thu thập đến địa điểm thực hiện số hóa | H79: Kỳ kiểm kê (năm thống kê) | I79: Nhóm 2 (1KTV4 + 1KS3) | J79: 0.25 | K79: Đây là nội dung công việc mới quy định tại Thông tư số 25/2024/TT-BTNMT. Sau khi tính thử, làm thử và sử dụng phương pháp so sánh, phân tích, thống kê, tổng hợp và kinh nghiệm đưa ra mức công việc 1 ngày Vận chuyển tài liệu thu thập đến địa điểm thực hiện số hóa 4 Kỳ kiểm kê (năm thống kê). KS3 sử dụng cho việc lựa chọn sắp xếp tài liệu, KTV4 làm nhiệm vụ vận chuyển, hỗ trợ cho KS3
A80: 2 | B80: Rà soát, đánh giá, phân loại và sắp xếp tài liệu, dữ liệu | C80: Kỳ kiểm kê (năm thống kê) | F80: 2 | G80: Rà soát, đánh giá, phân loại và sắp xếp tài liệu, dữ liệu | H80: Kỳ kiểm kê (năm thống kê)
A81: 2.1 | B81: Rà soát, đánh giá, phân loại và sắp xếp tài liệu, dữ liệu thống kê và lập báo cáo kết quả thực hiện | C81: Kỳ kiểm kê (năm thống kê) | D81: 1KS3 | E81: 0.5 | F81: 2.1 | G81: Rà soát, đánh giá, phân loại và sắp xếp tài liệu, dữ liệu thống kê và lập báo cáo kết quả thực hiện theo khoản 1 Điều 60 Thông tư số 25/2024/TT-BTNMT | H81: Kỳ kiểm kê (năm thống kê) | I81: 1KS3 | J81: 0.5 | K81: Nội dung này tương ứng với mục 2.1 (II). Sử dụng phương pháp so sánh và phân tích nội dung thực hiện giữa Thông tư số 05/2017/TT-BTNMT (Thông tư quy trình cũ) với Thông tư số 25/2024/TT-BTNMT (Thông tư quy trình mới) thì nội dung công việc là tương đồng nhau, định mức công không thay đổi so với định mức công cũ của Thông tư số 35/2017/TT-BTNMT
A82: 2.2 | B82: Rà soát, đánh giá, phân loại và sắp xếp tài liệu, dữ liệu kiểm kê và lập báo cáo kết quả thực hiện | C82: Kỳ kiểm kê (năm thống kê) | D82: Nhóm 2(1KTV4 + 1KS3) | E82: 1.5 | F82: 2.2 | G82: Rà soát, đánh giá, phân loại và sắp xếp tài liệu, dữ liệu kiểm kê và lập báo cáo kết quả thực hiện theo khoản 1 Điều 60 Thông tư số 25/2024/TT-BTNMT | H82: Kỳ kiểm kê (năm thống kê) | I82: Nhóm 2(1KTV4 + 1KS3) | J82: 1.5 | K82: Nội dung này tương ứng với mục 2.2 (II). Sử dụng phương pháp so sánh và phân tích nội dung thực hiện giữa Thông tư số 05/2017/TT-BTNMT (Thông tư quy trình cũ) với Thông tư số 25/2024/TT-BTNMT (Thông tư quy trình mới) thì nội dung công việc là tương đồng nhau, định mức công không thay đổi so với định mức công cũ của Thông tư số 35/2017/TT-BTNMT
A83: 3 | B83: Quét giấy tờ pháp lý và xử lý tệp tin | C83: Kỳ kiểm kê (năm thống kê) | F83: 3 | G83: =G24 -> Xây dựng dữ liệu đất đai phi cấu trúc về thống kê, kiểm kê đất đai | H83: Kỳ kiểm kê (năm thống kê)
F84: =F25 -> 3.1 | G84: =G25 -> Nhập thông tin mô tả của dữ liệu phi cấu trúc và tạo liên kết giữa dữ liệu phi cấu trúc về thống kê, kiểm kê đất đai với các đối tượng không gian | K84: Tính bằng xây dựng CSDL thống kê, kiểm kê cấp xã
F85: =#REF! -> #REF! | G85: =#REF! -> #REF! | H85: =#REF! -> #REF! | I85: =#REF! -> #REF! | J85: =#REF! -> #REF! | K85: Tính bằng xây dựng CSDL thống kê, kiểm kê cấp xã
F86: =#REF! -> #REF! | G86: =#REF! -> #REF! | H86: =#REF! -> #REF! | I86: =#REF! -> #REF! | J86: =#REF! -> #REF! | K86: Tính bằng xây dựng CSDL thống kê, kiểm kê cấp xã
F87: =F26 -> 3.2 | G87: =G26 -> Đối với các tài liệu dạng số mà không liên kết với các đối tượng không gian thì tạo danh mục tra cứu dữ liệu phi cấu trúc trong cơ sở dữ liệu thống kê, kiểm kê đất đai | H87: =H26 -> Kỳ kiểm kê (năm thống kê) | I87: =I26 -> 1KS1 | J87: =J26 -> 0.1 | K87: Tính bằng xây dựng CSDL thống kê, kiểm kê cấp xã
F88: =F27 -> 3.3 | G88: =G27 -> Vận chuyển, bàn giao tài liệu cho đơn vị quản lý hồ sơ, tài liệu | H88: =H27 -> Kỳ kiểm kê (năm thống kê) | I88: =I27 -> Nhóm 2 (1KTV4 + 1KS3) | J88: =J27 -> 0.25 | K88: Tính bằng xây dựng CSDL thống kê, kiểm kê cấp xã
B89: Tạo danh mục tra cứu hồ sơ quét trong CSDL thống kê, kiểm kê đất đai | C89: Kỳ kiểm kê (năm thống kê) | D89: 1KS1 | E89: 0.5 | F89: 3.4 | G89: =#REF! -> #REF! | H89: Kỳ kiểm kê (năm thống kê) | I89: =#REF! -> #REF! | J89: 0.5 | K89: Sử dụng phương pháp so sánh và phân tích nội dung thực hiện giữa Thông tư số 05/2017/TT-BTNMT (Thông tư quy trình cũ) với Thông tư số 25/2024/TT-BTNMT (Thông tư quy trình mới) thì nội dung công việc là tương đồng nhau, định mức công không thay đổi so với định mức công cũ của Thông tư số 35/2017/TT-BTNMT
F90: 3.4 | G90: =#REF! -> #REF! | H90: Kỳ kiểm kê (năm thống kê) | I90: =#REF! -> #REF! | J90: =#REF! -> #REF! | K90: Đây là nội dung công việc mới quy định tại Thông tư số 25/2024/TT-BTNMT. Sau khi tính thử, làm thử và sử dụng phương pháp so sánh, phân tích, thống kê, tổng hợp và kinh nghiệm đưa ra mức công việc 1 ngày Vận chuyển tài liệu thu thập đến địa điểm thực hiện số hóa 4 Kỳ kiểm kê (năm thống kê). KS3 sử dụng cho việc lựa chọn sắp xếp tài liệu, KTV4 làm nhiệm vụ vận chuyển, hỗ trợ cho KS3
A91: 4 | B91: Xây dựng dữ liệu thuộc tính thống kê, kiểm kê đất đai | C91: Kỳ kiểm kê (năm thống kê)
A92: 4.1 | B92: Đối với tài liệu, số liệu là bảng, biểu dạng số | C92: Kỳ kiểm kê (năm thống kê) | K92: Đây là nội dung công việc đã được lược bỏ và thay đổi phương pháp thực hiện theo quy định tại Thông tư số 25/2024/TT-BTNMT nên không được tính định biên và định mức cho nội dung này
A93: 4.1.1 | B93: Lập mô hình chuyển đổi CSDL thống kê, kiểm kê đất đai | C93: Kỳ kiểm kê (năm thống kê) | D93: 1KS3 | E93: 0.2 | K93: Đây là nội dung công việc đã được lược bỏ và thay đổi phương pháp thực hiện theo quy định tại Thông tư số 25/2024/TT-BTNMT nên không được tính định biên và định mức cho nội dung này
A94: 4.1.2 | B94: Chuyển đổi vào CSDL thống kê, kiểm kê đất đai | C94: Kỳ kiểm kê (năm thống kê) | D94: 1KS2 | E94: 0.4 | K94: Đây là nội dung công việc đã được lược bỏ và thay đổi phương pháp thực hiện theo quy định tại Thông tư số 25/2024/TT-BTNMT nên không được tính định biên và định mức cho nội dung này
F95: =F32 -> 4.1 | G95: =G32 -> Nhóm dữ liệu thống kê, kiểm kê đất đai cấp xã | H95: =H32 -> Kỳ kiểm kê (năm thống kê) | I95: =I32 -> 1KS2 | J95: =J32 -> 0.2 | K95: Đây là nội dung công việc quy định tại Thông tư số 25/2024/TT-BTNMT. Sau khi tính thử, làm thử và sử dụng phương pháp so sánh, phân tích, thống kê, tổng hợp và kinh nghiệm đưa ra mức công việc 1 ngày nhập thông tin mô tả của dữ liệu phi cấu trúc và tạo liên kết giữa dữ liệu phi cấu trúc về thống kê, kiểm kê đất đai với các đối tượng không gian cho 5Kỳ kiểm kê (năm thống kê) với định biên là KS2
A96: 4.2 | B96: Đối với tài liệu, số liệu là báo cáo dạng số thì tạo danh mục tra cứu trong CSDL thống kê, kiểm kê đất đai | C96: Kỳ kiểm kê (năm thống kê) | D96: 1KS2 | E96: 0.2 | F96: 4.2 | G96: Đối với tài liệu, số liệu là báo cáo dạng số thì tạo danh mục tra cứu trong CSDL thống kê, kiểm kê đất đai | H96: Kỳ kiểm kê (năm thống kê) | I96: 1KS2 | J96: 0.2 | K96: Nội dung này tương ứng với mục 4.2 (II). Sử dụng phương pháp so sánh và phân tích nội dung thực hiện giữa Thông tư số 05/2017/TT-BTNMT (Thông tư quy trình cũ) với Thông tư số 25/2024/TT-BTNMT (Thông tư quy trình mới) thì nội dung công việc là tương đồng nhau, định mức công không thay đổi so với định mức công cũ của Thông tư số 35/2017/TT-BTNMT
A97: 5 | B97: Đối soát, hoàn thiện dữ liệu thống kê, kiểm kê đất đai | C97: Kỳ kiểm kê (năm thống kê) | F97: 5 | G97: Đối soát, hoàn thiện dữ liệu thống kê, kiểm kê đất đai | H97: Kỳ kiểm kê (năm thống kê)
A98: 5.1 | B98: Đối soát, hoàn thiện dữ liệu thống kê đất đai | C98: Kỳ kiểm kê (năm thống kê) | D98: 1KS3 | E98: 0.5 | F98: 5.1 | G98: =G35 -> Đối soát đảm bảo 100% thông tin trong cơ sở dữ liệu thống kê đất đai tuân thủ theo đúng quy định về nội dung, cấu trúc, kiểu thông tin của cơ sở dữ liệu quốc gia về đất đai | H98: Kỳ kiểm kê (năm thống kê) | I98: 1KS3 | J98: 0.5 | K98: Nội dung này tương ứng với mục 5.1 (II). Sử dụng phương pháp so sánh và phân tích nội dung thực hiện giữa Thông tư số 05/2017/TT-BTNMT (Thông tư quy trình cũ) với Thông tư số 25/2024/TT-BTNMT (Thông tư quy trình mới) thì nội dung công việc là tương đồng nhau, định mức công không thay đổi so với định mức công cũ của Thông tư số 35/2017/TT-BTNMT
A99: 5.2 | B99: Đối soát, hoàn thiện dữ liệu kiểm kê đất đai | C99: Kỳ kiểm kê (năm thống kê) | D99: Nhóm 2 (1KTV4+1KS3) | E99: 1 | F99: 5.2 | G99: =G36 -> Đối soát đảm bảo 100% thông tin trong cơ sở dữ liệu kiểm kê đất đai tuân thủ theo đúng quy định về nội dung, cấu trúc, kiểu thông tin của cơ sở dữ liệu quốc gia về đất đai | H99: Kỳ kiểm kê (năm thống kê) | I99: Nhóm 2 (1KTV4+1KS3) | J99: 1 | K99: Nội dung này tương ứng với mục 5.1 (II). Sử dụng phương pháp so sánh và phân tích nội dung thực hiện giữa Thông tư số 05/2017/TT-BTNMT (Thông tư quy trình cũ) với Thông tư số 25/2024/TT-BTNMT (Thông tư quy trình mới) thì nội dung công việc là tương đồng nhau, định mức công không thay đổi so với định mức công cũ của Thông tư số 35/2017/TT-BTNMT
A100: III | B100: Xây dựng dữ liệu không gian kiểm kê đất đai (Bảng 54 x 55) | F100: III | G100: Xây dựng dữ liệu không gian kiểm kê đất đai (Bảng 54 x 55)
...

Sheet 3. CSDL QHKH
A1: Thông tư 35/2017/TT-BTNMT ngày 04/10/2017 | F1: Dự thảo: Định mức Kinh tế kỹ thuật xây dựng cơ sở dữ liệu đất đai (Theo quy định về quy trình xây dựng cơ sở dữ liệu quốc gia về đất đai | K1: Giải trình các nội dung sửa đổi, bổ sung và xây dựng mới
A2: STT | B2: Nội dung công việc | C2: Đơn vị tính | D2: Định biên | E2: Định mức (công nhóm) | F2: STT | G2: Nội dung công việc | H2: Đơn vị tính | I2: Định biên | J2: Định mức (công nhóm)
A3: STT | B3: Tên sản phẩm | C3: Đơn vị tính | D3: Định biên | E3: Định mức | F3: STT | G3: Tên sản phẩm | H3: Đơn vị tính | I3: Định biên | J3: Định mức
A4: A | B4: XÂY DỰNG CƠ SỞ DỮ LIỆU QUY HOẠCH, KẾ HOẠCH SỬ DỤNG ĐẤT CẤP HUYỆN CỦA CÁC KỲ TRƯỚC | F4: A | G4: XÂY DỰNG CƠ SỞ DỮ LIỆU QUY HOẠCH, KẾ HOẠCH SỬ DỤNG ĐẤT CẤP XÃ CỦA CÁC KỲ TRƯỚC (TT25/2024/TT-BTNMT)
A5: I | B5: Công tác chuẩn bị; xây dựng siêu dữ liệu quy hoạch, kế hoạch sử dụng đất; kiểm tra, nghiệm thu CSDL quy hoạch, kế hoạch sử dụng đất (Bảng109) | F5: I | G5: Công tác chuẩn bị; xây dựng siêu dữ liệu quy hoạch, kế hoạch sử dụng đất; kiểm tra, tích hợp dữ liệu vào hệ thống (Bảng90)
A6: 1 | B6: Công tác chuẩn bị | F6: 1 | G6: Công tác chuẩn bị
A7: 1.1 | B7: Lập kế hoạch thi công chi tiết: xác định thời gian, địa điểm, khối lượng và nhân lực thực hiện của từng bước công việc; kế hoạch làm việc với các đơn vị có liên quan đến công tác xây dựng CSDL quy hoạch, kế hoạch sử dụng đất trên địa bàn thi công | C7: huyện | D7: Nhóm 2 (1 KTV2+1KS4) | E7: 2 | F7: 1.1 | G7: Lập kế hoạch thi công chi tiết: xác định thời gian, địa điểm, khối lượng và nhân lực thực hiện của từng bước công việc; kế hoạch làm việc với các đơn vị có liên quan đến công tác xây dựng cơ sở dữ liệu quy hoạch, kế hoạch sử dụng đất trên địa bàn thi công | H7: Xã | I7: Nhóm 2 (1 KTV2+1KS4) | J7: 2 | K7: Đây là nội dung tương ứng với Mục 1.1 (I). Sử dụng phương pháp so sánh và phân tích nội dung thực hiện giữa Thông tư số 05/2017/TT-BTNMT (Thông tư quy trình cũ) với Thông tư số 25/2024/TT-BTNMT (Thông tư quy trình mới) thì nội dung công việc là tương đồng nhau, định mức công không thay đổi so với định mức công cũ của Thông tư số 35/2017/TT-BTNMT
A8: 1.2 | B8: Chuẩn bị nhân lực, địa điểm làm việc; chuẩn bị vật tư, thiết bị, dụng cụ, phần mềm cho công tác xây dựng CSDL quy hoạch, kế hoạch sử dụng đất. | C8: huyện | D8: Nhóm 2 (1 KTV4+1KS2) | E8: 2 | F8: 1.2 | G8: Chuẩn bị nhân lực, địa điểm làm việc | H8: Xã | I8: Nhóm 2 (1 KTV4+1KS2) | J8: 1 | K8: Nội dung này được tách ra từ mục 1.2 (I). Sử dụng phương pháp so sánh và phân tích nội dung thực hiện giữa Thông tư số 05/2017/TT-BTNMT (Thông tư quy trình cũ) với Thông tư số 25/2024/TT-BTNMT (Thông tư quy trình mới) thì nội dung công việc là tương đồng nhau, định mức công không thay đổi so với định mức công cũ của Thông tư số 35/2017/TT-BTNMT
F9: 1.3 | G9: Chuẩn bị vật tư, thiết bị, dụng cụ, phần mềm cho công tác xây dựng cơ sở dữ liệu quy hoạch, kế hoạch sử dụng đất | H9: Xã | I9: Nhóm 2 (1 KTV4+1KS2) | J9: 1 | K9: Nội dung này được tách ra từ mục 1.2 (AI). Sử dụng phương pháp so sánh và phân tích nội dung thực hiện giữa Thông tư số 05/2017/TT-BTNMT (Thông tư quy trình cũ) với Thông tư số 25/2024/TT-BTNMT (Thông tư quy trình mới) thì nội dung công việc là tương đồng nhau, định mức công không thay đổi so với định mức công cũ của Thông tư số 35/2017/TT-BTNMT
A10: 2 | B10: Xây dựng siêu dữ liệu quy hoạch, kế hoạch sử dụng đất | F10: 2 | G10: Xây dựng siêu dữ liệu quy hoạch, kế hoạch sử dụng đất
A11: 2.1 | B11: Thu nhận các thông tin cần thiết để xây dựng siêu dữ liệu (thông tin mô tả dữ liệu) quy hoạch, kế hoạch sử dụng đất | C11: huyện | D11: 1KS1 | E11: 3 | F11: 2.1 | G11: Thu nhận các thông tin cần thiết để xây dựng siêu dữ liệu | H11: Xã | I11: 1KS1 | J11: 3 | K11: Đây là nội dung tương ứng với Mục 2.1 (I). Sử dụng phương pháp so sánh và phân tích nội dung thực hiện giữa Thông tư số 05/2017/TT-BTNMT (Thông tư quy trình cũ) với Thông tư số 25/2024/TT-BTNMT (Thông tư quy trình mới) thì nội dung công việc là tương đồng nhau. Sau khi tính thử, làm thử, định mức công không thay đổi so với định mức công cũ của Thông tư số 35/2017/TT-BTNMT
A12: 2.2 | B12: Nhập thông tin siêu dữ liệu quy hoạch, kế hoạch sử dụng đất | C12: huyện | D12: 1KS1 | E12: 1 | F12: 2.2 | G12: Nhập thông tin siêu dữ liệu quy hoạch, kế hoạch sử dụng đất | H12: Xã | I12: 1KS1 | J12: 1 | K12: Đây là nội dung tương ứng với Mục 2,2 (I). Sử dụng phương pháp so sánh và phân tích nội dung thực hiện giữa Thông tư số 05/2017/TT-BTNMT (Thông tư quy trình cũ) với Thông tư số 25/2024/TT-BTNMT (Thông tư quy trình mới) thì nội dung công việc là tương đồng nhau. Sau khi tính thử, làm thử, định mức công không thay đổi so với định mức công cũ của Thông tư số 35/2017/TT-BTNMT
A13: 3 | B13: Kiểm tra, nghiệm thu CSDL quy hoạch, kế hoạch sử dụng đất | C13: huyện | K13: Theo quy định của Thông tư số 136/2017/TT-BTC thì nội dung Phục vụ kiểm tra, nghiệm thu CSDL được tính trong chi phí chung. Nên Quy trình thực hiện vẫn quy định nhưng không được tính định biên, định mức
A14: 3.1 | B14: Đơn vị thi công chuẩn bị tài liệu và phục vụ giám sát kiểm tra, nghiệm thu | C14: huyện | D14: 1KTV4 | E14: 2
A15: 3.2 | B15: Thực hiện kiểm tra tổng thể CSDL quy hoạch, kế hoạch sử dụng đất và tích hợp vào hệ thống ngay sau khi được nghiệm thu phục vụ quản lý, vận hành, khai thác sử dụng | C15: huyện | D15: 1KS3 | E15: 5 | F15: 3 | G15: Tích hợp dữ liệu vào hệ thống | H15: Xã | I15: 1KS3 | J15: 5 | K15: Đây là nội dung tương ứng với Mục 3,2 (I). Sử dụng phương pháp so sánh và phân tích nội dung thực hiện giữa Thông tư số 05/2017/TT-BTNMT (Thông tư quy trình cũ) với Thông tư số 25/2024/TT-BTNMT (Thông tư quy trình mới) thì nội dung công việc là tương đồng nhau, định mức công không thay đổi so với định mức công cũ của Thông tư số 35/2017/TT-BTNMT
A16: 3.3 | B16: Đóng gói giao nộp CSDL quy hoạch, kế hoạch sử dụng đất | C16: huyện | D16: 1KTV4 | E16: 2
A17: II | B17: Thu thập tài liệu, dữ liệu; rà soát, đánh giá, phân loại và sắp xếp tài liệu, dữ liệu; quét giấy tờ pháp lý và xử lý tệp tin; xây dựng dữ liệu thuộc tính quy hoạch, kế hoạch sử dụng đất; đối soát hoàn thiện dữ liệu quy hoạch, kế hoạch sử dụng đất(bảng110) | F17: II | G17: Thu thập tài liệu, dữ liệu; rà soát, đánh giá, phân loại và sắp xếp tài liệu, dữ liệu; quét giấy tờ pháp lý và xử lý tệp tin; xây dựng dữ liệu thuộc tính quy hoạch, kế hoạch sử dụng đất; đối soát hoàn thiện dữ liệu quy hoạch, kế hoạch sử dụng đất(bảng110)
A18: 1 | B18: Thu thập tài liệu, dữ liệu | C18: Kỳ QH (năm kế hoạch) | D18: Nhóm 2(1KTV4 + 1KS3) | E18: 4 | F18: 1 | G18: Thu thập tài liệu, dữ liệu
F19: 1.1 | G19: Tài liệu, dữ liệu được thu thập cho việc xây dựng cơ sở dữ liệu quy hoạch, kế hoạch sử dụng đất cấp huyện gồm: Quyết định của Ủy ban nhân dân cấp tỉnh; báo cáo thuyết minh tổng hợp; bản đồ hiện trạng sử dụng đất; bản đồ quy hoạch sử dụng đất và bản đồ điều chỉnh quy hoạch sử dụng đất, bản đồ kế hoạch sử dụng đất năm đầu của quy hoạch sử dụng đất cấp huyện và bản đồ kế hoạch sử dụng đất hằng năm cấp huyện; bản đồ quy hoạch chung hoặc quy hoạch phân khu (nếu có) | H19: Kỳ QH (năm kế hoạch) | I19: Nhóm 2(1KTV4 + 1KS3) | J19: 4 | K19: Nội dung này tương ứng với mục 1 (II). Sử dụng phương pháp so sánh và phân tích nội dung thực hiện giữa Thông tư số 05/2017/TT-BTNMT (Thông tư quy trình cũ) với Thông tư số 25/2024/TT-BTNMT (Thông tư quy trình mới) thì nội dung công việc là tương đồng nhau. Sau khi tính thử, làm thử, định mức công không thay đổi so với định mức công cũ của Thông tư số 35/2017/TT-BTNMT
F20: 1.2 | G20: Vận chuyển tài liệu thu thập đến địa điểm thực hiện số hóa | H20: Kỳ QH (năm kế hoạch) | I20: Nhóm 2(1KTV4 + 1KS3) | J20: 0.25 | K20: Đây là nội dung công việc mới quy định tại Thông tư số 25/2024/TT-BTNMT. Sau khi tính thử, làm thử và sử dụng phương pháp so sánh, phân tích, thống kê, tổng hợp và kinh nghiệm đưa ra mức công việc 1 ngày Vận chuyển tài liệu thu thập đến địa điểm thực hiện số hóa Kỳ kiểm kê (năm thống kê). KS3 sử dụng cho việc lựa chọn sắp xếp tài liệu, KTV4 làm nhiệm vụ vận chuyển, hỗ trợ cho KS3
A21: 2 | B21: Rà soát, đánh giá, phân loại và sắp xếp tài liệu, dữ liệu | F21: 2 | G21: Rà soát, đánh giá, phân loại và sắp xếp tài liệu, dữ liệu
A22: 2.1 | B22: Rà soát, đánh giá mức độ đầy đủ về các thành phần, nội dung của tài liệu, dữ liệu; xác định được thời gian xây dựng, mức độ đầy đủ thông tin, tính pháp lý của từng tài liệu, dữ liệu để lựa chọn sử dụng cho việc xây dựng CSDL quy hoạch, kế hoạch sử dụng đất | C22: Kỳ QH (năm kế hoạch) | D22: 1KS3 | F22: 2.1 | G22: Rà soát, đánh giá mức độ đầy đủ về các thành phần, nội dung của tài liệu, dữ liệu; xác định được thời gian xây dựng, mức độ đầy đủ thông tin của từng tài liệu, dữ liệu để lựa chọn sử dụng cho việc xây dựng cơ sở dữ liệu quy hoạch, kế hoạch sử dụng đất | H22: Kỳ QH (năm kế hoạch) | I22: 1KS3 | K22: Nội dung này tương ứng với mục 2.1 (II). Sử dụng phương pháp so sánh và phân tích nội dung thực hiện giữa Thông tư số 05/2017/TT-BTNMT (Thông tư quy trình cũ) với Thông tư số 25/2024/TT-BTNMT (Thông tư quy trình mới) thì nội dung công việc là tương đồng nhau, định mức công không thay đổi so với định mức công cũ của Thông tư số 35/2017/TT-BTNMT
A23: 2.1.1 | B23: Phân loại, lựa chọn tài liệu để xây dựng dữ liệu không gian quy hoạch, kế hoạch sử dụng đất | C23: Kỳ QH (năm kế hoạch) | D23: 1KS3 | E23: 10 | F23: 2.1.1 | G23: Phân loại, lựa chọn tài liệu để xây dựng dữ liệu không gian quy hoạch, kế hoạch sử dụng đất | H23: Kỳ QH (năm kế hoạch) | I23: 1KS3 | J23: 10 | K23: Nội dung này tương ứng với mục 2.1.1 (II). Sử dụng phương pháp so sánh và phân tích nội dung thực hiện giữa Thông tư số 05/2017/TT-BTNMT (Thông tư quy trình cũ) với Thông tư số 25/2024/TT-BTNMT (Thông tư quy trình mới) thì nội dung công việc là tương đồng nhau, định mức công không thay đổi so với định mức công cũ của Thông tư số 35/2017/TT-BTNMT
A24: 2.1.2 | B24: Phân loại, lựa chọn tài liệu để xây dựng dữ liệu thuộc tính quy hoạch, kế hoạch sử dụng đất | C24: Kỳ QH (năm kế hoạch) | D24: 1KS3 | E24: 8 | F24: 2.1.2 | G24: Phân loại, lựa chọn tài liệu để xây dựng dữ liệu thuộc tính quy hoạch, kế hoạch sử dụng đất | H24: Kỳ QH (năm kế hoạch) | I24: 1KS3 | J24: 8 | K24: Nội dung này tương ứng với mục 2.1.2 (II). Sử dụng phương pháp so sánh và phân tích nội dung thực hiện giữa Thông tư số 05/2017/TT-BTNMT (Thông tư quy trình cũ) với Thông tư số 25/2024/TT-BTNMT (Thông tư quy trình mới) thì nội dung công việc là tương đồng nhau, định mức công không thay đổi so với định mức công cũ của Thông tư số 35/2017/TT-BTNMT
A25: 2.2 | B25: Làm sạch và sắp xếp tài liệu quy hoạch sử dụng đất theo trình tự thời gian hình thành tài liệu quy hoạch, kế hoạch sử dụng đất | C25: Kỳ QH (năm kế hoạch) | D25: Nhóm 2(1KTV4+1KS4) | E25: 5 | K25: Trong Thông tư số 25/2024/TT-BTNMT không có nội dung này
A26: 2.3 | B26: Lập báo cáo kết quả thực hiện và lựa chọn tài liệu, dữ liệu nguồn | C26: Kỳ QH (năm kế hoạch) | D26: 1KS2 | E26: 3 | F26: 2.2 | G26: Lập báo cáo kết quả thực hiện tại khoản 1 Điều 42, Thông tư số 25/2024/TT-BTNMT và lựa chọn tài liệu, dữ liệu nguồn | H26: Kỳ QH (năm kế hoạch) | I26: 1KS2 | J26: 3 | K26: Nội dung này tương ứng với mục 2.3 (II). Sử dụng phương pháp so sánh và phân tích nội dung thực hiện giữa Thông tư số 05/2017/TT-BTNMT (Thông tư quy trình cũ) với Thông tư số 25/2024/TT-BTNMT (Thông tư quy trình mới) thì nội dung công việc là tương đồng nhau, định mức công không thay đổi so với định mức công cũ của Thông tư số 35/2017/TT-BTNMT
A27: 3 | B27: Quét giấy tờ pháp lý và xử lý tệp tin | F27: 3 | G27: Xây dựng dữ liệu đất đai phi cấu trúc về quy hoạch, kế hoạch sử dụng đất
B28: Tạo danh mục tra cứu hồ sơ quét trong CSDL quy hoạch, kế hoạch sử dụng đất | C28: Kỳ QH (năm kế hoạch) | D28: 1KS1 | E28: 0.5 | F28: 3.3 | G28: Đối với tài liệu dạng số mà không liên kết với các đối tượng không gian thì tạo danh mục tra cứu dữ liệu phi cấu trúc trong cơ sở dữ liệu quy hoạch, kế hoạch sử dụng đất | H28: Kỳ QH (năm kế hoạch) | I28: 1KS1 | J28: 0.5 | K28: Nội dung này tương ứng với mục 3 (II). Sử dụng phương pháp so sánh và phân tích nội dung thực hiện giữa Thông tư số 05/2017/TT-BTNMT (Thông tư quy trình cũ) với Thông tư số 25/2024/TT-BTNMT (Thông tư quy trình mới) thì nội dung công việc là tương đồng nhau, định mức công không thay đổi so với định mức công cũ của Thông tư số 35/2017/TT-BTNMT
F29: 3.4 | G29: Nhập thông tin mô tả của dữ liệu phi cấu trúc và tạo liên kết giữa dữ liệu phi cấu trúc về quy hoạch, kế hoạch sử dụng đất với các đối tượng không gian | H29: Kỳ QH (năm kế hoạch) | I29: 1KS2 | J29: 1 | K29: Đây là nội dung công việc đã mới theo quy định tại Thông tư số 25/2024/TT-BTNMT. Sau khi tính thử, làm thử và sử dụng phương pháp so sánh, phân tích, thống kê, tổng hợp và kinh nghiệm tính 1 công KS2 cho công việc này
F30: 3.5 | G30: Vận chuyển, bàn giao tài liệu cho đơn vị quản lý hồ sơ, tài liệu | H30: Kỳ QH (năm kế hoạch) | I30: Nhóm 2(1KTV4 + 1KS3) | J30: 0.5 | K30: Tính bằng 2 lần xây dựng CSDL thống kê, kiểm kê cấp xã
A31: 4 | B31: Xây dựng dữ liệu thuộc tính quy hoạch, kế hoạch sử dụng đất | C31: Kỳ QH (năm kế hoạch) | F31: 4 | G31: Xây dựng dữ liệu thuộc tính quy hoạch, kế hoạch sử dụng đất | H31: Kỳ QH (năm kế hoạch)
A32: 4.1 | B32: Đối với tài liệu, số liệu là bảng, biểu dạng số thì thực hiện như sau | C32: Kỳ QH (năm kế hoạch) | K32: Đây là nội dung công việc đã được lược bỏ và thay đổi phương pháp thực hiện theo quy định tại Thông tư số 25/2024/TT-BTNMT nên không được tính định biên và định mức cho nội dung này
A33: 4.1.1 | B33: Lập mô hình chuyển đổi CSDL quy hoạch, kế hoạch sử dụng đất | C33: Kỳ QH (năm kế hoạch) | D33: 1KS3 | E33: 1 | K33: Đây là nội dung công việc đã được lược bỏ và thay đổi phương pháp thực hiện theo quy định tại Thông tư số 25/2024/TT-BTNMT nên không được tính định biên và định mức cho nội dung này
A34: 4.1.2 | B34: Chuyển đổi vào CSDL quy hoạch, kế hoạch sử dụng đất | C34: Kỳ QH (năm kế hoạch) | D34: 1KS2 | E34: 2 | K34: Đây là nội dung công việc đã được lược bỏ và thay đổi phương pháp thực hiện theo quy định tại Thông tư số 25/2024/TT-BTNMT nên không được tính định biên và định mức cho nội dung này
A35: 4.2 | B35: Đối với tài liệu, số liệu là báo cáo dạng số thì tạo danh mục tra cứu trong CSDL quy hoạch, kế hoạch sử dụng đất | C35: Kỳ QH (năm kế hoạch) | D35: 1KS2 | E35: 1 | K35: Đây là nội dung công việc đã được lược bỏ và thay đổi phương pháp thực hiện theo quy định tại Thông tư số 25/2024/TT-BTNMT nên không được tính định biên và định mức cho nội dung này
A36: 4.3 | B36: Nhập dữ liệu thuộc tính quy hoạch, kế hoạch sử dụng đất | C36: Kỳ QH (năm kế hoạch) | D36: 1KS1 | E36: 2 | F36: 4.1 | G36: Dữ liệu về quy hoạch sử dụng đất cấp xã | H36: Kỳ QH (năm kế hoạch) | I36: 1KS2 | J36: 2 | K36: Nội dung này tương ứng với mục 4.3 (II). Sử dụng phương pháp so sánh và phân tích nội dung thực hiện giữa Thông tư số 05/2017/TT-BTNMT (Thông tư quy trình cũ) với Thông tư số 25/2024/TT-BTNMT (Thông tư quy trình mới) thì nội dung công việc là tương đồng nhau, định mức công không thay đổi so với định mức công cũ của Thông tư số 35/2017/TT-BTNMT
F37: 4.2 | G37: Dữ liệu về kế hoạch sử dụng đất cấp xã | H37: Kỳ QH (năm kế hoạch) | I37: 1KS1 | J37: 2 | K37: Nội dung này tương ứng với mục 4.3 (II). Sử dụng phương pháp so sánh và phân tích nội dung thực hiện giữa Thông tư số 05/2017/TT-BTNMT (Thông tư quy trình cũ) với Thông tư số 25/2024/TT-BTNMT (Thông tư quy trình mới) thì nội dung công việc là tương đồng nhau, định mức công không thay đổi so với định mức công cũ của Thông tư số 35/2017/TT-BTNMT
A38: 5 | B38: Đối soát, hoàn thiện dữ liệu quy hoạch, kế hoạch sử dụng đất | C38: Kỳ QH (năm kế hoạch) | F38: 5 | G38: Đối soát, hoàn thiện dữ liệu quy hoạch, kế hoạch sử dụng đất | H38: Kỳ QH (năm kế hoạch)
A39: 5.1 | B39: Đối soát, hoàn thiện dữ liệu quy hoạch sử dụng đất | C39: Kỳ QH (năm kế hoạch) | D39: Nhóm 2 (1KTV4+1KS2) | E39: 5 | F39: 5.1 | G39: Đối soát đảm bảo 100% thông tin trong cơ sở dữ liệu quy hoạch sử dụng đất tuân thủ theo đúng quy định về nội dung, cấu trúc, kiểu thông tin của cơ sở dữ liệu quốc gia về đất đai | H39: Kỳ QH (năm kế hoạch) | I39: Nhóm 2 (1KTV4+1KS2) | J39: 5 | K39: Nội dung này tương ứng với mục 5.1 (II). Sử dụng phương pháp so sánh và phân tích nội dung thực hiện giữa Thông tư số 05/2017/TT-BTNMT (Thông tư quy trình cũ) với Thông tư số 25/2024/TT-BTNMT (Thông tư quy trình mới) thì nội dung công việc là tương đồng nhau, định mức công không thay đổi so với định mức công cũ của Thông tư số 35/2017/TT-BTNMT
A40: 5.2 | B40: Đối soát, hoàn thiện dữ liệu kế hoạch sử dụng đất | C40: Kỳ QH (năm kế hoạch) | D40: Nhóm 2 (1KTV4+1KS2) | E40: 2 | F40: 5.2 | G40: Đối soát đảm bảo 100% thông tin trong cơ sở dữ liệu kế hoạch sử dụng đất tuân thủ theo đúng quy định về nội dung, cấu trúc, kiểu thông tin của cơ sở dữ liệu quốc gia về đất đai | H40: Kỳ QH (năm kế hoạch) | I40: Nhóm 2 (1KTV4+1KS2) | J40: 2 | K40: Nội dung này tương ứng với mục 5.2 (II). Sử dụng phương pháp so sánh và phân tích nội dung thực hiện giữa Thông tư số 05/2017/TT-BTNMT (Thông tư quy trình cũ) với Thông tư số 25/2024/TT-BTNMT (Thông tư quy trình mới) thì nội dung công việc là tương đồng nhau, định mức công không thay đổi so với định mức công cũ của Thông tư số 35/2017/TT-BTNMT
A41: III | B41: Xây dựng dữ liệu không gian quy hoạch, kế hoạch sử dụng đất (bảng 111) | F41: III | G41: Xây dựng dữ liệu không gian quy hoạch, kế hoạch sử dụng đất (bảng 92)
A42: 1 | B42: Xây dựng dữ liệu không gian quy hoạch | F42: 1 | G42: Xây dựng dữ liệu không gian quy hoạch
A43: 1.1 | B43: Chuẩn hóa các lớp đối tượng không gian quy hoạch sử dụng đất | F43: 1.1 | G43: Chuẩn hóa các lớp đối tượng không gian quy hoạch, kế hoạch sử dụng đất
A44: 1.1.1 | B44: Lập bảng đối chiếu giữa lớp đối tượng không gian quy hoạch sử dụng đất với nội dung tương ứng trong bản đồ quy hoạch, kế hoạch sử dụng đất để tách, lọc các đối tượng cần thiết từ nội dung bản đồ quy hoạch sử dụng đất | F44: 1.1.1 | G44: Lập bảng đối chiếu giữa lớp đối tượng không gian quy hoạch, kế hoạch sử dụng đất với nội dung tương ứng trong bản đồ quy hoạch, kế hoạch sử dụng đất để tách, lọc các đối tượng cần thiết từ nội dung bản đồ quy hoạch, kế hoạch sử dụng đất
B45: Tỷ lệ 1/5000 | C45: Lớp dữ liệu | D45: 1KS3 | E45: 0.9 | G45: Tỷ lệ 1/5000 | H45: Lớp dữ liệu | I45: 1KS3 | J45: 0.9 | K45: Nội dung này tương ứng với mục 1.1.1 (II). Sử dụng phương pháp so sánh và phân tích nội dung thực hiện giữa Thông tư số 05/2017/TT-BTNMT (Thông tư quy trình cũ) với Thông tư số 25/2024/TT-BTNMT (Thông tư quy trình mới) thì nội dung công việc là tương đồng nhau, định mức công không thay đổi so với định mức công cũ của Thông tư số 35/2017/TT-BTNMT
B46: Tỷ lệ 1/10000 | C46: Lớp dữ liệu | D46: 1KS3 | E46: 1 | G46: Tỷ lệ 1/10000 | H46: Lớp dữ liệu | I46: 1KS3 | J46: 1 | K46: Nội dung này tương ứng với mục 1.1.1 (II). Sử dụng phương pháp so sánh và phân tích nội dung thực hiện giữa Thông tư số 05/2017/TT-BTNMT (Thông tư quy trình cũ) với Thông tư số 25/2024/TT-BTNMT (Thông tư quy trình mới) thì nội dung công việc là tương đồng nhau, định mức công không thay đổi so với định mức công cũ của Thông tư số 35/2017/TT-BTNMT
B47: Tỷ lệ 1/25000 | C47: Lớp dữ liệu | D47: 1KS3 | E47: 1.1 | G47: Tỷ lệ 1/25000 | H47: Lớp dữ liệu | I47: 1KS3 | J47: 1.1 | K47: Nội dung này tương ứng với mục 1.1.1 (II). Sử dụng phương pháp so sánh và phân tích nội dung thực hiện giữa Thông tư số 05/2017/TT-BTNMT (Thông tư quy trình cũ) với Thông tư số 25/2024/TT-BTNMT (Thông tư quy trình mới) thì nội dung công việc là tương đồng nhau, định mức công không thay đổi so với định mức công cũ của Thông tư số 35/2017/TT-BTNMT
A48: 1.1.2 | B48: Chuẩn hóa các lớp đối tượng không gian quy hoạch sử dụng đất chưa phù hợp | F48: 1.1.2 | G48: Chuẩn hóa các lớp đối tượng không gian quy hoạch, kế hoạch sử dụng đất theo quy định về cơ sở dữ liệu quốc gia về đất đai
B49: Tỷ lệ 1/5000 | C49: Lớp dữ liệu | D49: 1KS3 | E49: 0.9 | G49: Tỷ lệ 1/5000 | H49: Lớp dữ liệu | I49: 1KS3 | J49: 0.9 | K49: Nội dung này tương ứng với mục 1.1.2 (II). Sử dụng phương pháp so sánh và phân tích nội dung thực hiện giữa Thông tư số 05/2017/TT-BTNMT (Thông tư quy trình cũ) với Thông tư số 25/2024/TT-BTNMT (Thông tư quy trình mới) thì nội dung công việc là tương đồng nhau, định mức công không thay đổi so với định mức công cũ của Thông tư số 35/2017/TT-BTNMT
B50: Tỷ lệ 1/10000 | C50: Lớp dữ liệu | D50: 1KS3 | E50: 1 | G50: Tỷ lệ 1/10000 | H50: Lớp dữ liệu | I50: 1KS3 | J50: 1 | K50: Nội dung này tương ứng với mục 1.1.2 (II). Sử dụng phương pháp so sánh và phân tích nội dung thực hiện giữa Thông tư số 05/2017/TT-BTNMT (Thông tư quy trình cũ) với Thông tư số 25/2024/TT-BTNMT (Thông tư quy trình mới) thì nội dung công việc là tương đồng nhau, định mức công không thay đổi so với định mức công cũ của Thông tư số 35/2017/TT-BTNMT
B51: Tỷ lệ 1/25000 | C51: Lớp dữ liệu | D51: 1KS3 | E51: 1.1 | G51: Tỷ lệ 1/25000 | H51: Lớp dữ liệu | I51: 1KS3 | J51: 1.1 | K51: Nội dung này tương ứng với mục 1.1.2 (II). Sử dụng phương pháp so sánh và phân tích nội dung thực hiện giữa Thông tư số 05/2017/TT-BTNMT (Thông tư quy trình cũ) với Thông tư số 25/2024/TT-BTNMT (Thông tư quy trình mới) thì nội dung công việc là tương đồng nhau, định mức công không thay đổi so với định mức công cũ của Thông tư số 35/2017/TT-BTNMT
A52: 1.1.3 | B52: Rà soát chuẩn hóa thông tin thuộc tính cho từng đối tượng không gian quy hoạch sử dụng đất | C52: Lớp dữ liệu | F52: 1.1.3 | G52: Rà soát, chuẩn hóa thông tin thuộc tính cho từng đối tượng không gian quy hoạch, kế hoạch sử dụng đất theo quy định về cơ sở dữ liệu quốc gia về đất đai | H52: Lớp dữ liệu
B53: Tỷ lệ 1/5000 | C53: Lớp dữ liệu | D53: 1KS3 | E53: 0.9 | G53: Tỷ lệ 1/5000 | H53: Lớp dữ liệu | I53: 1KS3 | J53: 0.9 | K53: Nội dung này tương ứng với mục 1.1.3 (II). Sử dụng phương pháp so sánh và phân tích nội dung thực hiện giữa Thông tư số 05/2017/TT-BTNMT (Thông tư quy trình cũ) với Thông tư số 25/2024/TT-BTNMT (Thông tư quy trình mới) thì nội dung công việc là tương đồng nhau, định mức công không thay đổi so với định mức công cũ của Thông tư số 35/2017/TT-BTNMT
B54: Tỷ lệ 1/10000 | C54: Lớp dữ liệu | D54: 1KS3 | E54: 1 | G54: Tỷ lệ 1/10000 | H54: Lớp dữ liệu | I54: 1KS3 | J54: 1 | K54: Nội dung này tương ứng với mục 1.1.3 (II). Sử dụng phương pháp so sánh và phân tích nội dung thực hiện giữa Thông tư số 05/2017/TT-BTNMT (Thông tư quy trình cũ) với Thông tư số 25/2024/TT-BTNMT (Thông tư quy trình mới) thì nội dung công việc là tương đồng nhau, định mức công không thay đổi so với định mức công cũ của Thông tư số 35/2017/TT-BTNMT
B55: Tỷ lệ 1/25000 | C55: Lớp dữ liệu | D55: 1KS3 | E55: 1.1 | G55: Tỷ lệ 1/25000 | H55: Lớp dữ liệu | I55: 1KS3 | J55: 1.1 | K55: Nội dung này tương ứng với mục 1.1.3 (II). Sử dụng phương pháp so sánh và phân tích nội dung thực hiện giữa Thông tư số 05/2017/TT-BTNMT (Thông tư quy trình cũ) với Thông tư số 25/2024/TT-BTNMT (Thông tư quy trình mới) thì nội dung công việc là tương đồng nhau, định mức công không thay đổi so với định mức công cũ của Thông tư số 35/2017/TT-BTNMT
A56: 1.2 | B56: Chuyển đổi và tích hợp không gian quy hoạch sử dụng đất | F56: 1.2 | G56: Chuyển đổi và tích hợp không gian quy hoạch, kế hoạch sử dụng đất
A57: 1.2.1 | B57: Chuyển đổi các lớp đối tượng không gian quy hoạch sử dụng đất của bản đồ vào CSDL đất đai theo đơn vị hành chính | C57: Lớp dữ liệu | D57: 1KS3 | E57: 2.5 | F57: 1.2.1 | G57: Chuyển đổi các lớp đối tượng không gian quy hoạch, kế hoạch sử dụng đất của bản đồ vào cơ sở dữ liệu đất đai theo đơn vị hành chính | H57: Lớp dữ liệu | I57: 1KS3 | J57: 4.25 | K57: Đây là nội dung công việc quy định tại Thông tư số 25/2024/TT-BTNMT. Sau khi tính thử, làm thử và sử dụng phương pháp so sánh, phân tích, thống kê, tổng hợp và kinh nghiệm đưa ra mức công việc 1 ngày Nhập bổ sung các trường thông tin thuộc tính cho từng đối tượng không gian quy hoạch, kế hoạch sử dụng đất theo quy định về cơ sở dữ liệu quốc gia về đất đai cho 1 lớp dữ liệu với định biên là KS3
F58: 1.2.2 | G58: Nhập bổ sung các trường thông tin thuộc tính cho từng đối tượng không gian quy hoạch, kế hoạch sử dụng đất theo quy định về cơ sở dữ liệu quốc gia về đất đai | H58: Lớp dữ liệu | I58: 1KS3 | J58: 2 | K58: Đây là nội dung công việc quy định tại Thông tư số 25/2024/TT-BTNMT. Sau khi tính thử, làm thử và sử dụng phương pháp so sánh, phân tích, thống kê, tổng hợp và kinh nghiệm đưa ra mức công việc 1 ngày Nhập bổ sung các trường thông tin thuộc tính cho từng đối tượng không gian quy hoạch, kế hoạch sử dụng đất theo quy định về cơ sở dữ liệu quốc gia về đất đai cho 1 lớp dữ liệu với định biên là KS3
A59: 1.2.2 | B59: Rà soát dữ liệu không gian để xử lý các lỗi dọc biên giữa các đơn vị hành chính tiếp giáp nhau. Trường hợp có mâu thuẫn cần xử lý đồng bộ với các loại hồ sơ có liên quan, thống kê kết quả xử lý các đối tượng còn mâu thuẫn. | C59: Lớp dữ liệu | D59: 1KS3 | E59: 4.7 | F59: 1.2.3 | G59: Rà soát dữ liệu không gian để xử lý các lỗi dọc biên giữa các đơn vị hành chính tiếp giáp nhau. Trường hợp có mâu thuẫn cần xử lý đồng bộ với các loại hồ sơ có liên quan, thống kê kết quả xử lý các đối tượng còn mâu thuẫn thành bảng kết quả xử lý biên các đối tượng còn mâu thuẫn theo quy định tại Phụ lục IV ban hành kèm theo Thông tư số 25/2024/TT-BTNMT | H59: Lớp dữ liệu | I59: 1KS3 | J59: 7.99 | K59: Đây là nội dung công việc quy định tại Thông tư số 25/2024/TT-BTNMT. Sau khi tính thử, làm thử và sử dụng phương pháp so sánh, phân tích, thống kê, tổng hợp và kinh nghiệm đưa ra mức công việc 1 ngày Nhập bổ sung các trường thông tin thuộc tính cho từng đối tượng không gian quy hoạch, kế hoạch sử dụng đất theo quy định về cơ sở dữ liệu quốc gia về đất đai cho 1 lớp dữ liệu với định biên là KS3
A60: 2 | B60: Xây dựng dữ liệu không gian kế hoạch | C60: Lớp dữ liệu | F60: 2 | G60: Xây dựng dữ liệu không gian kế hoạch | H60: Lớp dữ liệu
A61: 2.1 | B61: Chuẩn hóa các lớp đối tượng không gian kế hoạch sử dụng đất chưa phù hợp | C61: Lớp dữ liệu | D61: 1KS3 | E61: 2.5 | F61: 2.1 | G61: Chuẩn hóa các lớp đối tượng không gian kế hoạch sử dụng đất chưa phù hợp | H61: Lớp dữ liệu | I61: 1KS3 | J61: 8.5 | K61: Đây là nội dung công việc quy định tại Thông tư số 25/2024/TT-BTNMT. Sau khi tính thử, làm thử và sử dụng phương pháp so sánh, phân tích, thống kê, tổng hợp và kinh nghiệm đưa ra mức công việc 1 ngày Nhập bổ sung các trường thông tin thuộc tính cho từng đối tượng không gian quy hoạch, kế hoạch sử dụng đất theo quy định về cơ sở dữ liệu quốc gia về đất đai cho 1 lớp dữ liệu với định biên là KS3
A62: 2.2 | B62: Rà soát chuẩn hóa thông tin thuộc tính cho từng đối tượng không gian kế hoạch sử dụng đất | C62: Lớp dữ liệu | D62: 1KS3 | E62: 2.125 | F62: 2.2 | G62: Rà soát chuẩn hóa thông tin thuộc tính cho từng đối tượng không gian kế hoạch sử dụng đất | H62: Lớp dữ liệu | I62: 1KS3 | J62: 7.23 | K62: Đây là nội dung công việc quy định tại Thông tư số 25/2024/TT-BTNMT. Sau khi tính thử, làm thử và sử dụng phương pháp so sánh, phân tích, thống kê, tổng hợp và kinh nghiệm đưa ra mức công việc 1 ngày Nhập bổ sung các trường thông tin thuộc tính cho từng đối tượng không gian quy hoạch, kế hoạch sử dụng đất theo quy định về cơ sở dữ liệu quốc gia về đất đai cho 1 lớp dữ liệu với định biên là KS3
A63: 2.3 | B63: Chuyển đổi các lớp đối tượng không gian kế hoạch sử dụng đất của bản đồ, bản vẽ vị trí công trình, dự án vào CSDL đất đai theo đơn vị hành chính | C63: Lớp dữ liệu | D63: 1KS3 | E63: 0.625 | F63: 2.3 | G63: Chuyển đổi các lớp đối tượng không gian kế hoạch sử dụng đất của bản đồ, bản vẽ vị trí công trình, dự án vào CSDL đất đai theo đơn vị hành chính | H63: Lớp dữ liệu | I63: 1KS3 | J63: 2.13 | K63: Đây là nội dung công việc quy định tại Thông tư số 25/2024/TT-BTNMT. Sau khi tính thử, làm thử và sử dụng phương pháp so sánh, phân tích, thống kê, tổng hợp và kinh nghiệm đưa ra mức công việc 1 ngày Nhập bổ sung các trường thông tin thuộc tính cho từng đối tượng không gian quy hoạch, kế hoạch sử dụng đất theo quy định về cơ sở dữ liệu quốc gia về đất đai cho 1 lớp dữ liệu với định biên là KS3
A64: B | B64: XÂY DỰNG CSDLQUY HOẠCH, KẾ HOẠCH SỬ DỤNG ĐẤT CẤP TỈNH CỦA CÁC KỲ TRƯỚC | F64: B | G64: XÂY DỰNG CSDLQUY HOẠCH, KẾ HOẠCH SỬ DỤNG ĐẤT CẤP TỈNH CỦA CÁC KỲ TRƯỚC
A65: I | B65: Công tác chuẩn bị; xây dựng siêu dữ liệu quy hoạch, kế hoạch sử dụng đất; kiểm tra, nghiệm thuCSDL quy hoạch, kế hoạch sử dụng đất (Bảng128) | F65: I | G65: Công tác chuẩn bị; xây dựng siêu dữ liệu quy hoạch, kế hoạch sử dụng đất; tích hợp dữ liệu vào hệ thống (Bảng109)
A66: 1 | B66: Công tác chuẩn bị | F66: 1 | G66: Công tác chuẩn bị
A67: 1.1 | B67: Lập kế hoạch thi công chi tiết: xác định thời gian, địa điểm, khối lượng và nhân lực thực hiện của từng bước công việc; kế hoạch làm việc với các đơn vị có liên quan đến công tác xây dựng CSDL quy hoạch, kế hoạch sử dụng đất trên địa bàn thi công | C67: Tỉnh | D67: Nhóm 2 (1 KTV2+1KS4) | E67: 5 | F67: 1.1 | G67: Lập kế hoạch thi công chi tiết: xác định thời gian, địa điểm, khối lượng và nhân lực thực hiện của từng bước công việc; kế hoạch làm việc với các đơn vị có liên quan đến công tác xây dựng cơ sở dữ liệu quy hoạch, kế hoạch sử dụng đất trên địa bàn thi công | H67: Tỉnh | I67: Nhóm 2 (1 KTV2+1KS4) | J67: 5 | K67: Đây là nội dung tương ứng với Mục 1.1 (I). Sử dụng phương pháp so sánh và phân tích nội dung thực hiện giữa Thông tư số 05/2017/TT-BTNMT (Thông tư quy trình cũ) với Thông tư số 25/2024/TT-BTNMT (Thông tư quy trình mới) thì nội dung công việc là tương đồng nhau, định mức công không thay đổi so với định mức công cũ của Thông tư số 35/2017/TT-BTNMT
A68: 1.2 | B68: Chuẩn bị nhân lực, địa điểm làm việc; chuẩn bị vật tư, thiết bị, dụng cụ, phần mềm cho công tác xây dựng CSDL quy hoạch, kế hoạch sử dụng đất. | C68: Tỉnh | D68: Nhóm 2 (1 KTV4+1KS2) | E68: 5 | F68: 1.2 | G68: Chuẩn bị nhân lực, địa điểm làm việc | H68: Tỉnh | I68: Nhóm 2 (1 KTV4+1KS2) | J68: 2 | K68: Nội dung này được tách ra từ mục 1.2 (I). Sử dụng phương pháp so sánh và phân tích nội dung thực hiện giữa Thông tư số 05/2017/TT-BTNMT (Thông tư quy trình cũ) với Thông tư số 25/2024/TT-BTNMT (Thông tư quy trình mới) thì nội dung công việc là tương đồng nhau, định mức công không thay đổi so với định mức công cũ của Thông tư số 35/2017/TT-BTNMT
F69: 1.3 | G69: Chuẩn bị vật tư, thiết bị, dụng cụ, phần mềm cho công tác xây dựng cơ sở dữ liệu quy hoạch, kế hoạch sử dụng đất | I69: Nhóm 2 (1 KTV4+1KS2) | J69: 3 | K69: Nội dung này được tách ra từ mục 1.2 (AI). Sử dụng phương pháp so sánh và phân tích nội dung thực hiện giữa Thông tư số 05/2017/TT-BTNMT (Thông tư quy trình cũ) với Thông tư số 25/2024/TT-BTNMT (Thông tư quy trình mới) thì nội dung công việc là tương đồng nhau, định mức công không thay đổi so với định mức công cũ của Thông tư số 35/2017/TT-BTNMT
A70: 2 | B70: Xây dựng siêu dữ liệu quy hoạch, kế hoạch sử dụng đất | C70: Tỉnh | F70: 2 | G70: Xây dựng siêu dữ liệu quy hoạch, kế hoạch sử dụng đất | H70: Tỉnh
A71: 2.1 | B71: Thu nhận các thông tin cần thiết để xây dựng siêu dữ liệu (thông tin mô tả dữ liệu) quy hoạch, kế hoạch sử dụng đất | C71: Tỉnh | D71: 1KS1 | E71: 4 | F71: 2.1 | G71: Thu nhận các thông tin cần thiết để xây dựng siêu dữ liệu | H71: Tỉnh | I71: 1KS1 | J71: 4 | K71: Đây là nội dung tương ứng với Mục 2.1 (I). Sử dụng phương pháp so sánh và phân tích nội dung thực hiện giữa Thông tư số 05/2017/TT-BTNMT (Thông tư quy trình cũ) với Thông tư số 25/2024/TT-BTNMT (Thông tư quy trình mới) thì nội dung công việc là tương đồng nhau, định mức công không thay đổi so với định mức công cũ của Thông tư số 35/2017/TT-BTNMT
A72: 2.2 | B72: Nhập thông tin siêu dữ liệu quy hoạch, kế hoạch sử dụng đất | C72: Tỉnh | D72: 1KS1 | E72: 1.5 | F72: 2.2 | G72: Nhập thông tin siêu dữ liệu quy hoạch, kế hoạch sử dụng đất | H72: Tỉnh | I72: 1KS1 | J72: 1.5 | K72: Đây là nội dung tương ứng với Mục 2.1 (I). Sử dụng phương pháp so sánh và phân tích nội dung thực hiện giữa Thông tư số 05/2017/TT-BTNMT (Thông tư quy trình cũ) với Thông tư số 25/2024/TT-BTNMT (Thông tư quy trình mới) thì nội dung công việc là tương đồng nhau, định mức công không thay đổi so với định mức công cũ của Thông tư số 35/2017/TT-BTNMT
A73: 3 | B73: Kiểm tra, nghiệm thu CSDL quy hoạch, kế hoạch sử dụng đất | C73: Tỉnh | K73: Theo quy định của Thông tư số 136/2017/TT-BTC thì nội dung Phục vụ kiểm tra, nghiệm thu CSDL được tính trong chi phí chung. Nên Quy trình thực hiện vẫn quy định nhưng không được tính định biên, định mức
A74: 3.1 | B74: Đơn vị thi công chuẩn bị tài liệu và phục vụ giám sát kiểm tra, nghiệm thu | C74: Tỉnh | D74: 1KTV4 | E74: 3
A75: 3.2 | B75: Thực hiện kiểm tra tổng thể CSDL quy hoạch, kế hoạch sử dụng đất và tích hợp vào hệ thống ngay sau khi được nghiệm thu phục vụ quản lý, vận hành, khai thác sử dụng | C75: Tỉnh | D75: 1KS3 | E75: 6 | F75: 3 | G75: Tích hợp dữ liệu vào hệ thống | H75: Tỉnh | I75: 1KS3 | J75: 6 | K75: Đây là nội dung tương ứng với Mục 3,2 (I). Sử dụng phương pháp so sánh và phân tích nội dung thực hiện giữa Thông tư số 05/2017/TT-BTNMT (Thông tư quy trình cũ) với Thông tư số 25/2024/TT-BTNMT (Thông tư quy trình mới) thì nội dung công việc là tương đồng nhau, định mức công không thay đổi so với định mức công cũ của Thông tư số 35/2017/TT-BTNMT
A76: 3.3 | B76: Đóng gói giao nộp CSDL quy hoạch, kế hoạch sử dụng đất | C76: Tỉnh | D76: 1KTV4 | E76: 3
A77: II | B77: Thu thập tài liệu, dữ liệu; rà soát, đánh giá, phân loại và sắp xếp tài liệu, dữ liệu; quét giấy tờ pháp lý và xử lý tệp tin; xây dựng dữ liệu thuộc tính quy hoạch, kế hoạch sử dụng đất; đối soát hoàn thiện dữ liệu quy hoạch, kế hoạch sử dụng đất (bảng129) | F77: II | G77: Thu thập tài liệu, dữ liệu; rà soát, đánh giá, phân loại và sắp xếp tài liệu, dữ liệu; quét giấy tờ pháp lý và xử lý tệp tin; xây dựng dữ liệu thuộc tính quy hoạch, kế hoạch sử dụng đất; đối soát hoàn thiện dữ liệu quy hoạch, kế hoạch sử dụng đất (bảng110)
A78: 1 | B78: Thu thập tài liệu, dữ liệu | C78: Kỳ QH (năm kế hoạch) | D78: Nhóm 2(1KTV4 + 1KS3) | E78: 8 | F78: 1 | G78: Thu thập tài liệu, dữ liệu
F79: 1.1 | G79: Tài liệu, dữ liệu được thu thập cho việc xây dựng cơ sở dữ liệu quy hoạch, kế hoạch sử dụng đất cấp huyện gồm: Quyết định của Ủy ban nhân dân cấp tỉnh; báo cáo thuyết minh tổng hợp; bản đồ hiện trạng sử dụng đất; bản đồ quy hoạch sử dụng đất và bản đồ điều chỉnh quy hoạch sử dụng đất, bản đồ kế hoạch sử dụng đất năm đầu của quy hoạch sử dụng đất cấp huyện và bản đồ kế hoạch sử dụng đất hằng năm cấp huyện; bản đồ quy hoạch chung hoặc quy hoạch phân khu (nếu có) | H79: Kỳ QH (năm kế hoạch) | I79: Nhóm 2(1KTV4 + 1KS3) | J79: 8 | K79: Nội dung này tương ứng với mục 1 (II). Sử dụng phương pháp so sánh và phân tích nội dung thực hiện giữa Thông tư số 05/2017/TT-BTNMT (Thông tư quy trình cũ) với Thông tư số 25/2024/TT-BTNMT (Thông tư quy trình mới) thì nội dung công việc là tương đồng nhau, định mức công không thay đổi so với định mức công cũ của Thông tư số 35/2017/TT-BTNMT
F80: 1.2 | G80: Vận chuyển tài liệu thu thập đến địa điểm thực hiện số hóa | H80: Kỳ QH (năm kế hoạch) | I80: Nhóm 2(1KTV4 + 1KS3) | J80: 0.25 | K80: Đây là nội dung công việc mới quy định tại Thông tư số 25/2024/TT-BTNMT. Sau khi tính thử, làm thử và sử dụng phương pháp so sánh, phân tích, thống kê, tổng hợp và kinh nghiệm đưa ra mức công việc 1 ngày Vận chuyển tài liệu thu thập đến địa điểm thực hiện số hóa Kỳ kiểm kê (năm thống kê). KS3 sử dụng cho việc lựa chọn sắp xếp tài liệu, KTV4 làm nhiệm vụ vận chuyển, hỗ trợ cho KS3
A81: 2 | B81: Rà soát, đánh giá, phân loại và sắp xếp tài liệu, dữ liệu | F81: 2 | G81: Rà soát, đánh giá, phân loại và sắp xếp tài liệu, dữ liệu
A82: 2.1 | B82: Rà soát, đánh giá mức độ đầy đủ về các thành phần, nội dung của tài liệu, dữ liệu; xác định được thời gian xây dựng, mức độ đầy đủ thông tin, tính pháp lý của từng tài liệu, dữ liệu để lựa chọn sử dụng cho việc xây dựng CSDL quy hoạch, kế hoạch sử dụng đất | C82: Kỳ QH (năm kế hoạch) | D82: 1KS3 | F82: 2.1 | G82: Rà soát, đánh giá mức độ đầy đủ về các thành phần, nội dung của tài liệu, dữ liệu; xác định được thời gian xây dựng, mức độ đầy đủ thông tin của từng tài liệu, dữ liệu để lựa chọn sử dụng cho việc xây dựng cơ sở dữ liệu quy hoạch, kế hoạch sử dụng đất | H82: Kỳ QH (năm kế hoạch) | I82: 1KS3 | K82: Nội dung này tương ứng với mục 2.1 (II). Sử dụng phương pháp so sánh và phân tích nội dung thực hiện giữa Thông tư số 05/2017/TT-BTNMT (Thông tư quy trình cũ) với Thông tư số 25/2024/TT-BTNMT (Thông tư quy trình mới) thì nội dung công việc là tương đồng nhau, định mức công không thay đổi so với định mức công cũ của Thông tư số 35/2017/TT-BTNMT
A83: 2.1.1 | B83: Phân loại, lựa chọn tài liệu để xây dựng dữ liệu không gian quy hoạch, kế hoạch sử dụng đất | C83: Kỳ QH (năm kế hoạch) | D83: 1KS3 | E83: 20 | F83: 2.1.1 | G83: Phân loại, lựa chọn tài liệu để xây dựng dữ liệu không gian quy hoạch, kế hoạch sử dụng đất | H83: Kỳ QH (năm kế hoạch) | I83: 1KS3 | J83: 20 | K83: Nội dung này tương ứng với mục 2.1.1 (II). Sử dụng phương pháp so sánh và phân tích nội dung thực hiện giữa Thông tư số 05/2017/TT-BTNMT (Thông tư quy trình cũ) với Thông tư số 25/2024/TT-BTNMT (Thông tư quy trình mới) thì nội dung công việc là tương đồng nhau, định mức công không thay đổi so với định mức công cũ của Thông tư số 35/2017/TT-BTNMT
A84: 2.1.2 | B84: Phân loại, lựa chọn tài liệu để xây dựng dữ liệu thuộc tính quy hoạch, kế hoạch sử dụng đất | C84: Kỳ QH (năm kế hoạch) | D84: 1KS3 | E84: 16 | F84: 2.1.2 | G84: Phân loại, lựa chọn tài liệu để xây dựng dữ liệu thuộc tính quy hoạch, kế hoạch sử dụng đất | H84: Kỳ QH (năm kế hoạch) | I84: 1KS3 | J84: 16 | K84: Nội dung này tương ứng với mục 2.1.2 (II). Sử dụng phương pháp so sánh và phân tích nội dung thực hiện giữa Thông tư số 05/2017/TT-BTNMT (Thông tư quy trình cũ) với Thông tư số 25/2024/TT-BTNMT (Thông tư quy trình mới) thì nội dung công việc là tương đồng nhau, định mức công không thay đổi so với định mức công cũ của Thông tư số 35/2017/TT-BTNMT
A85: 2.2 | B85: Làm sạch và sắp xếp tài liệu quy hoạch sử dụng đất theo trình tự thời gian hình thành tài liệu quy hoạch, kế hoạch sử dụng đất | C85: Kỳ QH (năm kế hoạch) | D85: Nhóm 2(1KTV4+1KS4) | E85: 9 | F85: 2.2 | K85: Trong Thông tư số 25/2024/TT-BTNMT không có nội dung này
A86: 2.3 | B86: Lập báo cáo kết quả thực hiện và lựa chọn tài liệu, dữ liệu nguồn | C86: Kỳ QH (năm kế hoạch) | D86: 1KS2 | E86: 7.5 | F86: 2.2 | G86: Lập báo cáo kết quả thực hiện tại khoản 1 Điều 42, Thông tư số 25/2024/TT-BTNMT và lựa chọn tài liệu, dữ liệu nguồn | H86: Kỳ QH (năm kế hoạch) | I86: 1KS2 | J86: 7.5 | K86: Nội dung này tương ứng với mục 2.3 (II). Sử dụng phương pháp so sánh và phân tích nội dung thực hiện giữa Thông tư số 05/2017/TT-BTNMT (Thông tư quy trình cũ) với Thông tư số 25/2024/TT-BTNMT (Thông tư quy trình mới) thì nội dung công việc là tương đồng nhau, định mức công không thay đổi so với định mức công cũ của Thông tư số 35/2017/TT-BTNMT
A87: 3 | B87: Quét giấy tờ pháp lý và xử lý tệp tin | F87: 3 | G87: Xây dựng dữ liệu đất đai phi cấu trúc về quy hoạch, kế hoạch sử dụng đất
B88: Tạo danh mục tra cứu hồ sơ quét trong CSDL quy hoạch, kế hoạch sử dụng đất | C88: Kỳ QH (năm kế hoạch) | D88: 1KS1 | E88: 1.5 | F88: 3.1 | G88: Đối với tài liệu dạng số mà không liên kết với các đối tượng không gian thì tạo danh mục tra cứu dữ liệu phi cấu trúc trong cơ sở dữ liệu quy hoạch, kế hoạch sử dụng đất | H88: Kỳ QH (năm kế hoạch) | I88: 1KS1 | J88: 1.5 | K88: Sử dụng phương pháp so sánh và phân tích nội dung thực hiện giữa Thông tư số 05/2017/TT-BTNMT (Thông tư quy trình cũ) với Thông tư số 25/2024/TT-BTNMT (Thông tư quy trình mới) thì nội dung công việc là tương đồng nhau, định mức công không thay đổi so với định mức công cũ của Thông tư số 35/2017/TT-BTNMT
F89: 3.2 | G89: Nhập thông tin mô tả của dữ liệu phi cấu trúc và tạo liên kết giữa dữ liệu phi cấu trúc về quy hoạch, kế hoạch sử dụng đất với các đối tượng không gian | H89: Kỳ QH (năm kế hoạch) | I89: 1KS1 | J89: 2 | K89: Tính bằng 2 lần ở cấp xã
F90: 3.3 | G90: Vận chuyển, bàn giao tài liệu cho đơn vị quản lý hồ sơ, tài liệu | H90: Kỳ QH (năm kế hoạch) | I90: Nhóm 2(1KTV4 + 1KS3) | J90: 0.25 | K90: Đây là nội dung công việc mới quy định tại Thông tư số 25/2024/TT-BTNMT. Sau khi tính thử, làm thử và sử dụng phương pháp so sánh, phân tích, thống kê, tổng hợp và kinh nghiệm đưa ra mức công việc 1 ngày Vận chuyển tài liệu thu thập đến địa điểm thực hiện số hóa Kỳ kiểm kê (năm thống kê). KS3 sử dụng cho việc lựa chọn sắp xếp tài liệu, KTV4 làm nhiệm vụ vận chuyển, hỗ trợ cho KS3
A91: 4 | B91: Xây dựng dữ liệu thuộc quy hoạch, kế hoạch sử dụng đất | C91: Kỳ QH (năm kế hoạch) | F91: 4 | G91: Xây dựng dữ liệu thuộc quy hoạch, kế hoạch sử dụng đất
A92: 4.1 | B92: Đối với tài liệu, số liệu là bảng, biểu dạng số thì thực hiện như sau | C92: Kỳ QH (năm kế hoạch) | K92: Đây là nội dung công việc đã được lược bỏ và thay đổi phương pháp thực hiện theo quy định tại Thông tư số 25/2024/TT-BTNMT nên không được tính định biên và định mức cho nội dung này
A93: 4.1.1 | B93: Lập mô hình chuyển đổi CSDL quy hoạch, kế hoạch sử dụng đất | C93: Kỳ QH (năm kế hoạch) | D93: 1KS3 | E93: 1 | K93: Đây là nội dung công việc đã được lược bỏ và thay đổi phương pháp thực hiện theo quy định tại Thông tư số 25/2024/TT-BTNMT nên không được tính định biên và định mức cho nội dung này
A94: 4.1.2 | B94: Chuyển đổi vào CSDL quy hoạch, kế hoạch sử dụng đất | C94: Kỳ QH (năm kế hoạch) | D94: 1KS2 | E94: 3.4 | K94: Đây là nội dung công việc đã được lược bỏ và thay đổi phương pháp thực hiện theo quy định tại Thông tư số 25/2024/TT-BTNMT nên không được tính định biên và định mức cho nội dung này
A95: 4.2 | B95: Đối với tài liệu, số liệu là báo cáo dạng số thì tạo danh mục tra cứu trong CSDL quy hoạch, kế hoạch sử dụng đất | C95: Kỳ QH (năm kế hoạch) | D95: 1KS2 | E95: 1.7 | K95: Đây là nội dung công việc đã được lược bỏ và thay đổi phương pháp thực hiện theo quy định tại Thông tư số 25/2024/TT-BTNMT nên không được tính định biên và định mức cho nội dung này
A96: 4.3 | B96: Nhập dữ liệu thuộc tính quy hoạch, kế hoạch sử dụng đất | C96: Kỳ QH (năm kế hoạch) | D96: 1KS1 | E96: 7 | F96: 4.1 | G96: Dữ liệu về quy hoạch sử dụng đất cấp tỉnh | H96: Kỳ QH (năm kế hoạch) | I96: 1KS2 | J96: 7 | K96: Nội dung này tương ứng với mục 4.3 (II). Sử dụng phương pháp so sánh và phân tích nội dung thực hiện giữa Thông tư số 05/2017/TT-BTNMT (Thông tư quy trình cũ) với Thông tư số 25/2024/TT-BTNMT (Thông tư quy trình mới) thì nội dung công việc là tương đồng nhau, định mức công không thay đổi so với định mức công cũ của Thông tư số 35/2017/TT-BTNMT
F97: 4.2 | G97: Dữ liệu về kế hoạch sử dụng đất cấp tỉnh | H97: Kỳ QH (năm kế hoạch) | I97: 1KS1 | J97: 7 | K97: Nội dung này tương ứng với mục 4.3 (II). Sử dụng phương pháp so sánh và phân tích nội dung thực hiện giữa Thông tư số 05/2017/TT-BTNMT (Thông tư quy trình cũ) với Thông tư số 25/2024/TT-BTNMT (Thông tư quy trình mới) thì nội dung công việc là tương đồng nhau, định mức công không thay đổi so với định mức công cũ của Thông tư số 35/2017/TT-BTNMT
A98: 5 | B98: Đối soát, hoàn thiện dữ liệu quy hoạch, kế hoạch sử dụng đất | C98: Kỳ QH (năm kế hoạch) | F98: 5 | G98: Đối soát, hoàn thiện dữ liệu quy hoạch, kế hoạch sử dụng đất | H98: Kỳ QH (năm kế hoạch)
A99: 5.1 | B99: Đối soát, hoàn thiện dữ liệu quy hoạch sử dụng đất | C99: Kỳ QH (năm kế hoạch) | D99: Nhóm 2 (1KTV4+1KS2) | E99: 10 | F99: 5.1 | G99: Đối soát đảm bảo 100% thông tin trong cơ sở dữ liệu quy hoạch sử dụng đất tuân thủ theo đúng quy định về nội dung, cấu trúc, kiểu thông tin của cơ sở dữ liệu quốc gia về đất đai | H99: Kỳ QH (năm kế hoạch) | I99: Nhóm 2 (1KTV4+1KS2) | J99: 10 | K99: Nội dung này tương ứng với mục 4.3 (II). Sử dụng phương pháp so sánh và phân tích nội dung thực hiện giữa Thông tư số 05/2017/TT-BTNMT (Thông tư quy trình cũ) với Thông tư số 25/2024/TT-BTNMT (Thông tư quy trình mới) thì nội dung công việc là tương đồng nhau, định mức công không thay đổi so với định mức công cũ của Thông tư số 35/2017/TT-BTNMT
A100: 5.2 | B100: Đối soát, hoàn thiện dữ liệu kế hoạch sử dụng đất | C100: Kỳ QH (năm kế hoạch) | D100: Nhóm 2 (1KTV4+1KS2) | E100: 5 | F100: 5.2 | G100: Đối soát đảm bảo 100% thông tin trong cơ sở dữ liệu kế hoạch sử dụng đất tuân thủ theo đúng quy định về nội dung, cấu trúc, kiểu thông tin của cơ sở dữ liệu quốc gia về đất đai | H100: Kỳ QH (năm kế hoạch) | I100: Nhóm 2 (1KTV4+1KS2) | J100: 5 | K100: Nội dung này tương ứng với mục 4.3 (II). Sử dụng phương pháp so sánh và phân tích nội dung thực hiện giữa Thông tư số 05/2017/TT-BTNMT (Thông tư quy trình cũ) với Thông tư số 25/2024/TT-BTNMT (Thông tư quy trình mới) thì nội dung công việc là tương đồng nhau, định mức công không thay đổi so với định mức công cũ của Thông tư số 35/2017/TT-BTNMT
...

Sheet 4. CSDL Gia Dat
A1: Thông tư 35/2017/TT-BTNMT ngày 04/10/2017 | F1: Dự thảo: Định mức Kinh tế kỹ thuật xây dựng cơ sở dữ liệu đất đai (Theo quy định về quy trình xây dựng cơ sở dữ liệu quốc gia về đất đai | K1: Giải trình các nội dung sửa đổi, bổ sung và xây dựng mới
A2: STT | B2: Nội dung công việc | C2: Đơn vị tính | D2: Định biên | E2: Định mức (công nhóm) | F2: STT | G2: Nội dung công việc | H2: Đơn vị tính | I2: Định biên | J2: Định mức (công nhóm)
A3: I | B3: Công tác chuẩn bị; thu thập tài liệu, dữ liệu; rà soát, đánh giá, phân loại và sắp xếp tài liệu, dữ liệu; quét giấy tờ pháp lý và xử lý tệp tin; xây dựng siêu dữ liệu giá đất; kiểm tra, nghiệm thu CSDL giá đất(Bảng166) | F3: I | G3: Công tác chuẩn bị; thu thập tài liệu, dữ liệu; rà soát, đánh giá, phân loại và sắp xếp tài liệu, dữ liệu; quét giấy tờ pháp lý và xử lý tệp tin; xây dựng siêu dữ liệu giá đất; tích hợp dữ liệu vào hệ thống(Bảng128)
A4: 1 | B4: Công tác chuẩn bị | F4: 1 | G4: Công tác chuẩn bị
A5: 1.1 | B5: Lập kế hoạch thi công chi tiết: xác định thời gian, địa điểm, khối lượng và nhân lực thực hiện của từng bước công việc; kế hoạch làm việc với các đơn vị có liên quan đến công tác xây dựng CSDL giá đất trên địa bàn thi công | C5: huyện | D5: Nhóm 2 (1 KTV2+1KS4) | E5: 2 | F5: 1.1 | G5: 1. Lập kế hoạch thi công chi tiết: xác định thời gian, địa điểm, khối lượng và nhân lực thực hiện của từng bước công việc; kế hoạch làm việc với các đơn vị có liên quan đến công tác xây dựng cơ sở dữ liệu giá đất trên địa bàn thi công. | H5: Xã | I5: Nhóm 2 (1 KTV2+1KS4) | J5: 2 | K5: Sử dụng phương pháp so sánh và phân tích nội dung thực hiện giữa Thông tư số 05/2017/TT-BTNMT (Thông tư quy trình cũ) với Thông tư số 25/2024/TT-BTNMT (Thông tư quy trình mới) thì nội dung công việc là tương đồng nhau, định mức công không thay đổi so với định mức công cũ của Thông tư số 35/2017/TT-BTNMT
A6: 1.2 | B6: Chuẩn bị nhân lực, địa điểm làm việc; chuẩn bị vật tư, thiết bị, dụng cụ, phần mềm cho công tác xây dựng CSDL giá đất | C6: huyện | D6: Nhóm 2 (1 KTV4+1KS2) | E6: 2 | F6: 1.2 | G6: Chuẩn bị nhân lực, địa điểm làm việc; Chuẩn bị vật tư, thiết bị, dụng cụ, phần mềm cho công tác xây dựng cơ sở dữ liệu giá đất. | H6: Xã | I6: Nhóm 2 (1 KTV4+1KS2) | J6: 2 | K6: Sử dụng phương pháp so sánh và phân tích nội dung thực hiện giữa Thông tư số 05/2017/TT-BTNMT (Thông tư quy trình cũ) với Thông tư số 25/2024/TT-BTNMT (Thông tư quy trình mới) thì công việc đã được tách thành 02 nội dung: - Chuẩn bị nhân lực, địa điểm làm việc. - Chuẩn bị vật tư, thiết bị, dụng cụ, phần mềm cho công tác xây dựng cơ sở dữ liệu giá đất. Sau khi tính thử làm thử và sử dụng phương pháp so sánh các định mức đã thực hiện trong điều kiện có thể so sánh được để tính toán thì định mức công giảm 1/2 so với định mức công cũ của Thông tư số 35/2017/TT-BTNMT
A7: 2 | B7: Thu thập tài liệu, dữ liệu | C7: huyện | F7: 2 | G7: Thu thập tài liệu, dữ liệu | H7: Xã
B8: Thu thập dữ liệu, tài liệu | C8: huyện | D8: Nhóm 2 (1 KTV4+1KS3) | E8: 6 | F8: 2.1 | G8: Thu thập dữ liệu, tài liệu | H8: Xã | I8: Nhóm 2 (1 KTV4+1KS3) | J8: 6 | K8: Sử dụng phương pháp so sánh và phân tích nội dung thực hiện giữa Thông tư số 05/2017/TT-BTNMT (Thông tư quy trình cũ) với Thông tư số 25/2024/TT-BTNMT (Thông tư quy trình mới) thì nội dung công việc là tương đồng nhau, định mức công không thay đổi so với định mức công cũ của Thông tư số 35/2017/TT-BTNMT
F9: 2.2 | G9: Vận chuyển tài liệu thu thập đến địa điểm thực hiện số hóa. | H9: Xã | I9: Nhóm 2 (1 KTV4+1KS3) | J9: 6 | K9: Sử dụng phương pháp so sánh và phân tích nội dung thực hiện giữa Thông tư số 05/2017/TT-BTNMT (Thông tư quy trình cũ) với Thông tư số 25/2024/TT-BTNMT (Thông tư quy trình mới) thì đây là nội dung công việc mới. Sau khi tính thử, làm thử và sử dụng phương pháp so sánh với định mức đã thực hiện trong điều kiện có thể so sánh được để tính toán thì định mức công tính ra tương đương với nội dung công việc "2.1.Thu thập tài liệu, dữ liệu thu thập cho việc xây dựng cơ sở dữ liệu địa chính"
A10: 3 | B10: Rà soát, đánh giá, phân loại và sắp xếp tài liệu, dữ liệu | C10: huyện | F10: 3 | G10: Rà soát, đánh giá, phân loại và sắp xếp tài liệu, dữ liệu | H10: Xã
A11: 3.1 | B11: Rà soát, đánh giá, phân loại | C11: huyện | D11: 1KS3 | E11: 15 | F11: 3.1 | G11: Rà soát, đánh giá, phân loại | H11: Xã | I11: 1KS3 | J11: 15 | K11: Sử dụng phương pháp so sánh và phân tích nội dung thực hiện giữa Thông tư số 05/2017/TT-BTNMT (Thông tư quy trình cũ) với Thông tư số 25/2024/TT-BTNMT (Thông tư quy trình mới) thì nội dung công việc là tương đồng nhau, định mức công không thay đổi so với định mức công cũ của Thông tư số 35/2017/TT-BTNMT
A12: 3.2 | B12: Làm sạch, sắp xếp theo các nhóm dữ liệu giá đất, theo trình tự thời gian hình thành tài liệu, dữ liệu. | C12: huyện | D12: 1KS3 | E12: 5 | K12: Trong Thông tư số 25/2024/TT-BTNMT không có nội dung này
A13: 3.3 | B13: Lập báo cáo kết quả thực hiện | C13: huyện | D13: 1KS3 | E13: 2 | F13: 3.2 | G13: Lập báo cáo kết quả thực hiện | H13: Xã | I13: 1KS3 | J13: 2 | K13: Sử dụng phương pháp so sánh và phân tích nội dung thực hiện giữa Thông tư số 05/2017/TT-BTNMT (Thông tư quy trình cũ) với Thông tư số 25/2024/TT-BTNMT (Thông tư quy trình mới) thì nội dung công việc là tương đồng nhau, định mức công không thay đổi so với định mức công cũ của Thông tư số 35/2017/TT-BTNMT
A14: 4 | B14: Quét giấy tờ pháp lý và xử lý tập tin | C14: huyện | F14: 4 | G14: Xây dựng dữ liệu đất đai phi cấu trúc về giá đất | H14: Xã
B15: Tạo danh mục tra cứu hồ sơ quét trong CSDL giá đất | C15: huyện | D15: 1KS1 | E15: 2 | F15: 4.1 | G15: Tạo danh mục tra cứu dữ liệu phi cấu trúc trong cơ sở dữ liệu giá đất đối với các tài liệu dạng số mà không liên kết với các đối tượng không gian | H15: Xã | I15: 1KS1 | J15: 2 | K15: Sử dụng phương pháp so sánh và phân tích nội dung thực hiện giữa Thông tư số 05/2017/TT-BTNMT (Thông tư quy trình cũ) với Thông tư số 25/2024/TT-BTNMT (Thông tư quy trình mới) thì nội dung công việc là tương đồng nhau, định mức công không thay đổi so với định mức công cũ của Thông tư số 35/2017/TT-BTNMT
F16: 4.2 | G16: Vận chuyển, bàn giao tài liệu cho đơn vị quản lý hồ sơ, tài liệu. | H16: Xã | I16: Nhóm 2 (1 KTV4 + 1KS3) | J16: =J8 -> 6 | K16: Đây là nội dung công việc mới quy định tại Thông tư số 25/2024/TT-BTNMT. Sau khi tính thử, làm thử và sử dụng phương pháp so sánh, phân tích, thống kê, tổng hợp và kinh nghiệm đưa ra mức công việc 1 ngày Vận chuyển tài liệu thu thập đến địa điểm thực hiện số hóa Kỳ kiểm kê (năm thống kê). KS3 sử dụng cho việc lựa chọn sắp xếp tài liệu, KTV4 làm nhiệm vụ vận chuyển, hỗ trợ cho KS3
A17: 5 | B17: Xây dựng siêu dữ liệu giá đất | F17: 5 | G17: Xây dựng siêu dữ liệu giá đất
A18: 5.1 | B18: Thu nhận các thông tin cần thiết để xây dựng siêu dữ liệu (thông tin mô tả dữ liệu) giá đất | C18: huyện | D18: 1KS1 | E18: 3 | F18: 5.1 | G18: Thu nhận các thông tin cần thiết để xây dựng siêu dữ liệu (thông tin mô tả dữ liệu) giá đất | H18: Xã | I18: 1KS1 | J18: 3 | K18: Sử dụng phương pháp so sánh và phân tích nội dung thực hiện giữa Thông tư số 05/2017/TT-BTNMT (Thông tư quy trình cũ) với Thông tư số 25/2024/TT-BTNMT (Thông tư quy trình mới) thì nội dung công việc là tương đồng nhau, định mức công không thay đổi so với định mức công cũ của Thông tư số 35/2017/TT-BTNMT
A19: 5.2 | B19: Nhập thông tin siêu dữ liệu giá đất | C19: huyện | D19: 1KS1 | E19: 1 | F19: 5.2 | G19: Nhập thông tin siêu dữ liệu giá đất | H19: Xã | I19: 1KS1 | J19: 1 | K19: Sử dụng phương pháp so sánh và phân tích nội dung thực hiện giữa Thông tư số 05/2017/TT-BTNMT (Thông tư quy trình cũ) với Thông tư số 25/2024/TT-BTNMT (Thông tư quy trình mới) thì nội dung công việc là tương đồng nhau, định mức công không thay đổi so với định mức công cũ của Thông tư số 35/2017/TT-BTNMT
A20: 6 | B20: Kiểm tra, nghiệm thu CSDL giá đất | C20: huyện
A21: 6.1 | B21: Đơn vị thi công chuẩn bị tài liệu và phục vụ giám sát, kiểm tra, nghiệm thu. | C21: huyện | D21: 1KTV4 | E21: 10
A22: 6.3 | B22: Đóng gói giao nộp CSDL giá đất | C22: huyện | D22: 1KS2 | E22: 2
F23: 6 | G23: Tích hợp dữ liệu vào hệ thống
A24: 6.2 | B24: Thực hiện kiểm tra tổng thể CSDL giá đất và tích hợp vào hệ thống ngay sau khi được nghiệm thu phục vụ quản lý, vận hành, khai thác sử dụng | C24: huyện | D24: 1KS3 | E24: 5 | G24: Thực hiện kiểm tra tổng thể CSDL giá đất và tích hợp vào hệ thống ngay sau khi được nghiệm thu phục vụ quản lý, vận hành, khai thác sử dụng | H24: Xã | I24: 1KS3 | J24: 5 | K24: Sử dụng phương pháp so sánh và phân tích nội dung thực hiện giữa Thông tư số 05/2017/TT-BTNMT (Thông tư quy trình cũ) với Thông tư số 25/2024/TT-BTNMT (Thông tư quy trình mới) thì nội dung công việc là tương đồng nhau, định mức công không thay đổi so với định mức công cũ của Thông tư số 35/2017/TT-BTNMT
A25: II | B25: Xây dựng dữ liệu thuộc tính giá đất; đối soát hoàn thiện dữ liệu giá đất (bảng167) | F25: II | G25: Xây dựng dữ liệu thuộc tính giá đất; đối soát hoàn thiện dữ liệu giá đất
A26: 1 | B26: Xây dựng dữ liệu thuộc tính giá đất | C26: Thửa | F26: 1 | G26: Xây dựng dữ liệu thuộc tính giá đất | H26: Thửa
B27: Nhập dữ liệu thuộc tính giá đất vào CSDL giá đất gồm | C27: Thửa | G27: Nhập dữ liệu thuộc tính giá đất vào CSDL giá đất gồm | H27: Thửa
A28: 1.1 | B28: Dữ liệu giá đất theo bảng giá đất đối với địa phương đã ban hành bảng giá đất đến từng thửa đất | C28: Thửa | D28: 1KS1 | E28: 0.0162 | F28: 1.1 | G28: Dữ liệu về quyết định giá đất. | H28: Thửa | I28: 1KS1 | J28: 0.0162 | K28: Sử dụng phương pháp so sánh và phân tích nội dung thực hiện giữa Thông tư số 05/2017/TT-BTNMT (Thông tư quy trình cũ) với Thông tư số 25/2024/TT-BTNMT (Thông tư quy trình mới) thì nội dung công việc là tương đồng nhau, định mức công không thay đổi so với định mức công cũ của Thông tư số 35/2017/TT-BTNMT
F29: 1.2 | G29: Dữ liệu về bảng giá đất. | H29: Thửa | I29: 1KS1 | J29: 0.0162 | K29: Sử dụng phương pháp so sánh và phân tích nội dung thực hiện giữa Thông tư số 05/2017/TT-BTNMT (Thông tư quy trình cũ) với Thông tư số 25/2024/TT-BTNMT (Thông tư quy trình mới) thì đây là nội dung công việc mới. Sau khi tính thử, làm thử và sử dụng phương pháp so sánh với định mức đã thực hiện trong điều kiện có thể so sánh được để tính toán thì định mức công tính ra tương đương với nội dung công việc "1.1.Dữ liệu về quyết định giá đất"
F30: 1.3 | G30: Dữ liệu về giá thửa đất | I30: 1KS1
F31: 1.3.1 | G31: Dữ liệu về giá thửa đất: giá đất cụ thể; giá đất trong hợp đồng chuyển nhượng quyền sử dụng đất; giá đất trúng đấu giá; giá đất thu thập thông qua điều tra khảo sát, phiếu thu thập thông tin về thửa đất. | H31: Thửa | I31: 1KS1
A32: 1.2 | B32: Dữ liệu giá đất cụ thể | C32: Thửa | D32: 1KS1 | E32: 0.0243 | F32: 1.3.1.1 | G32: Giá đất cụ thể | J32: 0.0243 | K32: Sử dụng phương pháp so sánh và phân tích nội dung thực hiện giữa Thông tư số 05/2017/TT-BTNMT (Thông tư quy trình cũ) với Thông tư số 25/2024/TT-BTNMT (Thông tư quy trình mới) thì nội dung công việc là tương đồng nhau, định mức công không thay đổi so với định mức công cũ của Thông tư số 35/2017/TT-BTNMT
F33: 1.3.1.2 | G33: Giá đất trong hợp đồng chuyển nhượng quyền sử dụng đất | I33: 1KS1 | J33: 0.0097 | K33: Sử dụng phương pháp so sánh và phân tích nội dung thực hiện giữa Thông tư số 05/2017/TT-BTNMT (Thông tư quy trình cũ) với Thông tư số 25/2024/TT-BTNMT (Thông tư quy trình mới) thì đây là nội dung công việc mới. Sau khi tính thử, làm thử và sử dụng phương pháp so sánh với định mức đã thực hiện trong điều kiện có thể so sánh được để tính toán thì định mức công tính ra tương đương với nội dung công việc "1.3.Dữ liệu giá đất trúng đấu giá quyền sử dụng đất"
A34: 1.3 | B34: Dữ liệu giá đất trúng đấu giá quyền sử dụng đất | C34: Thửa | D34: 1KS1 | E34: 0.0097 | F34: 1.3.1.3 | G34: Giá đất trúng đấu giá | I34: 1KS1 | J34: 0.0097 | K34: Sử dụng phương pháp so sánh và phân tích nội dung thực hiện giữa Thông tư số 05/2017/TT-BTNMT (Thông tư quy trình cũ) với Thông tư số 25/2024/TT-BTNMT (Thông tư quy trình mới) thì nội dung công việc là tương đồng nhau, định mức công không thay đổi so với định mức công cũ của Thông tư số 35/2017/TT-BTNMT
A35: 1.4 | B35: Dữ liệu giá đất chuyển nhượng trên thị trường theo Phiếu thu thập thông tin về thửa đất | C35: Thửa | D35: 1KS1 | E35: 0.0081 | F35: 1.3.1.4 | G35: Giá đất thu thập thông qua điều tra khảo sát, phiếu thu thập thông tin về thửa đất | I35: 1KS1 | J35: 0.0081 | K35: Sử dụng phương pháp so sánh và phân tích nội dung thực hiện giữa Thông tư số 05/2017/TT-BTNMT (Thông tư quy trình cũ) với Thông tư số 25/2024/TT-BTNMT (Thông tư quy trình mới) thì nội dung công việc là tương đồng nhau, định mức công không thay đổi so với định mức công cũ của Thông tư số 35/2017/TT-BTNMT
F36: 1.3.2 | G36: Trường hợp địa phương đã ban hành bảng giá đất đến từng thửa đất thì thực hiện lập mô hình chuyển đổi và chuyển đổi dữ liệu vào cơ sở dữ liệu.
F37: 1.3.2.1 | G37: Lập mô hình chuyển đổi cấu trúc dữ liệu của bảng giá đấy đã được ban hành | I37: 1KS1 | J37: 0.001 | K37: Sử dụng phương pháp so sánh và phân tích nội dung thực hiện giữa Thông tư số 05/2017/TT-BTNMT (Thông tư quy trình cũ) với Thông tư số 25/2024/TT-BTNMT (Thông tư quy trình mới) thì đây là nội dung công việc mới. Sau khi tính thử, làm thử và sử dụng phương pháp so sánh với các nội dung của định mức đã thực hiện trong điều kiện có thể so sánh được để tính toán thì định mức công tính ra tương đương với nội dung công việc "2,1.Lập mô hình chuyển đổi cấu trúc dữ liệu của cơ sở dữ liệu địa chính đã xây dựng sang cấu trúc dữ liệu của cơ sở dữ liệu quốc gia về đất đai."
F38: 1.3.2.2 | G38: Chuyển đổi cấu trúc dữ liệu thuộc tính giá đất | I38: 1KS1 | J38: 0.0003 | K38: Sử dụng phương pháp so sánh và phân tích nội dung thực hiện giữa Thông tư số 05/2017/TT-BTNMT (Thông tư quy trình cũ) với Thông tư số 25/2024/TT-BTNMT (Thông tư quy trình mới) thì đây là nội dung công việc mới. Sau khi tính thử, làm thử và sử dụng phương pháp so sánh với các nội dung của định mức đã thực hiện trong điều kiện có thể so sánh được để tính toán thì định mức công tính ra tương đương với nội dung công việc "2,3.Chuyển đổi cấu trúc dữ liệu thuộc tính giá đất"
F39: 1.3.2.3 | G39: Chuyển đổi cấu trúc dữ liệu hồ sơ quét | I39: 1KS1 | J39: 0.015 | K39: Sử dụng phương pháp so sánh và phân tích nội dung thực hiện giữa Thông tư số 05/2017/TT-BTNMT (Thông tư quy trình cũ) với Thông tư số 25/2024/TT-BTNMT (Thông tư quy trình mới) thì đây là nội dung công việc mới. Sau khi tính thử, làm thử và sử dụng phương pháp so sánh với các nội dung của định mức đã thực hiện trong điều kiện có thể so sánh được để tính toán thì định mức công tính ra tương đương với nội dung công việc "1.5 Dữ liệu vị trí thửa đất, tên đường, phố hoặc tên đoạn đường, đoạn phố hoặc khu vực theo bảng giá đất, hệ số điều chỉnh giá đất (đối với thửa đất đã có Phiếu chuyển thông tin để xác định nghĩa vụ tài chính về đất đai)"
A40: 1.5 | B40: Dữ liệu vị trí thửa đất, tên đường, phố hoặc tên đoạn đường, đoạn phố hoặc khu vực theo bảng giá đất, hệ số điều chỉnh giá đất (đối với thửa đất đã có Phiếu chuyển thông tin để xác định nghĩa vụ tài chính về đất đai) | C40: Thửa | D40: 1KS1 | E40: 0.015 | F40: 1.4 | G40: Dữ liệu vị trí thửa đất, tên đường, phố hoặc tên đoạn đường, đoạn phố hoặc khu vực theo bảng giá đất, hệ số điều chỉnh giá đất (đối với thửa đất đã có Phiếu chuyển thông tin để xác định nghĩa vụ tài chính về đất đai) | I40: 1KS1 | J40: 0.015 | K40: Sử dụng phương pháp so sánh và phân tích nội dung thực hiện giữa Thông tư số 05/2017/TT-BTNMT (Thông tư quy trình cũ) với Thông tư số 25/2024/TT-BTNMT (Thông tư quy trình mới) thì nội dung công việc là tương đồng nhau, định mức công không thay đổi so với định mức công cũ của Thông tư số 35/2017/TT-BTNMT
A41: 2 | B41: Đối soát, hoàn thiện dữ liệu giá đất | C41: Thửa | F41: 2 | G41: Đối soát, hoàn thiện dữ liệu và xây dựng siêu dữ liệu giá đất | H41: Thửa
B42: Đối soát và hoàn thiện chất lượng dữ liệu giá đất với các tài liệu giá đất đã sử dụng để xây dựng CSDL giá đất | C42: Thửa | D42: 1KS3 | E42: 0.0147 | F42: 2.1 | G42: Đối soát đảm bảo 100% thông tin trong cơ sở dữ liệu giá đất tuân thủ theo đúng quy định về nội dung, cấu trúc, kiểu thông tin của cơ sở dữ liệu quốc gia về đất đai. | H42: Thửa | I42: 1KS3 | J42: 0.0147 | K42: Sử dụng phương pháp so sánh và phân tích nội dung thực hiện giữa Thông tư số 05/2017/TT-BTNMT (Thông tư quy trình cũ) với Thông tư số 25/2024/TT-BTNMT (Thông tư quy trình mới) thì nội dung công việc là tương đồng nhau, định mức công không thay đổi so với định mức công cũ của Thông tư số 35/2017/TT-BTNMT
F43: III | G43: Xây dựng dữ liệu không gian giá đất
F44: 1 | G44: Chuẩn hóa các lớp đối tượng không gian giá đất: | K44: Sử dụng phương pháp so sánh và phân tích nội dung thực hiện giữa Thông tư số 05/2017/TT-BTNMT (Thông tư quy trình cũ) với Thông tư số 25/2024/TT-BTNMT (Thông tư quy trình mới) thì đây là nội dung công việc mới.
F45: 1.1 | G45: Chuẩn hóa các lớp đối tượng không gian giá đất: lớp vùng giá trị; lớp thửa đất chuẩn; lớp dữ liệu thửa đất cụ thể; | H45: vùng/thửa | I45: 1KS3 | J45: =0.0068 -> 0.0068 | K45: Sử dụng phương pháp so sánh và phân tích nội dung thực hiện giữa Thông tư số 05/2017/TT-BTNMT (Thông tư quy trình cũ) với Thông tư số 25/2024/TT-BTNMT (Thông tư quy trình mới) thì đây là nội dung công việc mới. Sau khi tính thử, làm thử và sử dụng phương pháp so sánh với định mức đã thực hiện trong điều kiện có thể so sánh được để tính toán thì định mức công tính ra tương đương với nội dung công việc "4.1.2.Chuẩn hóa các lớp đối tượng không gian địa chính chưa phù hợp với quy định kỹ thuật về CSDL đất đai"
F46: 1.2 | G46: Rà soát chuẩn hóa thông tin thuộc tính cho từng đối tượng không gian giá đất theo quy định về cơ sở dữ liệu quốc gia về đất đai. | H46: vùng/thửa | I46: 1KS3 | J46: =0.0125 -> 0.0125 | K46: Sử dụng phương pháp so sánh và phân tích nội dung thực hiện giữa Thông tư số 05/2017/TT-BTNMT (Thông tư quy trình cũ) với Thông tư số 25/2024/TT-BTNMT (Thông tư quy trình mới) thì đây là nội dung công việc mới. Sau khi tính thử, làm thử và sử dụng phương pháp so sánh với định mức đã thực hiện trong điều kiện có thể so sánh được để tính toán thì định mức công tính ra tương đương với nội dung công việc "4.1.3.Rà soát chuẩn hóa thông tin thuộc tính cho từng đối tượng không gian địa chính theo quy định kỹ thuật về CSDL đất đai"
F47: 2 | G47: Chuyển đổi và tích hợp không gian giá đất: | K47: Sử dụng phương pháp so sánh và phân tích nội dung thực hiện giữa Thông tư số 05/2017/TT-BTNMT (Thông tư quy trình cũ) với Thông tư số 25/2024/TT-BTNMT (Thông tư quy trình mới) thì đây là nội dung công việc mới.
F48: 2.1 | G48: Chuyển đổi các lớp đối tượng không gian giá đất vào cơ sở dữ liệu đất đai theo đơn vị hành chính; | H48: vùng/thửa | I48: 1KS3 | J48: 0.0015 | K48: Sử dụng phương pháp so sánh và phân tích nội dung thực hiện giữa Thông tư số 05/2017/TT-BTNMT (Thông tư quy trình cũ) với Thông tư số 25/2024/TT-BTNMT (Thông tư quy trình mới) thì đây là nội dung công việc mới. Sau khi tính thử, làm thử và sử dụng phương pháp so sánh với định mức đã thực hiện trong điều kiện có thể so sánh được để tính toán thì định mức công tính ra tương đương với nội dung công việc "4.2.Chuyển đổi các lớp đối tượng không gian địa chính từ tệp (File) bản đồ số vào CSDL theo phạm vi đơn vị hành chính cấp xã"
F49: 2.2 | G49: Rà soát dữ liệu không gian để xử lý các lỗi dọc biên giữa các đơn vị hành chính tiếp giáp nhau. | H49: vùng/thửa | I49: 1KS3 | J49: 0.0125 | K49: Sử dụng phương pháp so sánh và phân tích nội dung thực hiện giữa Thông tư số 05/2017/TT-BTNMT (Thông tư quy trình cũ) với Thông tư số 25/2024/TT-BTNMT (Thông tư quy trình mới) thì đây là nội dung công việc mới. Sau khi tính thử, làm thử và sử dụng phương pháp so sánh với định mức đã thực hiện trong điều kiện có thể so sánh được để tính toán thì định mức công tính ra tương đương với nội dung công việc "4.1.3.Rà soát chuẩn hóa thông tin thuộc tính cho từng đối tượng không gian địa chính theo quy định kỹ thuật về CSDL đất đai"

Sheet 5. CSDL DT-DG-BV-CT-PHD
A2: STT | B2: Nội dung công việc | C2: ĐVT | D2: Định biên | E2: Định mức (Công nhóm/ĐVT) | F2: Công đơn | G2: Công nhóm
A3: 1 | B3: Công tác chuẩn bị | F3: =F4+F5 -> 20
A4: 1.1 | B4: Lập kế hoạch thi công chi tiết: xác định thời gian, địa điểm, khối lượng và nhân lực thực hiện của từng bước công việc; kế hoạch làm việc với các đơn vị có liên quan đến công tác xây dựng cơ sở dữ liệu điều tra, đánh giá, bảo vệ, cải tạo, phục hồi đất | C4: Kỳ thực hiện/tỉnh | D4: Nhóm 2 (KS2+KS4) | E4: 5 | F4: =E4*2 -> 10
A5: 1.2 | B5: Chuẩn bị vật tư, thiết bị, dụng cụ, phần mềm cho công tác xây dựng cơ sở dữ liệu điều tra, đánh giá, bảo vệ, cải tạo, phục hồi đất. Chuẩn bị nhân lực, địa điểm làm việc | C5: Kỳ thực hiện/tỉnh | D5: Nhóm 2 (KS2+KS4) | E5: 5 | F5: =E5*2 -> 10
A6: 2 | B6: Thu thập tài liệu, dữ liệu | F6: =F7+F8 -> 18
A7: 2.1 | B7: Thu thập tài liệu, dữ liệu | C7: Kỳ thực hiện/tỉnh | D7: Nhóm 2 (KS3+KS4) | E7: 8 | F7: =E7*2 -> 16
A8: 2.2 | B8: Vận chuyển, bàn giao tài liệu cho đơn vị quản lý hồ sơ, tài liệu | C8: Kỳ thực hiện/tỉnh | D8: Nhóm 2 (KS3+KS4) | E8: 1 | F8: =E8*2 -> 2
A9: 3 | B9: Xây dựng dữ liệu thuộc tính điều tra, đánh giá, bảo vệ, cải tạo, phục hồi đất | F9: =F10+F11 -> 4
A10: 3.1 | B10: Lập mô hình chuyển đổi cơ sở dữ liệu điều tra, đánh giá, bảo vệ, cải tạo, phục hồi đất | C10: Kỳ thực hiện/tỉnh | D10: 1KS3 | E10: 1 | F10: =E10 -> 1
A11: 3.2 | B11: Chuyển đổi vào cơ sở dữ liệu điều tra, đánh giá, bảo vệ, cải tạo, phục hồi đất | C11: Kỳ thực hiện/tỉnh | D11: 1KS3 | E11: 3 | F11: =E11 -> 3
A12: 4 | B12: Xây dựng dữ liệu đất đai phi cấu trúc về điều tra, đánh giá, bảo vệ, cải tạo, phục hồi đất | F12: =F14+F15+F16+F17+F18+F19 -> 14.5
A13: 4.1 | B13: Quét các giấy tờ của bộ số liệu, tài liệu về kết quả điều tra, đánh giá, bảo vệ, cải tạo, phục hồi đất đưa vào cơ sở dữ liệu điều tra, đánh giá, bảo vệ, cải tạo, phục hồi đất. Chế độ quét của thiết bị được thiết lập theo hệ màu RGB với định dạng PDF, phiên bản 1.4 trở lên; độ phân giải tối thiểu: 200 dpi; tỷ lệ số hóa: 100%.
A14: 4.1.1 | B14: Trang A3 (200 trang) | C14: Trang A3 | D14: 1KS1 | E14: 4 | F14: =E14 -> 4
A15: 4.1.2 | B15: Trang A4 (500 trang) | C15: Trang A4 | D15: 1KS1 | E15: 1.5 | F15: =E15 -> 1.5
A16: 4.2 | B16: Xử lý các tệp tin quét thành các tệp tin theo quy định về dữ liệu điều tra, đánh giá, bảo vệ, cải tạo, phục hồi đất phi cấu trúc; lưu trữ dưới định dạng tệp tin PDF (ở định dạng không chỉnh sửa được); chất lượng hình ảnh số phải sắc nét và rõ ràng, các hình ảnh được sắp xếp theo cùng một hướng, hình ảnh phải được quét vuông góc, không được cong vênh | C16: Trang A3, A4 | D16: 1KS1 | E16: 2 | F16: =E16 -> 2
A17: 4.3 | B17: Nhập thông tin mô tả của dữ liệu phi cấu trúc và tạo liên kết giữa dữ liệu phi cấu trúc về điều tra, đánh giá đất với các đối tượng không gian | C17: Kỳ thực hiện/tỉnh | D17: 1KS1 | E17: 1.5 | F17: =E17 -> 1.5
A18: 4.4 | B18: Đối với các tài liệu dạng số mà không liên kết với các đối tượng không gian thì tạo danh mục tra cứu dữ liệu phi cấu trúc trong cơ sở dữ liệu điều tra, đánh giá đất | C18: Kỳ thực hiện/tỉnh | D18: 1KS1 | E18: 3.5 | F18: =E18 -> 3.5
A19: 4.5 | B19: Vận chuyển, bàn giao tài liệu cho đơn vị quản lý hồ sơ, tài liệu | C19: Kỳ thực hiện/tỉnh | D19: Nhóm 2 (KS3+KS4) | E19: 1 | F19: =E19*2 -> 2
A20: 5 | B20: Đối soát, hoàn thiện dữ liệu và xây dựng siêu dữ liệu điều tra, đánh giá, bảo vệ, cải tạo, phục hồi đất | F20: =F21+F23+F24 -> 23
A21: 5.1 | B21: Đối soát đảm bảo 100% thông tin trong cơ sở dữ liệu điều tra, đánh giá, bảo vệ, cải tạo, phục hồi đất tuân thủ theo đúng quy định về nội dung, cấu trúc, kiểu thông tin của cơ sở dữ liệu quốc gia về đất đai | C21: Kỳ thực hiện/tỉnh | D21: Nhóm 2 (KS2+KS4) | E21: 8 | F21: =E21*2 -> 16
A22: 5.2 | B22: Xây dựng siêu dữ liệu điều tra, đánh giá, bảo vệ, cải tạo, phục hồi đất
A23: 5.2.1 | B23: Thu nhận các thông tin cần thiết về các dữ liệu để xây dựng siêu dữ liệu | C23: Kỳ thực hiện/tỉnh | D23: 1KS1 | E23: 5.5 | F23: =E23 -> 5.5
A24: 5.2.2 | B24: Nhập thông tin siêu dữ liệu | C24: Kỳ thực hiện/tỉnh | D24: 1KS1 | E24: 1.5 | F24: =E24 -> 1.5
A25: 6 | B25: Tích hợp dữ liệu vào hệ thống | C25: Kỳ thực hiện/tỉnh | D25: 1KS1 | E25: 3.5 | F25: =E25 -> 3.5
E26: =SUM(E4:E25)*70/100 -> 38.5 | F26: =(F4+F5+F7+F8+F10+F11+F14+F15+F16+F17+F18+F19+F21+F23+F24+F25)*70/100 -> 58.1
A29: STT | B29: Nội dung công việc | C29: ĐVT | D29: Định biên | E29: Định mức (Công nhóm/ĐVT) | F29: Công đơn | G29: Công nhóm
A30: 1 | B30: Xây dựng dữ liệu không gian điều tra, đánh giá, bảo vệ, cải tạo, phục hồi đất
A31: 1.1 | B31: Chuẩn hóa các lớp đối tượng không gian điều tra, đánh giá, bảo vệ, cải tạo, phục hồi đất
A32: 1.1.1 | B32: Tách, lọc các đối tượng từ nội dung các lớp dữ liệu | C32: Lớp dữ liệu | D32: 1KS3 | E32: 6.5 | F32: =E32 -> 6.5
A33: 1.1.2 | B33: Chuẩn hóa các lớp đối tượng các lớp dữ liệu | C33: Lớp dữ liệu | D33: 1KS3 | E33: 22 | F33: =E33 -> 22
A34: 1.1.3 | B34: Nhập bổ sung các thông tin thuộc tính cho đối tượng không gian điều tra, đánh giá, bảo vệ, cải tạo, phục hồi đất còn thiếu (nếu có) | C34: Lớp dữ liệu | D34: 1KS3 | E34: 20 | F34: =E34 -> 20
A35: 1.1.4 | B35: Rà soát chuẩn hóa thông tin thuộc tính cho từng đối tượng không gian điều tra, đánh giá, bảo vệ, cải tạo, phục hồi đất | C35: Lớp dữ liệu | D35: 1KS3 | E35: 6.5 | F35: =E35 -> 6.5
A36: 2 | B36: Chuyển đổi dữ liệu không gian điều tra, đánh giá, bảo vệ, cải tạo, phục hồi đất | F36: =E36 -> 0
A37: 2.1 | B37: Chuyển đổi các lớp dữ liệu không gian điều tra, đánh giá, bảo vệ, cải tạo, phục hồi đất từ tệp (file) bản đồ số vào cơ sở dữ liệu đất đai | C37: Lớp dữ liệu | D37: 1KS3 | E37: 5.5 | F37: =E37 -> 5.5
A38: 2.2 | B38: Rà soát dữ liệu không gian điều tra, đánh giá, bảo vệ, cải tạo, phục hồi đất để xử lý các lỗi dọc biên giữa các vùng kinh tế - xã hội | C38: Lớp dữ liệu | D38: 1KS3 | E38: 10.5 | F38: =E38 -> 10.5
E39: =SUM(E32:E38)*70/100 -> 49.7 | F39: =SUM(F32:F38)*70/100 -> 49.7
A43: STT | B43: Nội dung công việc | C43: Công | D43: Hệ số
A44: 1 | B44: =B3 -> Công tác chuẩn bị | C44: =F3 -> 20 | D44: =C44/$C$50 -> 0.24096386
A45: 2 | B45: =B6 -> Thu thập tài liệu, dữ liệu | C45: =F6 -> 18 | D45: =C45/$C$50 -> 0.21686747
A46: 3 | B46: =B9 -> Xây dựng dữ liệu thuộc tính điều tra, đánh giá, bảo vệ, cải tạo, phục hồi đất | C46: =F9 -> 4 | D46: =C46/$C$50 -> 0.048192771
A47: 4 | B47: =B12 -> Xây dựng dữ liệu đất đai phi cấu trúc về điều tra, đánh giá, bảo vệ, cải tạo, phục hồi đất | C47: =F12 -> 14.5 | D47: =C47/$C$50 -> 0.1746988
A48: 5 | B48: =B20 -> Đối soát, hoàn thiện dữ liệu và xây dựng siêu dữ liệu điều tra, đánh giá, bảo vệ, cải tạo, phục hồi đất | C48: =F20 -> 23 | D48: =C48/$C$50 -> 0.27710843
A49: 6 | B49: =B25 -> Tích hợp dữ liệu vào hệ thống | C49: =F25 -> 3.5 | D49: =C49/$C$50 -> 0.042168675
C50: =SUM(C44:C49) -> 83

Sheet 5
A2: STT | B2: Nội dung công việc | C2: ĐVT | D2: Định biên | E2: Định mức (Công nhóm/ĐVT)
A3: 1 | B3: Công tác chuẩn bị
A4: 1.1 | B4: Lập kế hoạch thi công chi tiết: xác định thời gian, địa điểm, khối lượng và nhân lực thực hiện của từng bước công việc; kế hoạch làm việc với các đơn vị có liên quan đến công tác xây dựng cơ sở dữ liệu điều tra, đánh giá, bảo vệ, cải tạo, phục hồi đất | C4: Kỳ thực hiện/tỉnh | D4: Nhóm 2 (KS2+KS4) | E4: 7.5
A5: 1.2 | B5: Chuẩn bị vật tư, thiết bị, dụng cụ, phần mềm cho công tác xây dựng cơ sở dữ liệu điều tra, đánh giá, bảo vệ, cải tạo, phục hồi đất. Chuẩn bị nhân lực, địa điểm làm việc | C5: Kỳ thực hiện/tỉnh | D5: Nhóm 2 (KS2+KS4) | E5: 7.5
A6: 2 | B6: Thu thập tài liệu, dữ liệu
A7: 2.1 | B7: Thu thập tài liệu, dữ liệu | C7: Kỳ thực hiện/tỉnh | D7: Nhóm 2 (KS3+KS4) | E7: 12
A8: 2.2 | B8: Vận chuyển, bàn giao tài liệu cho đơn vị quản lý hồ sơ, tài liệu | C8: Kỳ thực hiện/tỉnh | D8: Nhóm 2 (KS3+KS4) | E8: 1
A9: 3 | B9: Xây dựng dữ liệu thuộc tính điều tra, đánh giá, bảo vệ, cải tạo, phục hồi đất
A10: 3.1 | B10: Dữ liệu thuộc tính kết quả điều tra, đánh giá, bảo vệ, cải tạo, phục hồi đất
A11: 3.2 | B11: Nhập dữ liệu thuộc tính điều tra, đánh giá , bảo vệ, cải tạo, phục hồi đất
A12: 3.3 | B12: Đối với tài liệu, số liệu là bảng, biểu dạng số thì thực hiện như sau
A13: 3.3.1 | B13: Lập mô hình chuyển đổi cơ sở dữ liệu điều tra, đánh giá, bảo vệ, cải tạo, phục hồi đất | C13: Kỳ thực hiện/tỉnh | D13: 1KS3 | E13: 1.5
A14: 3.3.2 | B14: Chuyển đổi vào cơ sở dữ liệu điều tra, đánh giá, bảo vệ, cải tạo, phục hồi đất | C14: Kỳ thực hiện/tỉnh | D14: 1KS3 | E14: 5
A15: 4 | B15: Xây dựng dữ liệu đất đai phi cấu trúc về điều tra, đánh giá, bảo vệ, cải tạo, phục hồi đất
A17: 4.1 | B17: Quét các giấy tờ của bộ số liệu, tài liệu về kết quả điều tra, đánh giá, bảo vệ, cải tạo, phục hồi đất đưa vào cơ sở dữ liệu điều tra, đánh giá, bảo vệ, cải tạo, phục hồi đất. Chế độ quét của thiết bị được thiết lập theo hệ màu RGB với định dạng PDF, phiên bản 1.4 trở lên; độ phân giải tối thiểu: 200 dpi; tỷ lệ số hóa: 100%.
A18: 4.1.1 | B18: Trang A3 (200 trang) | C18: Trang A3 | D18: 1KS1 | E18: 6
A19: 4.1.2 | B19: Trang A4 (500 trang) | C19: Trang A4 | D19: 1KS1 | E19: 2
A20: 4.2 | B20: Xử lý các tệp tin quét thành các tệp tin theo quy định về dữ liệu điều tra, đánh giá , bảo vệ, cải tạo, phục hồi đất phi cấu trúc; lưu trữ dưới định dạng tệp tin PDF (ở định dạng không chỉnh sửa được); chất lượng hình ảnh số phải sắc nét và rõ ràng, các hình ảnh được sắp xếp theo cùng một hướng, hình ảnh phải được quét vuông góc, không được cong vênh | C20: Trang A3, A4 | D20: 1KS1 | E20: 3
A21: 4.3 | B21: Nhập thông tin mô tả của dữ liệu phi cấu trúc và tạo liên kết giữa dữ liệu phi cấu trúc về điều tra, đánh giá, bảo vệ, cải tạo, phục hồi đất với các đối tượng không gian | C21: Kỳ thực hiện/tỉnh | D21: 1KS1 | E21: 2
A22: 4.4 | B22: Đối với các tài liệu dạng số mà không liên kết với các đối tượng không gian thì tạo danh mục tra cứu dữ liệu phi cấu trúc trong cơ sở dữ liệu điều tra, đánh giá, bảo vệ, cải tạo, phục hồi đất | C22: Kỳ thực hiện/tỉnh | D22: 1KS1 | E22: 5
A23: 4.5 | B23: Vận chuyển, bàn giao tài liệu cho đơn vị quản lý hồ sơ, tài liệu | C23: Kỳ thực hiện/tỉnh | D23: Nhóm 2 (KS3+KS4) | E23: 1
A24: 5 | B24: Đối soát, hoàn thiện dữ liệu và xây dựng siêu dữ liệu điều tra, đánh giá, bảo vệ, cải tạo, phục hồi đất
A25: 5.1 | B25: Đối soát đảm bảo 100% thông tin trong cơ sở dữ liệu điều tra, đánh giá, bảo vệ, cải tạo, phục hồi đất tuân thủ theo đúng quy định về nội dung, cấu trúc, kiểu thông tin của cơ sở dữ liệu quốc gia về đất đai | C25: Kỳ thực hiện/tỉnh | D25: Nhóm 2 (KS2+KS4) | E25: 12
A26: 5.2 | B26: Xây dựng siêu dữ liệu điều tra, đánh giá, bảo vệ, cải tạo, phục hồi đất
A27: 5.2.1 | B27: Thu nhận các thông tin cần thiết về các dữ liệu để xây dựng siêu dữ liệu | C27: Kỳ thực hiện/tỉnh | D27: 1KS1 | E27: 8
A28: 5.2.2 | B28: Nhập thông tin siêu dữ liệu | C28: Kỳ thực hiện/tỉnh | D28: 1KS1 | E28: 2
A29: 6 | B29: Tích hợp dữ liệu vào hệ thống | C29: Kỳ thực hiện/tỉnh | D29: 1KS1 | E29: 5
A30: II | B30: Xây dựng dữ liệu không gian điều tra, đánh giá, bảo vệ, cải tạo, phục hồi đất
A31: 1 | B31: Chuẩn hóa các lớp đối tượng không gian điều tra, đánh giá đất
A32: 1.1 | B32: Tách, lọc các đối tượng từ nội dung các lớp dữ liệu | C32: Lớp dữ liệu | D32: 1KS3 | E32: 10
A33: 1.2 | B33: Chuẩn hóa các lớp đối tượng các lớp dữ liệu | C33: Lớp dữ liệu | D33: 1KS3 | E33: 34
A34: 1.3 | B34: Nhập bổ sung các thông tin thuộc tính cho đối tượng không gian điều tra, đánh giá , bảo vệ, cải tạo, phục hồi đất còn thiếu (nếu có) | C34: Lớp dữ liệu | D34: 1KS3 | E34: 30
A35: 1.4 | B35: Rà soát chuẩn hóa thông tin thuộc tính cho từng đối tượng không gian điều tra, đánh giá, bảo vệ, cải tạo, phục hồi đất | C35: Lớp dữ liệu | D35: 1KS3 | E35: 10
A36: 2 | B36: Chuyển đổi dữ liệu không gian điều tra, đánh giá, bảo vệ, cải tạo, phục hồi đất
A37: 2.1 | B37: Chuyển đổi các lớp dữ liệu không gian điều tra, đánh giá, bảo vệ, cải tạo, phục hồi đất từ tệp (file) bản đồ số vào cơ sở dữ liệu đất đai | C37: Lớp dữ liệu | D37: 1KS3 | E37: 8.5
A38: 2.2 | B38: Rà soát dữ liệu không gian điều tra, đánh giá, bảo vệ, cải tạo, phục hồi đất để xử lý các lỗi dọc biên giữa các vùng kinh tế - xã hội | C38: Lớp dữ liệu | D38: 1KS3 | E38: 16

Sheet DC
A4: STT | B4: Danh mục dụng cụ | C4: ĐVT | D4: Thời hạn | E4: Định mức
D5: (tháng) | E5: (ca/ 01 kỳ của tỉnh)
A6: 1 | B6: Dập ghim | C6: Cái | D6: 24 | E6: 5.4
A7: 2 | B7: Ổ ghi đĩa DVD | C7: Cái | D7: 60 | E7: 10
A8: 3 | B8: Ghế | C8: Cái | D8: 96 | E8: ='5. CSDL DT-DG-BV-CT-PHD'!F26 -> 58.1
A9: 4 | B9: Bàn làm việc | C9: Cái | D9: 96 | E9: =E8 -> 58.1
A10: 5 | B10: Quạt trần 0,1 KW | C10: Cái | D10: 60 | E10: =E9/3 -> 19.366667
A11: 6 | B11: Đèn neon 0,04 KW | C11: Cái | D11: 12 | E11: =E10 -> 19.366667
A12: 7 | B12: Điện năng | C12: Kw | E12: =(0.1*E10+0.04*E11)*8 -> 21.690667
A14: STT | B14: Danh mục dụng cụ | C14: ĐVT | D14: Thời hạn | E14: Định mức
D15: (tháng) | E15: (ca/ 01 kỳ của tỉnh)
A16: 1 | B16: Dập ghim | C16: Cái | D16: 24 | E16: 2.4
A17: 2 | B17: Ổ ghi đĩa DVD | C17: Cái | D17: 60 | E17: 7
A18: 3 | B18: Ghế | C18: Cái | D18: 96 | E18: ='5. CSDL DT-DG-BV-CT-PHD'!F39 -> 49.7
A19: 4 | B19: Bàn làm việc | C19: Cái | D19: 96 | E19: =E18 -> 49.7
A20: 5 | B20: Quạt trần 0,1 KW | C20: Cái | D20: 60 | E20: =E19/3 -> 16.566667
A21: 6 | B21: Đèn neon 0,04 KW | C21: Cái | D21: 12 | E21: =E20 -> 16.566667
A22: 7 | B22: Điện năng | C22: Kw | E22: =(0.1*E20+0.04*E21)*8 -> 18.554667

Sheet VL1
A2: STT | B2: Danh mục vật liệu | C2: ĐVT | D2: Định mức
D3: (tính cho 01 kỳ của tỉnh)
A4: 1 | B4: Giấy in A4 | C4: Gram | D4: 4.16
A5: 2 | B5: Mực in laser | C5: Hộp | D5: 0.52
A6: 3 | B6: Sổ ghi chép | C6: Quyển | D6: 2.4
A7: 4 | B7: Bút bi | C7: Cái | D7: =D4 -> 4.16
A8: 5 | B8: Đĩa DVD | C8: Cái | D8: 4.3
A9: 6 | B9: Hộp ghim kẹp | C9: Hộp | D9: =D7 -> 4.16
A10: 7 | B10: Hộp ghim dập | C10: Hộp | D10: 1.22
A11: 8 | B11: Cặp để tài liệu | C11: Cái | D11: 7
A15: STT | B15: Danh mục vật liệu | C15: ĐVT | D15: Định mức
D16: (tính cho 01 kỳ của tỉnh)
A17: 1 | B17: Giấy in A4 | C17: Gram | D17: 2.16
A18: 2 | B18: Mực in laser | C18: Hộp | D18: 0.52
A19: 3 | B19: Sổ ghi chép | C19: Quyển | D19: 2
A20: 4 | B20: Bút bi | C20: Cái | D20: 3
A21: 5 | B21: Đĩa DVD | C21: Cái | D21: 3
A22: 6 | B22: Hộp ghim kẹp | C22: Hộp | D22: 2
A23: 7 | B23: Hộp ghim dập | C23: Hộp | D23: 1
A24: 8 | B24: Cặp để tài liệu | C24: Cái | D24: 5

Sheet TB
A2: STT | B2: Danh mục thiết bị | C2: ĐVT | D2: Công suất | E2: Định mức
D3: (KW) | E3: (ca/01 kỳ của tỉnh)
A4: 1 | B4: Máy tính để bàn | C4: Cái | D4: 0.4 | E4: =DC!E8 -> 58.1
A5: 2 | B5: Phần mềm biên tập bản đồ | C5: Bộ | D5: 0.4 | E5: =E4/2 -> 29.05
A6: 3 | B6: Máy chủ | C6: Cái | D6: 1 | E6: 36.76
A7: 4 | B7: Hệ quản trị cơ sở dữ liệu thuộc tính | C7: Bộ | E7: 36.76
A8: 5 | B8: Hệ quản trị dữ liệu không gian | C8: Bộ | E8: 10.42
A9: 6 | B9: Thiết bị mạng | C9: Bộ | D9: 0.1 | E9: =E4 -> 58.1
A10: 7 | B10: Điều hoà nhiệt độ | C10: Cái | D10: 2.2 | E10: =E4/3 -> 19.366667
A11: 8 | B11: =DC!B12 -> Điện năng | C11: =DC!C12 -> Kw | E11: =(D4*E4+D5*E5+D6*E6+D9*E9+D10*E10)*8 -> 960.29333
A15: STT | B15: Danh mục thiết bị | C15: ĐVT | D15: Công suất | E15: Định mức
D16: (KW) | E16: (ca/01 kỳ của tỉnh)
A17: 1 | B17: Máy tính để bàn | C17: Cái | D17: 0.4 | E17: ='5. CSDL DT-DG-BV-CT-PHD'!F39 -> 49.7
A18: 2 | B18: Phần mềm biên tập bản đồ | C18: Bộ | D18: 0.4 | E18: =E17/2 -> 24.85
A19: 3 | B19: Máy chủ | C19: Cái | D19: 1 | E19: 26.76
A20: 4 | B20: Hệ quản trị cơ sở dữ liệu thuộc tính | C20: Bộ | E20: =E19 -> 26.76
A21: 5 | B21: Hệ quản trị dữ liệu không gian | C21: Bộ | E21: 10.42
A22: 6 | B22: Thiết bị mạng | C22: Bộ | D22: 0.1 | E22: =E17 -> 49.7
A23: 7 | B23: Điều hoà nhiệt độ | C23: Cái | D23: 2.2 | E23: =E17/3 -> 16.566667
A24: 8 | B24: =DC!B25 -> 0 | C24: =DC!C25 -> 0 | E24: =(D17*E17+D18*E18+D19*E19+D22*E22+D23*E23)*8 -> 783.97333
